Workbook

Sheet Sdr Stenderup 2_11_2019
A1: Resultater Vintercup Sdr. Stenderup 02/11-2019
A3: Maxi 1 H | B3: 7/7
A4: Placering | B4: Navn | C4: Klub | D4: Tid | E4: Efter | F4: Point
A5: 1 | B5: Kristian Blok | C5: OK SNAB | D5: 0.041886574 | F5: 100
A6: 2 | B6: Flemming Jørgensen | C6: OK SNAB | D6: 0.04337963 | E6: =D6-$D$5 -> 0.0014930556 | F6: 97
A7: 3 | B7: Thomas Blok | C7: OK SNAB | D7: 0.045162037 | E7: =D7-$D$5 -> 0.003275463 | F7: 95
A8: 4 | B8: Esben Blicher | C8: OK Melfar | D8: 0.073819444 | E8: =D8-$D$5 -> 0.03193287 | F8: 54
A9: 5 | B9: Jesper Madsen | C9: OK Melfar | D9: 0.078194444 | E9: =D9-$D$5 -> 0.03630787 | F9: 47
B10: Jens Liengaard | C10: OK SNAB | D10: Fejlklip
B11: Uffe Villumsen | C11: OK SNAB | D11: Udgået
A15: Maxi 1 D | B15: 1/1
A16: Placering | B16: Navn | C16: Klub | D16: Tid | E16: Efter | F16: Point
A17: 1 | B17: Rikke Binder | C17: OK GORM | D17: 0.052152778 | F17: 100
A19: 􏰭􏰁􏰜􏰕 􏰵􏰐􏰁􏰜􏰬􏰎􏰎􏰙􏰟 􏰷􏰤􏰤􏰁 􏰛􏰐􏰗􏰗􏰖􏰫􏰕􏰁􏰜
A21: Maxi 2 H | B21: 11/11
A22: Placering | B22: Navn | C22: Klub | D22: Tid | E22: Efter | F22: Point
A23: 1 | B23: Lars Højholt | C23: Kolding OK | D23: 0.04150463 | F23: 100
A24: 2 | B24: Bo Mønster Jørgensen | C24: OK FROS | D24: 0.041655093 | E24: =D24-$D$23 -> 0.00015046296 | F24: 99
A25: 3 | B25: Jonas Egdal | C25: OK Melfar | D25: 0.044074074 | E25: =D25-$D$23 -> 0.0025694444 | F25: 96
A26: 4 | B26: Brian Knudsen | C26: OK SNAB | D26: 0.044675926 | E26: =D26-$D$23 -> 0.0031712963 | F26: 95
A27: 5 | B27: Sven Madsen | C27: OK FROS | D27: 0.045798611 | E27: =D27-$D$23 -> 0.0042939815 | F27: 93
A28: 6 | B28: Henning Schou | C28: OK SNAB | D28: 0.048449074 | E28: =D28-$D$23 -> 0.0069444444 | F28: 90
A29: 7 | B29: Niels Møller | C29: OK FROS | D29: 0.051018519 | E29: =D29-$D$23 -> 0.0095138889 | F29: 86
A30: 8 | B30: Sven Erik Jakobsen | C30: OK GORM | D30: 0.055185185 | E30: =D30-$D$23 -> 0.013680556 | F30: 80
A31: 9 | B31: Laurits Egdal | C31: OK Melfar | D31: 0.059293981 | E31: =D31-$D$23 -> 0.017789352 | F31: 74
A32: 10 | B32: Torben Hansen | C32: OK FROS | D32: 0.059965278 | E32: =D32-$D$23 -> 0.018460648 | F32: 73
A33: 􏰡􏰠 􏰻􏰐􏰁􏰗􏰕 􏰀􏰮􏰗􏰗􏰁􏰙 | B33: Sten Sig Andersen | C33: Kolding OK | D33: Fejlklip
A37: Maxi 2 D | B37: 4/4
A38: Placering | B38: Navn | C38: Klub | D38: Tid | E38: Efter | F38: Point
A39: 1 | B39: Susanne Højholt | C39: Kolding OK | D39: 0.042569444 | F39: 100
A40: 2 | B40: Helle Schou | C40: OK SNAB | D40: 0.076608796 | E40: =D40-$D$39 -> 0.034039352 | F40: 50
A41: 3 | B41: Hanne Madsen | C41: Kolding OK | D41: 0.077847222 | E41: =D41-$D$39 -> 0.035277778 | F41: 49
B42: Christa Blach | C42: Kolding OK | D42: Udgået
A45: 􏰇􏰆􏰠 􏰵􏰎􏰖􏰙􏰐􏰘􏰕 􏰣􏰬􏰟􏰎􏰗
A46: Maxi 3 H | B46: 7/7
A47: Placering | B47: Navn | C47: Klub | D47: Tid | E47: Efter | F47: Point
A48: 1 | B48: Christian B. Hansen | C48: Kolding OK | D48: 0.041331019 | F48: 100
A49: 2 | B49: Jack Skrydstrup | C49: Kolding OK | D49: 0.048668981 | E49: =D49-$D$48 -> 0.007337963 | F49: 89
A50: 3 | B50: Ove Andersen | C50: OK GORM | D50: 0.058020833 | E50: =D50-$D$48 -> 0.016689815 | F50: 75
A51: 4 | B51: Niels J. M. Hansen | C51: Kolding OK | D51: 0.058923611 | E51: =D51-$D$48 -> 0.017592593 | F51: 74
A52: 􏰀􏰎􏰏􏰐 􏰰 | B52: Bent Jacobsen | C52: Kolding OK | D52: Fejlklip
B53: Jørgen Thomsen | C53: Kolding OK | D53: Fejlklip
A54: 􏰇􏰠 􏰼􏰱􏰙􏰐􏰕􏰘􏰐􏰎􏰜 􏰦􏰠 􏰹􏰎􏰜􏰕􏰁􏰜 | B54: Stig Hansen | C54: OK Melfar | D54: Udgået
A56: 􏰅􏰠 􏰽􏰜􏰜􏰁􏰫􏰁􏰘􏰘􏰁 􏰽􏰩􏰞􏰗􏰎􏰜􏰎􏰗􏰞
A58: Maxi 3 D | B58: 3/3
A59: Placering | B59: Navn | C59: Klub | D59: Tid | E59: Efter | F59: Point
A60: 1 | B60: Annemette Abplanalp | C60: Kolding OK | D60: 0.041493056 | F60: 100
A61: 2 | B61: Lone Knudsen | C61: OK SNAB | D61: 0.044247685 | E61: =D61-$D$60 -> 0.0027546296 | F61: 96
A62: 3 | B62: Ida Hansen | C62: Kolding OK | D62: 0.047118056 | E62: =D62-$D$60 -> 0.005625 | F62: 91
A66: Midi H | B66: 4/4
A67: Placering | B67: Navn | C67: Klub | D67: Tid | E67: Efter | F67: Point
A68: 1 | B68: Aksel Örnhagen | C68: OK SNAB | D68: 0.0228125 | F68: 100
A69: 2 | B69: Valdemar Kortegård | C69: OK Melfar | D69: 0.034953704 | E69: =D69-$D$68 -> 0.012141204 | F69: 82
A70: 􏰦􏰁􏰜􏰘 􏰭􏰎􏰝􏰧􏰩􏰕􏰁􏰜 􏰭􏰮􏰙􏰬􏰁􏰜 􏰢􏰱􏰧􏰫􏰕􏰁􏰜 􏰃􏰘􏰐􏰬 􏰹􏰎􏰜􏰕􏰁􏰜 | B70: Sejer Rosenvinge | C70: OK SNAB | D70: Fejlklip
B71: Hans-Christian Ross Hansen | C71: OK GORM | D71: Udgået
A73: 􏰅􏰠 􏰛􏰎􏰗􏰟􏰁􏰫􏰎􏰙 􏰥􏰧􏰙􏰘􏰁􏰬􏰸􏰙􏰟
A75: Midi D | B75: 1/1
A76: Placering | B76: Navn | C76: Klub | D76: Tid | E76: Efter | F76: Point
A77: 1 | B77: Johanna Madsen | C77: OK Melfar | D77: 0.060868056 | F77: 100
A79: 􏰑􏰡 􏰒 􏰡􏰓
A81: 􏰂􏰥 􏰃􏰜􏰎􏰩 􏰂􏰥 􏰃􏰜􏰎􏰩 􏰂􏰥 􏰃􏰜􏰎􏰩 􏰂􏰥 􏰳􏰧􏰙􏰫 􏰂􏰥 􏰀􏰁􏰗􏰤􏰎􏰙 􏰂􏰥 􏰀􏰁􏰗􏰤􏰎􏰙 􏰂􏰥 􏰃􏰜􏰎􏰩 􏰂􏰥 􏰃􏰜􏰎􏰩
A82: Mini H | B82: 3/3
A83: Placering | B83: Navn | C83: Klub | D83: Tid | E83: Efter | F83: Point
A84: 1 | B84: Michael Sejersbøll | C84: Kolding OK | D84: 0.025393519 | F84: 100
A85: 2 | B85: Felix Sejersbøll | C85: Kolding OK | D85: 0.029143519 | E85: =D85-$D$84 -> 0.00375 | F85: 94
A86: 3 | B86: Uffe Sudergaard | C86: OK Melfar | D86: 0.058564815 | E86: =D86-$D$84 -> 0.033171296 | F86: UFK
A87: 􏰂􏰥 􏰃􏰜􏰎􏰩 􏰂􏰥 􏰀􏰁􏰗􏰤􏰎􏰙 􏰂􏰥 􏰀􏰁􏰗􏰤􏰎􏰙 􏰂􏰥 􏰃􏰜􏰎􏰩 􏰂􏰥 􏰳􏰧􏰙􏰫
A89: 􏰢􏰐􏰟 􏰣􏰤􏰘􏰁􏰙
A90: Mini D | B90: 6/6
A91: Placering | B91: Navn | C91: Klub | D91: Tid | E91: Efter | F91: Point
A92: 1 | B92: Anne Sofie Olsen | C92: OK GORM | D92: 0.01869213 | F92: 100
A93: 2 | B93: Janne Sejersbøll | C93: Kolding OK | D93: 0.030752315 | E93: =D93-$D$92 -> 0.012060185 | F93: 82
A94: 3 | B94: Frida Sejersbøll | C94: Kolding OK | D94: 0.031643519 | E94: =D94-$D$92 -> 0.012951389 | F94: 81
A95: 4 | B95: Sofie Rohde Jørgensen | C95: OK FROS | D95: 0.034953704 | E95: =D95-$D$92 -> 0.016261574 | F95: 76
A96: 5 | B96: Alberte Seir | C96: OK GORM | D96: 0.039664352 | E96: =D96-$D$92 -> 0.020972222 | F96: 69
A97: 6 | B97: Aase Eg | C97: Kolding OK | D97: 0.044791667 | E97: =D97-$D$92 -> 0.026099537 | F97: UFK
A98: 􏰲􏰈􏰋􏰲􏰈 􏰯􏰆􏰋􏰇􏰰 􏰇􏰋􏰆􏰇􏰋􏰇􏰡 􏰯􏰇􏰋􏰰􏰅 􏰇􏰋􏰆􏰰􏰋􏰅􏰡 􏰯􏰰􏰋􏰊􏰅 􏰇􏰋􏰆􏰊􏰋􏰅􏰆 􏰯􏰊􏰋􏰰􏰊 􏰇􏰋􏰆􏰲􏰋􏰲􏰌 􏰯􏰴􏰋􏰇􏰇 􏰇􏰋􏰆􏰈􏰋􏰊􏰴 􏰯􏰇􏰆􏰋􏰆􏰆 􏰇􏰋􏰇􏰰􏰋􏰅􏰡 􏰯􏰇􏰰􏰋􏰊􏰅 􏰇􏰋􏰇􏰈􏰋􏰅􏰡 􏰯􏰇􏰈􏰋􏰊􏰅 􏰇􏰋􏰅􏰲􏰋􏰅􏰰 􏰯􏰅􏰲􏰋􏰰􏰌 􏰇􏰋􏰅􏰴􏰋􏰅􏰇 􏰯􏰅􏰴􏰋􏰰􏰲 􏰇􏰋􏰲􏰆􏰋􏰇􏰈 􏰯􏰲􏰆􏰋􏰰􏰰 􏰇􏰋􏰲􏰅􏰋􏰆􏰴 􏰯􏰲􏰅􏰋􏰅􏰆 􏰪􏰁􏰶􏰗􏰨􏰗􏰐􏰞
A99: 􏰷􏰟􏰬􏰸􏰁􏰘
A101: 􏰢􏰐􏰟 􏰣􏰤􏰘􏰁􏰙
A103: 􏰲􏰈􏰋􏰰􏰇
A104: 􏰲􏰈􏰋􏰊􏰲 􏰯􏰆􏰋􏰇􏰊 􏰇􏰋􏰆􏰰􏰋􏰊􏰰 􏰯􏰊􏰋􏰇􏰅 􏰇􏰋􏰆􏰌􏰋􏰲􏰇 􏰯􏰡􏰋􏰅􏰆 􏰇􏰋􏰇􏰆􏰋􏰆􏰲 􏰯􏰇􏰆􏰋􏰰􏰊 􏰇􏰋􏰅􏰰􏰋􏰰􏰰 􏰯􏰅􏰊􏰋􏰆􏰅 􏰇􏰋􏰅􏰊􏰋􏰲􏰇 􏰯􏰅􏰲􏰋􏰅􏰆 􏰪􏰁􏰶􏰗􏰨􏰗􏰐􏰞
A105: 􏰪􏰁􏰶􏰗􏰨􏰗􏰐􏰞
A106: 􏰷􏰟􏰬􏰸􏰁􏰘
A108: 􏰢􏰐􏰟 􏰣􏰤􏰘􏰁􏰙
A110: 􏰰􏰅􏰋􏰲􏰇
A111: 􏰲􏰆􏰋􏰅􏰆 􏰯􏰇􏰌􏰋􏰅􏰈 􏰇􏰋􏰅􏰌􏰋􏰰􏰈 􏰯􏰲􏰊􏰋􏰊􏰡 􏰪􏰁􏰶􏰗􏰨􏰗􏰐􏰞
A112: 􏰷􏰟􏰬􏰸􏰁􏰘
A114: 􏰀􏰁􏰂􏰃 􏰅􏰆􏰇􏰈􏰉􏰇􏰇􏰉􏰆􏰅 􏰇􏰊􏰋􏰊􏰈􏰋􏰇􏰌􏰍 􏰀􏰎􏰏􏰐 􏰇􏰍 􏰑􏰇􏰒􏰅􏰓
... A143: 􏰰􏰴􏰋􏰰􏰊 􏰯􏰈􏰋􏰰􏰈 􏰊􏰇􏰋􏰲􏰡 􏰯􏰇􏰲􏰋􏰆􏰰 􏰊􏰊􏰋􏰇􏰌 􏰯􏰇􏰌􏰋􏰅􏰅 􏰊􏰲􏰋􏰰􏰊 􏰯􏰇􏰡􏰋􏰰􏰈 􏰲􏰆􏰋􏰅􏰆 􏰯􏰅􏰰􏰋􏰅􏰲 􏰲􏰌􏰋􏰆􏰌 􏰯􏰰􏰆􏰋􏰇􏰅 􏰇􏰋􏰆􏰊􏰋􏰰􏰆 􏰯􏰰􏰌􏰋􏰰􏰲 􏰇􏰋􏰅􏰊􏰋􏰅􏰆 􏰯􏰲􏰌􏰋􏰅􏰲

Sheet Kongebroskoven 09_11_2019
A1: Resultater Vintercup Kongebroskoven 09/11-2019
A3: Maxi 1 H | B3: 11/11
A4: Placering | B4: Navn | C4: Klub | D4: Tid | E4: Efter | F4: Point
A5: 1 | B5: Thomas Blok | C5: OK SNAB | D5: 0.035601852 | F5: 100
A6: 2 | B6: Flemming Jørgensen | C6: OK SNAB | D6: 0.037407407 | E6: =D6-$D$5 -> 0.0018055556 | F6: 97
A7: 3 | B7: Kristian Blok | C7: OK SNAB | D7: 0.038055556 | E7: =D7-$D$5 -> 0.0024537037 | F7: 96
A8: 4 | B8: Michael Thygesen | C8: OK SNAB | D8: 0.042847222 | E8: =D8-$D$5 -> 0.0072453704 | F8: 89
A9: 5 | B9: Peter D. Fransen | C9: Kolding OK | D9: 0.044490741 | E9: =D9-$D$5 -> 0.0088888889 | F9: 87
A10: 6 | B10: Jens Liengård | C10: OK SNAB | D10: 0.048738426 | E10: =D10-$D$5 -> 0.013136574 | F10: 81
A11: 7 | B11: Uffe Villumsen | C11: OK SNAB | D11: 0.052592593 | E11: =D11-$D$5 -> 0.016990741 | F11: 75
A12: 8 | B12: Jens Chr Laursen | C12: OK GORM | D12: 0.054398148 | E12: =D12-$D$5 -> 0.018796296 | F12: 72
A13: 9 | B13: Sten Jørgensen | C13: OK Melfar | D13: 0.061990741 | E13: =D13-$D$5 -> 0.026388889 | F13: 62
A14: 10 | B14: Martin Ringive | C14: OK GORM | D14: 0.065729167 | E14: =D14-$D$5 -> 0.030127315 | F14: 56
B15: Anders Thygesen | C15: Kolding OK
A19: Maxi 1 D | B19: 1/1
A20: Placering | B20: Navn | C20: Klub | D20: Tid | E20: Efter | F20: Point
A21: 1 | B21: Ulrika Ørnhagen Jørgensen | C21: OK SNAB | D21: 0.05037037 | F21: 100
A23: 􏰭􏰁􏰜􏰕 􏰵􏰐􏰁􏰜􏰬􏰎􏰎􏰙􏰟 􏰷􏰤􏰤􏰁 􏰛􏰐􏰗􏰗􏰖􏰫􏰕􏰁􏰜
A25: Maxi 2 H | B25: 17/17
A26: Placering | B26: Navn | C26: Klub | D26: Tid | E26: Efter | F26: Point
A27: 1 | B27: Magnus Fannar Madsen | C27: OK Melfar | D27: 0.035173611 | F27: 100
A28: 2 | B28: August Gabs | C28: OK Melfar | D28: 0.035300926 | E28: =D28-$D$27 -> 0.00012731481 | F28: 99
A29: 3 | B29: Peter Pihlkjær Nymann | C29: Kolding OK | D29: 0.036747685 | E29: =D29-$D$27 -> 0.0015740741 | F29: 97
A30: 4 | B30: Uffe Sudergaard | C30: OK Melfar | D30: 0.039166667 | E30: =D30-$D$27 -> 0.0039930556 | F30: 94
A31: 5 | B31: Thomas Sørensen | C31: OK Melfar | D31: 0.039618056 | E31: =D31-$D$27 -> 0.0044444444 | F31: 93
A32: 6 | B32: Bo Mønster Jørgensen | C32: OK FROS | D32: 0.044826389 | E32: =D32-$D$27 -> 0.0096527778 | F32: 86
A33: 7 | B33: Lars Højholt | C33: Kolding OK | D33: 0.0453125 | E33: =D33-$D$27 -> 0.010138889 | F33: 85
A34: 8 | B34: Brian Knudsen | C34: OK SNAB | D34: 0.045393519 | E34: =D34-$D$27 -> 0.010219907 | F34: 85
A35: 9 | B35: Jonas Egdal | C35: OK Melfar | D35: 0.045578704 | E35: =D35-$D$27 -> 0.010405093 | F35: 85
A36: 10 | B36: Peter Gammeljord | C36: OK SNAB | D36: 0.046122685 | E36: =D36-$D$27 -> 0.010949074 | F36: 84
A37: 11 | B37: Christian Ramus | C37: OK FROS | D37: 0.047303241 | E37: =D37-$D$27 -> 0.01212963 | F37: 82
A38: 12 | B38: Lars Thaasti | C38: OK SNAB | D38: 0.048796296 | E38: =D38-$D$27 -> 0.013622685 | F38: 80
A39: 13 | B39: Mandus Andresen | C39: Kolding OK | D39: 0.050289352 | E39: =D39-$D$27 -> 0.015115741 | F39: 78
A40: 14 | B40: Torben Hansen | C40: OK FROS | D40: 0.052511574 | E40: =D40-$D$27 -> 0.017337963 | F40: 75
B41: Flemming D. Andersen | C41: OK GORM | D41: Fejlklip
B42: Niels Møller | C42: OK FROS | D42: Fejlklip
B43: Steen Sig Andersen | C43: Kolding OK | D43: Fejlklip
A47: Maxi 2 D | B47: 5/5
A48: Placering | B48: Navn | C48: Klub | D48: Tid | E48: Efter | F48: Point
A49: 1 | B49: Susanne Højholt | C49: Kolding OK | D49: 0.045034722 | F49: 100
A50: 2 | B50: Nicoline Lorenzen | C50: Kolding OK | D50: 0.045694444 | E50: =D50-$D$49 -> 0.00065972222 | F50: 99
A51: 3 | B51: Dorthe Rosenvinge | C51: OK SNAB | D51: 0.057465278 | E51: =D51-$D$49 -> 0.012430556 | F51: 82
A52: 4 | B52: Irene Gammeljord | C52: OK SNAB | D52: 0.06162037 | E52: =D52-$D$49 -> 0.016585648 | F52: 76
B53: Anne Sofie Motzkus | C53: Kolding OK | E53: Fejlklip
A55: 􏰇􏰆􏰠 􏰵􏰎􏰖􏰙􏰐􏰘􏰕 􏰣􏰬􏰟􏰎􏰗
A56: Maxi 3 H | B56: 6/6
A57: Placering | B57: Navn | C57: Klub | D57: Tid | E57: Efter | F57: Point
A58: 1 | B58: Jack Skrydstrup | C58: Kolding OK | D58: 0.035949074 | F58: 100
A59: 2 | B59: Poul A. Christensen | C59: OK SNAB | D59: 0.037719907 | E59: =D59-$D$58 -> 0.0017708333 | F59: 97
A60: 3 | B60: Stig Hansen | C60: OK Melfar | D60: 0.044571759 | E60: =D60-$D$58 -> 0.0086226852 | F60: 87
A61: 4 | B61: Christian B. Hansen | C61: Kolding OK | D61: 0.045868056 | E61: =D61-$D$58 -> 0.0099189815 | F61: 85
A62: 5 | B62: Niels J. M. Hansen | C62: Kolding OK | D62: 0.057719907 | E62: =D62-$D$58 -> 0.021770833 | F62: 68
A63: 6 | B63: Per Simonsen | C63: OK SNAB | D63: 0.063263889 | E63: =D63-$D$58 -> 0.027314815 | F63: 60
A65: 􏰅􏰠 􏰽􏰜􏰜􏰁􏰫􏰁􏰘􏰘􏰁 􏰽􏰩􏰞􏰗􏰎􏰜􏰎􏰗􏰞
A67: Maxi 3 D | B67: 43622
A68: Placering | B68: Navn | C68: Klub | D68: Tid | E68: Efter | F68: Point
A69: 1 | B69: Lone Knudsen | C69: OK SNAB | D69: 0.03244213 | F69: 100
A70: 2 | B70: Anne Mette Abplanalp | C70: Kolding OK | D70: 0.0359375 | E70: =D70-$D$69 -> 0.0034953704 | F70: 94
A71: 3 | B71: Malene Kaysen Thomsen | C71: OK SNAB | D71: 0.041331019 | E71: =D71-$D$69 -> 0.0088888889 | F71: 87
A72: 4 | B72: Bente Ringive | C72: OK GORM | D72: 0.046053241 | E72: =D72-$D$69 -> 0.013611111 | F72: 80
A73: 5 | B73: Anne Grethe Eriksen | C73: OK FROS | D73: 0.047731481 | E73: =D73-$D$69 -> 0.015289352 | F73: 77
B74: Jette Lützow Nielsen | C74: Kolding OK | D74: Fejlklip
A78: Midi H | B78: 5/5
A79: Placering | B79: Navn | C79: Klub | D79: Tid | E79: Efter | F79: Point
A80: 1 | B80: Axel Ørnhagen Jørgensen | C80: OK SNAB | D80: 0.028009259 | F80: 100
A81: 2 | B81: Peter Sebastian Petersen | C81: OK SNAB | D81: 0.034282407 | E81: =D81-$D$80 -> 0.0062731481 | F81: 90
A82: 3 | B82: Valdemar Egdal Kortegaard | C82: OK Melfar | D82: 0.036377315 | E82: =D82-$D$80 -> 0.0083680556 | F82: 87
A83: 4 | B83: Niels Erik Uhlemann | C83: Kolding OK | D83: 0.088171296 | E83: =D83-$D$80 -> 0.060162037 | F83: 13
B84: Magnus Lindal | C84: OK Melfar
A87: 􏰦􏰁􏰜􏰘 􏰭􏰎􏰝􏰧􏰩􏰕􏰁􏰜 􏰭􏰮􏰙􏰬􏰁􏰜 􏰢􏰱􏰧􏰫􏰕􏰁􏰜 􏰃􏰘􏰐􏰬 􏰹􏰎􏰜􏰕􏰁􏰜
A88: Midi D | B88: 2/2
A89: Placering | B89: Navn | C89: Klub | D89: Tid | E89: Efter | F89: Point
A90: 1 | B90: Johanne Madsen | C90: OK Melfar | D90: 0.055347222 | F90: 100
B91: Lene Koch Foster | C91: Kolding OK | D91: Fejlklip
A92: 􏰑􏰡 􏰒 􏰡􏰓
A94: 􏰂􏰥 􏰃􏰜􏰎􏰩 􏰂􏰥 􏰃􏰜􏰎􏰩 􏰂􏰥 􏰃􏰜􏰎􏰩 􏰂􏰥 􏰳􏰧􏰙􏰫 􏰂􏰥 􏰀􏰁􏰗􏰤􏰎􏰙 􏰂􏰥 􏰀􏰁􏰗􏰤􏰎􏰙 􏰂􏰥 􏰃􏰜􏰎􏰩 􏰂􏰥 􏰃􏰜􏰎􏰩
A95: Mini H | B95: 8/8
A96: Placering | B96: Navn | C96: Klub | D96: Tid | E96: Efter | F96: Point
B97: Asger Kjærsgaard Jensen | C97: OK SNAB | D97: 0.020486111 | F97: UFK
A98: 1 | B98: Jens Ole Kjærsgaard | C98: OK SNAB | D98: 0.020509259 | E98: =D98-$D$97 -> 2.3148148e-05 | F98: 100
A99: 2 | B99: Kim Lindal | C99: OK Melfar | D99: 0.026111111 | E99: =D99-$D$97 -> 0.005625 | F99: 91
A100: 3 | B100: Emil Lindahl | C100: OK Melfar | D100: 0.027546296 | E100: =D100-$D$97 -> 0.0070601852 | F100: 89
A101: 4 | B101: Felix Seiersbøll | C101: Kolding OK | D101: 0.029930556 | E101: =D101-$D$97 -> 0.0094444444 | F101: 86
A102: 5 | B102: Malthe Emil Petersen | C102: OK SNAB | D102: 0.03412037 | E102: =D102-$D$97 -> 0.013634259 | F102: UFK
A103: 6 | B103: Christian Rohde | C103: OK FROS | D103: 0.034212963 | E103: =D103-$D$97 -> 0.013726852 | F103: 80
A104: 7 | B104: Storm Tofterup | C104: OK Melfar | D104: 0.039895833 | E104: =D104-$D$97 -> 0.019409722 | F104: 72
A107: 􏰢􏰐􏰟 􏰣􏰤􏰘􏰁􏰙
A108: Mini D | B108: 8/8
A109: Placering | B109: Navn | C109: Klub | D109: Tid | E109: Efter | F109: Point
A110: 1 | B110: Karla Blicher | C110: OK Melfar | D110: 0.022951389 | F110: 100
A111: 2 | B111: Frida Seiersbøll | C111: Kolding OK | D111: 0.029155093 | E111: =D111-$D$110 -> 0.0062037037 | F111: 91
A112: 3 | B112: Patricia Biel | C112: Kolding OK | D112: 0.029502315 | E112: =D112-$D$110 -> 0.0065509259 | F112: 90
A113: 4 | B113: Bodil Nymann | C113: Kolding OK | D113: 0.030046296 | E113: =D113-$D$110 -> 0.0070949074 | F113: 89
A114: 5 | B114: Sofie Rohde Jørgensen | C114: OK FROS | D114: 0.034166667 | E114: =D114-$D$110 -> 0.011215278 | F114: 83
A115: 6 | B115: Vilma Tofterup | C115: OK Melfar | D115: 0.036284722 | E115: =D115-$D$110 -> 0.013333333 | F115: 80
A116: 7 | B116: Annelise Uhlemann | C116: Kolding OK | D116: 0.057673611 | E116: =D116-$D$110 -> 0.034722222 | F116: 50
A117: 􏰷􏰟􏰬􏰸􏰁􏰘 | B117: Alma Marie Hovgaard | C117: OK SNAB | D117: Udgået
A119: 􏰢􏰐􏰟 􏰣􏰤􏰘􏰁􏰙
A121: 􏰲􏰈􏰋􏰰􏰇
A122: 􏰲􏰈􏰋􏰊􏰲 􏰯􏰆􏰋􏰇􏰊 􏰇􏰋􏰆􏰰􏰋􏰊􏰰 􏰯􏰊􏰋􏰇􏰅 􏰇􏰋􏰆􏰌􏰋􏰲􏰇 􏰯􏰡􏰋􏰅􏰆 􏰇􏰋􏰇􏰆􏰋􏰆􏰲 􏰯􏰇􏰆􏰋􏰰􏰊 􏰇􏰋􏰅􏰰􏰋􏰰􏰰 􏰯􏰅􏰊􏰋􏰆􏰅 􏰇􏰋􏰅􏰊􏰋􏰲􏰇 􏰯􏰅􏰲􏰋􏰅􏰆 􏰪􏰁􏰶􏰗􏰨􏰗􏰐􏰞
...

Sheet Haraldskær 23_11_2019
A1: Resultater Vintercup Haraldskær 23/11-2019
A3: Maxi 1 H | B3: 10/10
A4: Placering | B4: Navn | C4: Klub | D4: Tid | E4: Efter | F4: Point
A5: 1 | B5: Kristian Blok | C5: OK Snab | D5: 52:15 (1) | E5: +00:00 | F5: 100
A6: 2 | B6: Thomas Blok | C6: OK Snab | D6: 53:44 (2) | E6: +01:29 | F6: 98
A7: 3 | B7: Henrik Uhlemann | C7: Kolding OK | D7: 55:50 (3) | E7: +03:35 | F7: 96
A8: 4 | B8: Jesper Fenger Grøn | C8: OK Snab | D8: 56:49 (4) | E8: +04:34 | F8: 95
A9: 5 | B9: Stefan Keller | C9: Horsens OK | D9: 58:51 (5) | E9: +06:36 | F9: 93
A10: 6 | B10: Jens Liengård | C10: OK Snab | D10: 62:29 (7) | E10: +10:14 | F10: 89
A11: 7 | B11: Jesper Madsen | C11: OK Melfar | D11: 70:27 (8) | E11: +18:12 | F11: 81
A12: 8 | B12: Uffe Villumsen | C12: OK Snab | D12: 70:51 (9) | E12: +18:36 | F12: 81
A13: 9 | B13: Martin Ringive | C13: OK Gorm | D13: 84:36 (11) | E13: +32:21 | F13: 67
A14: 10 | B14: Kent Carøe | C14: OK Snab | D14: 106:50 (12) | E14: +54:35 | F14: 45
A18: Maxi 1 D | B18: 2/2
A19: Placering | B19: Navn | C19: Klub | D19: Tid | E19: Efter | F19: Point
A20: 1 | B20: Ulrika Örnhagen Jørgensen | C20: OK Snab | D20: 0.041435185 | E20: 0 | F20: 100
A21: 2 | B21: Karina Skouenborg | C21: OK Snab | D21: 0.051284722 | E21: =D21-D20 -> 0.009849537 | F21: 85
A25: Maxi 2 H | B25: 18/18
A26: Placering | B26: Navn | C26: Klub | D26: Tid | E26: Efter | F26: Point
A27: 1 | B27: Lars Eeg Højholt | C27: Kolding OK | D27: 51:58 (1) | E27: +00:00 | F27: 100
A28: 2 | B28: Brian Knudsen | C28: OK Snab | D28: 53:06 (2) | E28: +01:08 | F28: 98
A29: 3 | B29: Uffe Sudergaard | C29: OK Melfar | D29: 54:12 (3) | E29: +02:14 | F29: 97
A30: 4 | B30: Magnus Fannar Madsen | C30: OK Melfar | D30: 55:01 (4) | E30: +03:03 | F30: 96
A31: 5 | B31: Jacob Bang | C31: OK Gorm | D31: 56:53 (5) | E31: +04:55 | F31: 95
A32: 6 | B32: Jonas Bo Kirk Egdal | C32: OK Melfar | D32: 57:46 (6) | E32: +05:48 | F32: 94
A33: 7 | B33: Sven Erik Jakobsen | C33: OK Gorm | D33: 58:44 (7) | E33: +06:46 | F33: 93
A34: 8 | B34: Per Eg Pedersen | C34: Kolding OK | D34: 59:11 (8) | E34: +07:13 | F34: 92
A35: 9 | B35: Bo Mønster Jørgensen | C35: OK FROS | D35: 59:36 (9) | E35: +07:38 | F35: 92
A36: 10 | B36: Steen Schelle Jensen | C36: OK Snab | D36: 63:04 (10) | E36: +11:06 | F36: 88
A37: 11 | B37: Peter Føns Knudsen | C37: OK Gorm | D37: 67:02 (11) | E37: +15:04 | F37: 84
A38: 12 | B38: Henrik Holm | C38: OK Gorm | D38: 68:49 (12) | E38: +16:51 | F38: 83
... A41: 15 | B41: Villy Kjeldsen | C41: OK Snab | D41: 105:00 (17) | E41: +53:02 | F41: 46
A42: - | B42: Niels Nygaard Jensen | C42: OK Snab | D42: utgått
A43: - | B43: Henning Schou | C43: OK Snab | D43: felst.
A44: - | B44: Flemming D. Andersen | C44: OK Gorm | D44: felst.
A49: Maxi 2 D | B49: 3/3
A50: Placering | B50: Navn | C50: Klub | D50: Tid | E50: Efter | F50: Point
A51: 1 | B51: Elise Utzen Keller | C51: Horsens OK | D51: 0.056064815 | E51: 0 | F51: 100
A52: 2 | B52: Helle Schou | C52: OK Snab | D52: 0.063622685 | E52: =D52-D51 -> 0.0075578704 | F52: 89
A53: - | B53: Inger Skibbild Bønding | C53: OK Gorm | D53: felst.
A57: Maxi 3 H | B57: 10/10
A58: Placering | B58: Navn | C58: Klub | D58: Tid | E58: Efter | F58: Point
A59: 1 | B59: Poul Christensen | C59: OK Snab | D59: 0.02962963 | E59: 0 | F59: 100
A60: 2 | B60: Jack Skrydstrup | C60: Kolding OK | D60: 0.033078704 | E60: =D60-$D$59 -> 0.0034490741 | F60: 95
A61: 3 | B61: Christian B. Hansen | C61: Kolding OK | D61: 0.034039352 | E61: =D61-$D$59 -> 0.0044097222 | F61: 93
A62: 4 | B62: Bjørn Carlsen | C62: OK Snab | D62: 0.036990741 | E62: =D62-$D$59 -> 0.0073611111 | F62: 89
A63: 5 | B63: Henrik Hauge Thomsen | C63: OK Snab | D63: 0.040185185 | E63: =D63-$D$59 -> 0.010555556 | F63: 84
A64: 6 | B64: Bent Nielsen | C64: OK Gorm | D64: 0.041342593 | E64: =D64-$D$59 -> 0.011712963 | F64: 83
A65: 7 | B65: Stig Hansen | C65: OK Melfar | D65: 0.04150463 | E65: =D65-$D$59 -> 0.011875 | F65: 82
A66: 8 | B66: Niels J. Møller Hansen | C66: Kolding OK | D66: 0.051030093 | E66: =D66-$D$59 -> 0.021400463 | F66: 69
A67: - | B67: Bent Jacobsen | C67: Kolding OK | D67: felst.
A68: - | B68: Niels Erik Uhlemann | C68: Kolding OK | D68: felst.
A72: Maxi 3 D | B72: 5/5
A73: Placering | B73: Navn | C73: Klub | D73: Tid | E73: Efter | F73: Point
A74: 1 | B74: Lone Knudsen | C74: OK Snab | D74: 41:56 (1) | E74: +00:00 | F74: 100
A75: 2 | B75: Naja Knudsen | C75: OK Snab | D75: 48:10 (4) | E75: +06:14 | F75: 93
A76: 3 | B76: Annett Lassen | C76: OK Gorm | D76: 76:29 (11) | E76: +34:33 | F76: 65
A77: 4 | B77: Merete Larsen | C77: OK Gorm | D77: 91:02 (12) | E77: +49:06 | F77: 50
A78: - | B78: Asta Terkelsen | C78: OK Gorm | D78: felst.
A82: Midi H | B82: 6/6
A83: Placering | B83: Navn | C83: Klub | D83: Tid | E83: Efter | F83: Point
A84: 1 | B84: Axel Örnhagen Jørgensen | C84: OK Snab | D84: 35:15 (1) | E84: +00:00 | F84: 100
A85: 2 | B85: Rasmus Edvardsen | C85: OK Snab | D85: 41:26 (2) | E85: +06:11 | F85: 93
A86: 3 | B86: Peter Sebastian Petersen | C86: OK Snab | D86: 44:01 (3) | E86: +08:46 | F86: 91
A87: 4 | B87: Thomas Birkelund | C87: OK Snab | D87: 53:22 (4) | E87: +18:07 | F87: 81
A88: 5 | B88: Hans-Christian Ross-Hansen | C88: OK Gorm | D88: 55:04 (5) | E88: +19:49 | F88: 80
A89: - | B89: Jørn Thomsen | C89: Kolding OK | D89: felst.
A93: Midi D | B93: 6/6
A94: Placering | B94: Navn | C94: Klub | D94: Tid | E94: Efter | F94: Point
A95: 1 | B95: Lea Gade | C95: OK Snab | D95: 0.04306713 | E95: 0 | F95: 100
A96: 2 | B96: Helle Pedersen | C96: OK Snab | D96: 0.047708333 | E96: =D96-$D$95 -> 0.0046412037 | F96: 93
A97: 3 | B97: Johanna K. Madsen | C97: OK Melfar | D97: 0.059895833 | E97: =D97-$D$95 -> 0.016828704 | F97: 75
A98: 4 | B98: Marta Birkelund | C98: OK Snab | D98: 0.07037037 | E98: =D98-$D$95 -> 0.027303241 | F98: 60
A99: 5 | B99: Lykke Birkelund | C99: OK Snab | D99: 0.070393519 | E99: =D99-$D$95 -> 0.027326389 | F99: 60
A100: 6 | B100: Anne Sofie Birkelund | C100: OK Snab | D100: 0.071041667 | E100: =D100-$D$95 -> 0.027974537 | F100: 59
A104: Mini Mix +12 | B104: 6/6 | C104: >11år
A105: Placering | B105: Navn | C105: Klub | D105: Tid | E105: Efter | F105: Point
A106: 1 | B106: Malthe Emil Petersen | C106: OK Snab | D106: 32:58 (1) | E106: +00:00 | F106: UFK
A107: 2 | B107: Asger Kjærsgaard Jensen | C107: OK Snab | D107: 35:38 (2) | E107: +02:40 | F107: UFK
A108: 3 | B108: Lene Edvardsen | C108: OK Snab | D108: 36:46 (3) | E108: +03:48 | F108: UFK
A109: 4 | B109: Lilli Hansen | C109: OK Gorm | D109: 40:24 (4) | E109: +07:26 | F109: UFK
A110: 5 | B110: Anja Skaarup | C110: Kolding OK | D110: 44:35 (5) | E110: +11:37 | F110: UFK
A111: 6 | B111: Louise Kjær | C111: OK Snab | D111: 45:42 (6) | E111: +12:44 | F111: UFK
A115: Mini H | B115: 3/3 | C115: <12år
A116: Placering | B116: Navn | C116: Klub | D116: Tid | E116: Efter | F116: Point
A117: 1 | B117: Christian Rohde Jørgensen | C117: OK FROS | D117: 41:21 (4) | E117: 0 | F117: 100
A118: - | B118: Emil Skouenborg | C118: OK Snab | D118: felst.
A119: - | B119: Marcus gade | C119: OK Snab | D119: felst.
A123: Mini D | B123: 8/8 | C123: <12år
A124: Placering | B124: Navn | C124: Klub | D124: Tid | E124: Efter | F124: Point
A125: 1 | B125: Karla Blicher | C125: OK Melfar | D125: 31:07 (1) | E125: +00:00 | F125: 100
A126: 2 | B126: Sofie Henningsen | C126: OK Snab | D126: 34:12 (2) | E126: +03:05 | F126: 96
A127: 3 | B127: Sofie Rohde Jørgensen | C127: OK FROS | D127: 41:17 (3) | E127: +10:10 | F127: 89
A128: 4 | B128: Maja Henningsen | C128: OK Snab | D128: 41:31 (5) | E128: +10:24 | F128: 89
A129: 5 | B129: Ida Kjær Nordstrøm | C129: OK Snab | D129: 45:47 (6) | E129: +14:40 | F129: 85
A130: - | B130: Alma Hovgaard | C130: OK Snab | D130: felst.
A131: - | B131: Maja Skouenborg | C131: OK Snab | D131: felst.
A132: - | B132: Louise Gjørup | C132: OK Snab | D132: felst.

Sheet Hastrup 4_1_2020
A1: Mini H | C1: (6 / 6) | D1: Tid | E1: Efter | F1: Tidstab
A2: 1 | B2: Felix Seiersbøll | C2: Kolding OK | D2: 1.2652778 | F2: 0 | G2: 100
A3: 2 | B3: Malthe Pedersen | C3: OK Snab | D3: 1.55625 | E3: +6:59 | F3: 0.10555556 | G3: 93
A4: 3 | B4: Ole Nymann | C4: Kolding OK | D4: 1.8305556 | E4: +13:34 | F4: 0.13680556 | G4: 86
A5: 4 | B5: Karl Jørgensen | C5: OK Gorm | D5: 2.1083333 | E5: +20:14 | F5: 0.21388889 | G5: 79
A6: 5 | B6: Jens Ole Kjærsgård | C6: OK Snab | D6: 2.1465278 | E6: +21:09 | F6: 0.25416667 | G6: 78
A7: 6 | B7: Christian Rohde | C7: OK FROS | D7: 2.1722222 | E7: +21:46 | F7: 0.33263889 | G7: 78
A9: 􏰫􏰤 􏰀􏰘􏰙􏰗􏰁􏰎 􏰻􏰕􏰔􏰜􏰬
A10: Maxi 1 H | C10: (17 / 17) | D10: Tid | E10: Efter | F10: Tidstab
A11: 1 | B11: Kristian Blok | C11: OK Snab | D11: 0.027905093 | F11: 0 | G11: 100
A12: 2 | B12: Thomas Blok | C12: OK Snab | D12: 0.028854167 | E12: =D12-D$11 -> 0.00094907407 | F12: 0.039583333 | G12: 98
A13: 3 | B13: Martin Busch | C13: OK Snab | D13: 0.029305556 | E13: =D13-D$11 -> 0.001400463 | F13: 0 | G13: 97
A14: 4 | B14: Jesper Fenger-Grøn | C14: OK Snab | D14: 0.031354167 | E14: =D14-D$11 -> 0.0034490741 | F14: 0.095833333 | G14: 95
A15: 5 | B15: Flemming Jørgensen | C15: OK Snab | D15: 0.032708333 | E15: =D15-D$11 -> 0.0048032407 | F15: 0.14027778 | G15: 93
A16: 6 | B16: Jens Liengård | C16: OK Snab | D16: 0.034050926 | E16: =D16-D$11 -> 0.0061458333 | F16: 0.036805556 | G16: 91
A17: 7 | B17: John Christensen | C17: OK Snab | D17: 0.035960648 | E17: =D17-D$11 -> 0.0080555556 | F17: 0.14861111 | G17: 88
A18: 8 | B18: Claus Lyngby | C18: OK Gorm | D18: 0.036018519 | E18: =D18-D$11 -> 0.0081134259 | F18: 0.051388889 | G18: 88
A19: 9 | B19: Allan Tesbjerg | C19: Horsens OK | D19: 0.038125 | E19: =D19-D$11 -> 0.010219907 | F19: 0.085416667 | G19: 85
A20: 10 | B20: Jesper Madsen | C20: OK Melfar | D20: 0.040081019 | E20: =D20-D$11 -> 0.012175926 | F20: 0.25138889 | G20: 82
A21: 11 | B21: Claus Christensen | C21: OK FROS | D21: 0.040335648 | E21: =D21-D$11 -> 0.012430556 | F21: 0.19027778 | G21: 82
A22: 12 | B22: Stig Knudsen | C22: OK Gorm | D22: 0.041284722 | E22: =D22-D$11 -> 0.01337963 | F22: 0.27361111 | G22: 80
A23: 13 | B23: Uffe Villimsen | C23: OK Snab | D23: 0.04630787 | E23: =D23-D$11 -> 0.018402778 | F23: 0.15555556 | G23: 73
... A26: 16 | B26: Steen S. Jensen | C26: OK Snab | D26: 0.058854167 | E26: =D26-D$11 -> 0.030949074 | F26: 0.81319444 | G26: 55
A27: 􏰈􏰅􏰤 􏰃􏰗􏰍􏰪 􏰨􏰎􏰕􏰠􏰔􏰁􏰎 | B27: Jens Chr Lauersen | C27: OK Gorm | D27: Fejlklip | G27: 0
A29: 􏰈􏰫􏰤 􏰿􏰢􏰢􏰁 􏰛􏰍􏰖􏰖􏰍􏰴􏰔􏰁􏰎
A30: Maxi 2 H | C30: (29 / 29) | D30: Tid | E30: Efter | F30: Tidstab
A31: 1 | B31: Axel Ørnhagen | C31: OK Snab | D31: 0.023935185 | F31: 0 | G31: 100
A32: 2 | B32: Asbjørn Fenger Grøn | C32: Horsens OK | D32: 0.024166667 | E32: =D32-D$31 -> 0.00023148148 | F32: 0.020833333 | G32: 99
A33: 3 | B33: August Gabs | C33: OK Melfar | D33: 0.024884259 | E33: =D33-D$31 -> 0.00094907407 | F33: 0.015972222 | G33: 98
A34: 4 | B34: Lars Højholt | C34: KOK | D34: 0.026967593 | E34: =D34-D$31 -> 0.0030324074 | F34: 0.061805556 | G34: 95
A35: 5 | B35: Thomas Gabs | C35: OK Melfar | D35: 0.027430556 | E35: =D35-D$31 -> 0.0034953704 | F35: 0.029861111 | G35: 94
A36: 6 | B36: Viktor Bro | C36: OK Melfar | D36: 0.027673611 | E36: =D36-D$31 -> 0.0037384259 | F36: 0.042361111 | G36: 94
A37: 7 | B37: Magnus Fannar Madsen | C37: OK Melfar | D37: 0.028900463 | E37: =D37-D$31 -> 0.0049652778 | F37: 0.13194444 | G37: 92
A38: 8 | B38: Uffe Sudergaard | C38: OK Melfar | D38: 0.030775463 | E38: =D38-D$31 -> 0.0068402778 | F38: 0.17569444 | G38: 90
A39: 9 | B39: Bo Mønster Jørgensen | C39: OK FROS | D39: 0.030972222 | E39: =D39-D$31 -> 0.007037037 | F39: 0.026388889 | G39: 89
A40: 10 | B40: Jonas Egedal | C40: OK Melfar | D40: 0.031111111 | E40: =D40-D$31 -> 0.0071759259 | F40: 0.12708333 | G40: 89
A41: 11 | B41: Henrik Henriksen | C41: Vakant | D41: 0.031400463 | E41: =D41-D$31 -> 0.0074652778 | F41: 0.18888889 | G41: 89
A42: 12 | B42: Lars Pagh | C42: OK Snab | D42: 0.031701389 | E42: =D42-D$31 -> 0.0077662037 | F42: 0.26805556 | G42: 88
A43: 13 | B43: Jakob Bang | C43: OK Gorm | D43: 0.032997685 | E43: =D43-D$31 -> 0.0090625 | F43: 0.063888889 | G43: 86
... A57: 27 | B57: Villy Kjeldsen | C57: OK Snab | D57: 0.054016204 | E57: =D57-D$31 -> 0.030081019 | F57: 0.3375 | G57: 56
B58: Flemming D Andersen | C58: OK Gorm | D58: Fejlklip | G58: 0
A59: 􏰈􏰆􏰤 􏰵􏰩􏰎􏰘􏰔 􏰡􏰪􏰁􏰠􏰘􏰖 | B59: Kristian Øllgård | C59: OK Gorm | D59: Fejlklip | G59: 0
A61: 􏰈􏰈􏰤 􏰏􏰁􏰎􏰙􏰍􏰼 􏰏􏰁􏰎􏰙􏰍􏰼􏰔􏰁􏰎
A62: Maxi 3 H | C62: (13 / 13) | D62: Tid | E62: Efter | F62: Tidstab
A63: 1 | B63: Erik Tasbjerg | C63: Horsens OK | D63: 0.024016204 | F63: 0.15555556 | G63: 100
A64: 2 | B64: Rasmus Fenger Grøn | C64: OK Snab | D64: 0.025347222 | E64: =D64-D$63 -> 0.0013310185 | F64: 0.13333333 | G64: 98
A65: 3 | B65: Gert Pedersen | C65: OK Melfar | D65: 0.026261574 | E65: =D65-D$63 -> 0.0022453704 | F65: 0.077083333 | G65: 96
A66: 4 | B66: Christian B Hansen | C66: Kolding OK | D66: 0.026979167 | E66: =D66-D$63 -> 0.002962963 | F66: 0.13819444 | G66: 95
A67: 5 | B67: Jack Skrydstrup | C67: KOK | D67: 0.028402778 | E67: =D67-D$63 -> 0.0043865741 | F67: 0.16180556 | G67: 93
A68: 6 | B68: Karl Kristian Terkelsen | C68: OK Gorm | D68: 0.030046296 | E68: =D68-D$63 -> 0.0060300926 | F68: 0.15347222 | G68: 91
A69: 7 | B69: Poul Christensen | C69: OK Snab | D69: 0.032025463 | E69: =D69-D$63 -> 0.0080092593 | F69: 0.23333333 | G69: 88
A70: 8 | B70: Peter Nielsen | C70: OK Snab | D70: 0.038009259 | E70: =D70-D$63 -> 0.013993056 | F70: 0.2875 | G70: 79
A71: 9 | B71: Kaj Isaksen | C71: OK Snab | D71: 0.039861111 | E71: =D71-D$63 -> 0.015844907 | F71: 0.25486111 | G71: 77
A72: 10 | B72: Ove Andersen | C72: OK Gorm | D72: 0.044791667 | E72: =D72-D$63 -> 0.020775463 | F72: 0.27777778 | G72: 70
A73: 11 | B73: Niels J Møller | C73: Kolding OK | D73: 0.050358796 | E73: =D73-D$63 -> 0.026342593 | F73: 0.57638889 | G73: 62
A74: 􏰈􏰮􏰤 􏰃􏰗􏰁􏰁􏰎 􏰃􏰍􏰪 􏰾􏰎􏰠􏰁􏰙􏰔􏰁􏰎 | B74: Per Simonsen | C74: OK Snab | D74: Fejlklip | G74: 0
B75: Peter Nymann | C75: Kolding OK | D75: Udgået | G75: 0
A78: Midi H | C78: (12 / 12) | D78: Tid | E78: Efter | F78: Tidstab
A79: 1 | B79: Rasmus Edvardsen | C79: OK Snab | D79: 0.026539352 | F79: 0.0625 | G79: 100
A80: 2 | B80: Anders Thygesen | C80: Kolding OK | D80: 0.028055556 | E80: =D80-D$79 -> 0.0015162037 | F80: 0.14236111 | G80: 97
A81: 3 | B81: Peter S Pedersen | C81: OK Snab | D81: 0.030520833 | E81: =D81-D$79 -> 0.0039814815 | F81: 0.29583333 | G81: 94
A82: 4 | B82: Hans Chr Ross-Hansen | C82: OK Gorm | D82: 0.033136574 | E82: =D82-D$79 -> 0.0065972222 | F82: 0.19930556 | G82: 90
A83: 5 | B83: Henrik Thomsen | C83: OK Snab | D83: 0.034490741 | E83: =D83-D$79 -> 0.0079513889 | F83: 0.12361111 | G83: 88
A84: 6 | B84: Asger Jensen | C84: OK Snab | D84: 0.035798611 | E84: =D84-D$79 -> 0.0092592593 | F84: 0.22569444 | G84: 86
A85: 7 | B85: Gunnar Hansen | C85: OK Snab | D85: 0.036979167 | E85: =D85-D$79 -> 0.010439815 | F85: 0.30069444 | G85: 84
A86: 8 | B86: Valdemar Egdal | C86: OK Melfar | D86: 0.038125 | E86: =D86-D$79 -> 0.011585648 | F86: 0.5875 | G86: 83
A87: 9 | B87: Bertram Bro F | C87: OK Melfar | D87: 0.038553241 | E87: =D87-D$79 -> 0.012013889 | F87: 0.58194444 | G87: 82
A88: 10 | B88: Brian Jørgensen | C88: OK Gorm | D88: 0.041400463 | E88: =D88-D$79 -> 0.014861111 | F88: 0.89583333 | G88: 78
A89: 􏰅􏰉􏰤 􏰟􏰩􏰙􏰣􏰁􏰎 􏰏􏰘􏰎􏰔􏰁􏰎 | B89: Sejer Rosendal | C89: OK Snab | D89: Fejlklip | G89: 0
B90: Søren Nymann | C90: OK Snab | D90: Fejlklip | G90: 0
A91: 􏰅􏰰􏰤 􏰡􏰙􏰍􏰼 􏱂􏰘􏰎􏰜􏰬􏰁
A93: Maxi 2 D | C93: (4 / 4) | D93: Tid | E93: Efter | F93: Tidstab
A94: 1 | B94: Elanor Henriksen | C94: Horsens OK | D94: 0.028530093 | F94: 0.020833333 | G94: 100
A95: 2 | B95: Susanne Højholt | C95: KOK | D95: 0.032534722 | E95: =D95-D$94 -> 0.0040046296 | F95: 0.071527778 | G95: 94
A96: 3 | B96: Bente H Ringive | C96: OK Gorm | D96: 0.045104167 | E96: =D96-D$94 -> 0.016574074 | F96: 0.38055556 | G96: 76
A97: 4 | B97: Hanne Madsen | C97: Kolding OK | D97: 0.048275463 | E97: =D97-D$94 -> 0.01974537 | F97: 0.61736111 | G97: 71
A99: 􏰀􏰘􏰦􏰍 􏰫 􏰏
A100: Maxi 3 D | C100: (10 / 10) | D100: Tid | E100: Efter | F100: Tidstab
A101: 1 | B101: Johanne | C101: OK Snab | D101: 0.026261574 | F101: 0 | G101: 100
A102: 2 | B102: Astrid Fenger Grøn | C102: OK Snab | D102: 0.027025463 | E102: =D102-D$101 -> 0.00076388889 | F102: 0.13541667 | G102: 98
A103: 3 | B103: Kate Nielsen | C103: OK Snab | D103: 0.029363426 | E103: =D103-D$101 -> 0.0031018519 | F103: 0.13055556 | G103: 95
A104: 4 | B104: Anne Mette Abplanalp | C104: Kolding OK | D104: 0.03212963 | E104: =D104-D$101 -> 0.0058680556 | F104: 0.11041667 | G104: 91
A105: 5 | B105: Dorte Rosenvinge | C105: OK Snab | D105: 0.032407407 | E105: =D105-D$101 -> 0.0061458333 | F105: 0.11944444 | G105: 91
A106: 6 | B106: Sofie Fenger-Grøn | C106: OK Snab | D106: 0.035162037 | E106: =D106-D$101 -> 0.008900463 | F106: 0.17638889 | G106: 87
A107: 7 | B107: Asta Terkelsen | C107: OK Gorm | D107: 0.036956019 | E107: =D107-D$101 -> 0.010694444 | F107: 0.35763889 | G107: 84
A108: 8 | B108: Lise Nørgård | C108: OK Snab | D108: 0.039849537 | E108: =D108-D$101 -> 0.013587963 | F108: 0.39722222 | G108: 80
A109: 9 | B109: Lone Knudsen | C109: OK Snab | D109: 0.041030093 | E109: =D109-D$101 -> 0.014768519 | F109: 0.54305556 | G109: 78
B110: Malene Kaysen | C110: OK Snab | D110: Udgået | G110: 0
A111: 􏰞􏰤 􏰨􏰨􏰟
A113: Midi D | C113: (6 / 6) | D113: Tid | E113: Efter | F113: Tidstab
A114: 1 | B114: Agnes Fjordside Pagh | C114: OK Snab | D114: 0.036898148 | F114: 0.23680556 | G114: 100
A115: 2 | B115: Johanne K Madsen | C115: OK Melfar | D115: 0.04880787 | E115: =D115-$D$114 -> 0.011909722 | F115: 0.58055556 | G115: 82
A116: 3 | B116: Sofie Henningsen | C116: OK Snab | D116: 0.054525463 | E116: =D116-$D$114 -> 0.017627315 | F116: 0.59861111 | G116: 74
A117: 4 | B117: Andea Hønke | C117: Horsens OK | D117: 0.060949074 | E117: =D117-$D$114 -> 0.024050926 | F117: 0.84513889 | G117: 65
B118: Esther Henriksen | C118: Horsens OK | D118: Fejlklip | G118: 0
B119: Monica Gade Buske | C119: OK Gorm | D119: Fejlklip | G119: 0
A120: 􏰭􏰁􏰙 􏰃􏰍􏰴􏰩􏰔􏰁􏰎 􏰭􏰁􏰗􏰁􏰙 􏰲􏰳􏰴􏰘􏰎􏰎
A122: Mini D | C122: (11 / 11) | D122: Tid | E122: Efter | F122: Tidstab
A123: 1 | B123: Karla Blicher | C123: OK Melfar | D123: 0.023252315 | F123: 0.014583333 | G123: 100
A124: 2 | B124: Frida Seiersbøll | C124: Kolding OK | D124: 0.026111111 | E124: =D124-D$123 -> 0.0028587963 | F124: 0.028472222 | G124: 95
...

Sheet Damgård 22_2_2020

Sheet Jelling 7_3_2020

Sheet Total
A1: Stillingen Vintercup 2019-2020
D2: 1. afd. | E2: 2. afd. | F2: 3. afd. | G2: 4. afd. | H2: 5. afd. | I2: 6. afd.
D3: Sdr. Stenderup | E3: Kongebroskoven | F3: Haraldskær | G3: Hastrup | H3: Damgård | I3: Jelling
D4: 43771 | E4: 43778 | F4: 43792 | G4: 43834 | H4: 43883 | I4: 43897 | J4: Total
A6: Maxi 1 H | B6: Navn | C6: Klub
A7: Placering
A8: 1 | B8: ='Sdr Stenderup 2_11_2019'!B5 -> Kristian Blok | C8: ='Sdr Stenderup 2_11_2019'!C5 -> OK SNAB | D8: ='Sdr Stenderup 2_11_2019'!F5 -> 100 | E8: ='Kongebroskoven 09_11_2019'!F7 -> 96 | F8: ='Haraldskær 23_11_2019'!F5 -> 100 | G8: ='Hastrup 4_1_2020'!G11 -> 100 | J8: =SUM(D8:I8) -> 396
A9: 2 | B9: ='Sdr Stenderup 2_11_2019'!B7 -> Thomas Blok | C9: ='Sdr Stenderup 2_11_2019'!C7 -> OK SNAB | D9: ='Sdr Stenderup 2_11_2019'!F7 -> 95 | E9: ='Kongebroskoven 09_11_2019'!F5 -> 100 | F9: ='Haraldskær 23_11_2019'!F6 -> 98 | G9: ='Hastrup 4_1_2020'!G12 -> 98 | J9: =SUM(D9:I9) -> 391
A10: 3 | B10: ='Sdr Stenderup 2_11_2019'!B6 -> Flemming Jørgensen | C10: ='Sdr Stenderup 2_11_2019'!C6 -> OK SNAB | D10: ='Sdr Stenderup 2_11_2019'!F6 -> 97 | E10: ='Kongebroskoven 09_11_2019'!F6 -> 97 | G10: ='Hastrup 4_1_2020'!G15 -> 93 | J10: =SUM(D10:I10) -> 287
A11: 4 | B11: ='Sdr Stenderup 2_11_2019'!B10 -> Jens Liengaard | C11: ='Sdr Stenderup 2_11_2019'!C10 -> OK SNAB | D11: ='Sdr Stenderup 2_11_2019'!F10 -> 0 | E11: ='Kongebroskoven 09_11_2019'!F10 -> 81 | F11: ='Haraldskær 23_11_2019'!F10 -> 89 | G11: ='Hastrup 4_1_2020'!G16 -> 91 | J11: =SUM(D11:I11) -> 261
A12: 5 | B12: ='Sdr Stenderup 2_11_2019'!B11 -> Uffe Villumsen | C12: ='Sdr Stenderup 2_11_2019'!C11 -> OK SNAB | D12: ='Sdr Stenderup 2_11_2019'!F11 -> 0 | E12: ='Kongebroskoven 09_11_2019'!F11 -> 75 | F12: ='Haraldskær 23_11_2019'!F12 -> 81 | G12: ='Hastrup 4_1_2020'!G23 -> 73 | J12: =SUM(D12:I12) -> 229
A13: 6 | B13: ='Sdr Stenderup 2_11_2019'!B9 -> Jesper Madsen | C13: ='Sdr Stenderup 2_11_2019'!C9 -> OK Melfar | D13: ='Sdr Stenderup 2_11_2019'!F9 -> 47 | F13: ='Haraldskær 23_11_2019'!F11 -> 81 | G13: ='Hastrup 4_1_2020'!G20 -> 82 | J13: =SUM(D13:I13) -> 210
A14: 7 | B14: ='Kongebroskoven 09_11_2019'!B14 -> Martin Ringive | C14: ='Kongebroskoven 09_11_2019'!C14 -> OK GORM | E14: ='Kongebroskoven 09_11_2019'!F14 -> 56 | F14: ='Haraldskær 23_11_2019'!F13 -> 67 | G14: ='Hastrup 4_1_2020'!G24 -> 69 | J14: =SUM(D14:I14) -> 192
A15: 8 | B15: ='Haraldskær 23_11_2019'!B8 -> Jesper Fenger Grøn | C15: ='Haraldskær 23_11_2019'!C8 -> OK Snab | F15: ='Haraldskær 23_11_2019'!F8 -> 95 | G15: ='Hastrup 4_1_2020'!G14 -> 95 | J15: =SUM(D15:I15) -> 190
A16: 9 | B16: ='Hastrup 4_1_2020'!B13 -> Martin Busch | C16: ='Hastrup 4_1_2020'!C13 -> OK Snab | G16: ='Hastrup 4_1_2020'!G13 -> 97 | J16: =SUM(D16:I16) -> 97
A17: 10 | B17: ='Haraldskær 23_11_2019'!B7 -> Henrik Uhlemann | C17: ='Haraldskær 23_11_2019'!C7 -> Kolding OK | F17: ='Haraldskær 23_11_2019'!F7 -> 96 | J17: =SUM(D17:I17) -> 96
A18: 11 | B18: ='Haraldskær 23_11_2019'!B9 -> Stefan Keller | C18: ='Haraldskær 23_11_2019'!C9 -> Horsens OK | F18: ='Haraldskær 23_11_2019'!F9 -> 93 | J18: =SUM(D18:I18) -> 93
A19: 12 | B19: ='Kongebroskoven 09_11_2019'!B8 -> Michael Thygesen | C19: ='Kongebroskoven 09_11_2019'!C8 -> OK SNAB | E19: ='Kongebroskoven 09_11_2019'!F8 -> 89 | J19: =SUM(D19:I19) -> 89
A20: 13 | B20: ='Hastrup 4_1_2020'!B17 -> John Christensen | C20: ='Hastrup 4_1_2020'!C17 -> OK Snab | G20: ='Hastrup 4_1_2020'!G17 -> 88 | J20: =SUM(D20:I20) -> 88
A21: 14 | B21: ='Hastrup 4_1_2020'!B18 -> Claus Lyngby | C21: ='Hastrup 4_1_2020'!C18 -> OK Gorm | G21: ='Hastrup 4_1_2020'!G18 -> 88 | J21: =SUM(D21:I21) -> 88
A22: 15 | B22: ='Kongebroskoven 09_11_2019'!B9 -> Peter D. Fransen | C22: ='Kongebroskoven 09_11_2019'!C9 -> Kolding OK | E22: ='Kongebroskoven 09_11_2019'!F9 -> 87 | J22: =SUM(D22:I22) -> 87
A23: 16 | B23: ='Hastrup 4_1_2020'!B19 -> Allan Tesbjerg | C23: ='Hastrup 4_1_2020'!C19 -> Horsens OK | G23: ='Hastrup 4_1_2020'!G19 -> 85 | J23: =SUM(D23:I23) -> 85
A24: 17 | B24: ='Hastrup 4_1_2020'!B21 -> Claus Christensen | C24: ='Hastrup 4_1_2020'!C21 -> OK FROS | G24: ='Hastrup 4_1_2020'!G21 -> 82 | J24: =SUM(D24:I24) -> 82
A25: 18 | B25: ='Hastrup 4_1_2020'!B22 -> Stig Knudsen | C25: ='Hastrup 4_1_2020'!C22 -> OK Gorm | G25: ='Hastrup 4_1_2020'!G22 -> 80 | J25: =SUM(D25:I25) -> 80
A26: 19 | B26: ='Kongebroskoven 09_11_2019'!B12 -> Jens Chr Laursen | C26: ='Kongebroskoven 09_11_2019'!C12 -> OK GORM | E26: ='Kongebroskoven 09_11_2019'!F12 -> 72 | G26: ='Hastrup 4_1_2020'!G27 -> 0 | J26: =SUM(D26:I26) -> 72
A27: 20 | B27: ='Kongebroskoven 09_11_2019'!B13 -> Sten Jørgensen | C27: ='Kongebroskoven 09_11_2019'!C13 -> OK Melfar | E27: ='Kongebroskoven 09_11_2019'!F13 -> 62 | J27: =SUM(D27:I27) -> 62
A28: 21 | B28: ='Hastrup 4_1_2020'!B25 -> Lars Thaasti | C28: ='Hastrup 4_1_2020'!C25 -> OK Snab | G28: ='Hastrup 4_1_2020'!G25 -> 60 | J28: =SUM(D28:I28) -> 60
A29: 22 | B29: ='Hastrup 4_1_2020'!B26 -> Steen S. Jensen | C29: ='Hastrup 4_1_2020'!C26 -> OK Snab | G29: ='Hastrup 4_1_2020'!G26 -> 55 | J29: =SUM(D29:I29) -> 55
A30: 23 | B30: ='Sdr Stenderup 2_11_2019'!B8 -> Esben Blicher | C30: ='Sdr Stenderup 2_11_2019'!C8 -> OK Melfar | D30: ='Sdr Stenderup 2_11_2019'!F8 -> 54 | J30: =SUM(D30:I30) -> 54
A31: 24 | B31: ='Haraldskær 23_11_2019'!B14 -> Kent Carøe | C31: ='Haraldskær 23_11_2019'!C14 -> OK Snab | F31: ='Haraldskær 23_11_2019'!F14 -> 45 | J31: =SUM(D31:I31) -> 45
B32: ='Kongebroskoven 09_11_2019'!B15 -> Anders Thygesen | C32: ='Kongebroskoven 09_11_2019'!C15 -> Kolding OK | E32: ='Kongebroskoven 09_11_2019'!F15 -> 0 | J32: =SUM(D32:I32) -> 0
A36: Maxi 1 D
A37: Placering
A38: 1 | B38: ='Kongebroskoven 09_11_2019'!B21 -> Ulrika Ørnhagen Jørgensen | C38: ='Kongebroskoven 09_11_2019'!C21 -> OK SNAB | E38: ='Kongebroskoven 09_11_2019'!F21 -> 100 | F38: ='Haraldskær 23_11_2019'!F20 -> 100 | J38: =SUM(D38:I38) -> 200
A39: 2 | B39: ='Sdr Stenderup 2_11_2019'!B17 -> Rikke Binder | C39: ='Sdr Stenderup 2_11_2019'!C17 -> OK GORM | D39: ='Sdr Stenderup 2_11_2019'!F17 -> 100 | J39: =SUM(D39:I39) -> 100
A40: 3 | B40: ='Haraldskær 23_11_2019'!B21 -> Karina Skouenborg | C40: ='Haraldskær 23_11_2019'!C21 -> OK Snab | F40: ='Haraldskær 23_11_2019'!F21 -> 85 | J40: =SUM(D40:I40) -> 85
A44: Maxi 2 H
A45: Placering
A46: 1 | B46: ='Sdr Stenderup 2_11_2019'!B23 -> Lars Højholt | C46: ='Sdr Stenderup 2_11_2019'!C23 -> Kolding OK | D46: ='Sdr Stenderup 2_11_2019'!F23 -> 100 | E46: ='Kongebroskoven 09_11_2019'!F33 -> 85 | F46: ='Haraldskær 23_11_2019'!F27 -> 100 | G46: ='Hastrup 4_1_2020'!G34 -> 95 | J46: =SUM(D46:I46) -> 380
A47: 2 | B47: ='Sdr Stenderup 2_11_2019'!B24 -> Bo Mønster Jørgensen | C47: ='Sdr Stenderup 2_11_2019'!C24 -> OK FROS | D47: ='Sdr Stenderup 2_11_2019'!F24 -> 99 | E47: ='Kongebroskoven 09_11_2019'!F32 -> 86 | F47: ='Haraldskær 23_11_2019'!F35 -> 92 | G47: ='Hastrup 4_1_2020'!G39 -> 89 | J47: =SUM(D47:I47) -> 366
A48: 3 | B48: ='Haraldskær 23_11_2019'!B32 -> Jonas Bo Kirk Egdal | C48: ='Sdr Stenderup 2_11_2019'!C25 -> OK Melfar | D48: ='Sdr Stenderup 2_11_2019'!F25 -> 96 | E48: ='Kongebroskoven 09_11_2019'!F35 -> 85 | F48: ='Haraldskær 23_11_2019'!F32 -> 94 | G48: ='Hastrup 4_1_2020'!G40 -> 89 | J48: =SUM(D48:I48) -> 364
A49: 4 | B49: ='Sdr Stenderup 2_11_2019'!B26 -> Brian Knudsen | C49: ='Sdr Stenderup 2_11_2019'!C26 -> OK SNAB | D49: ='Sdr Stenderup 2_11_2019'!F26 -> 95 | E49: ='Kongebroskoven 09_11_2019'!F34 -> 85 | F49: ='Haraldskær 23_11_2019'!F28 -> 98 | G49: ='Hastrup 4_1_2020'!G52 -> 81 | J49: =SUM(D49:I49) -> 359
A50: 5 | B50: ='Sdr Stenderup 2_11_2019'!B32 -> Torben Hansen | C50: ='Sdr Stenderup 2_11_2019'!C32 -> OK FROS | D50: ='Sdr Stenderup 2_11_2019'!F32 -> 73 | E50: ='Kongebroskoven 09_11_2019'!F40 -> 75 | F50: ='Haraldskær 23_11_2019'!F39 -> 79 | G50: ='Hastrup 4_1_2020'!G54 -> 78 | J50: =SUM(D50:I50) -> 305
A51: 6 | B51: ='Kongebroskoven 09_11_2019'!B27 -> Magnus Fannar Madsen | C51: ='Kongebroskoven 09_11_2019'!C27 -> OK Melfar | E51: ='Kongebroskoven 09_11_2019'!F27 -> 100 | F51: ='Haraldskær 23_11_2019'!F30 -> 96 | G51: ='Hastrup 4_1_2020'!G37 -> 92 | J51: =SUM(D51:I51) -> 288
A52: 7 | B52: ='Kongebroskoven 09_11_2019'!B30 -> Uffe Sudergaard | C52: ='Kongebroskoven 09_11_2019'!C30 -> OK Melfar | E52: ='Kongebroskoven 09_11_2019'!F30 -> 94 | F52: ='Haraldskær 23_11_2019'!F29 -> 97 | G52: ='Hastrup 4_1_2020'!G38 -> 90 | J52: =SUM(D52:I52) -> 281
A53: 8 | B53: ='Sdr Stenderup 2_11_2019'!B30 -> Sven Erik Jakobsen | C53: ='Sdr Stenderup 2_11_2019'!C30 -> OK GORM | D53: ='Sdr Stenderup 2_11_2019'!F30 -> 80 | F53: ='Haraldskær 23_11_2019'!F33 -> 93 | G53: ='Hastrup 4_1_2020'!G49 -> 83 | J53: =SUM(D53:I53) -> 256
A54: 9 | B54: ='Haraldskær 23_11_2019'!B40 -> Niels Møller Petersen | C54: ='Sdr Stenderup 2_11_2019'!C29 -> OK FROS | D54: ='Sdr Stenderup 2_11_2019'!F29 -> 86 | E54: ='Kongebroskoven 09_11_2019'!F42 -> 0 | F54: ='Haraldskær 23_11_2019'!F40 -> 78 | G54: ='Hastrup 4_1_2020'!G53 -> 81 | J54: =SUM(D54:I54) -> 245
A55: 10 | B55: ='Kongebroskoven 09_11_2019'!B28 -> August Gabs | C55: ='Kongebroskoven 09_11_2019'!C28 -> OK Melfar | E55: ='Kongebroskoven 09_11_2019'!F28 -> 99 | G55: ='Hastrup 4_1_2020'!G33 -> 98 | J55: =SUM(D55:I55) -> 197
A56: 11 | B56: ='Haraldskær 23_11_2019'!B31 -> Jacob Bang | C56: ='Haraldskær 23_11_2019'!C31 -> OK Gorm | F56: ='Haraldskær 23_11_2019'!F31 -> 95 | G56: ='Hastrup 4_1_2020'!G43 -> 86 | J56: =SUM(D56:I56) -> 181
A57: 12 | B57: ='Sdr Stenderup 2_11_2019'!B27 -> Sven Madsen | C57: ='Sdr Stenderup 2_11_2019'!C27 -> OK FROS | D57: ='Sdr Stenderup 2_11_2019'!F27 -> 93 | G57: ='Hastrup 4_1_2020'!G46 -> 85 | J57: =SUM(D57:I57) -> 178
A58: 13 | B58: ='Sdr Stenderup 2_11_2019'!B31 -> Laurits Egdal | C58: ='Sdr Stenderup 2_11_2019'!C31 -> OK Melfar | D58: ='Sdr Stenderup 2_11_2019'!F31 -> 74 | G58: ='Hastrup 4_1_2020'!G45 -> 85 | J58: =SUM(D58:I58) -> 159
A59: 14 | B59: ='Haraldskær 23_11_2019'!B41 -> Villy Kjeldsen | C59: ='Haraldskær 23_11_2019'!C41 -> OK Snab | F59: ='Haraldskær 23_11_2019'!F41 -> 46 | G59: ='Hastrup 4_1_2020'!G57 -> 56 | J59: =SUM(D59:I59) -> 102
A60: 15 | B60: ='Hastrup 4_1_2020'!B31 -> Axel Ørnhagen | C60: ='Hastrup 4_1_2020'!C31 -> OK Snab | G60: ='Hastrup 4_1_2020'!G31 -> 100 | J60: =SUM(D60:I60) -> 100
A61: 16 | B61: ='Hastrup 4_1_2020'!B32 -> Asbjørn Fenger Grøn | C61: ='Hastrup 4_1_2020'!C32 -> Horsens OK | G61: ='Hastrup 4_1_2020'!G32 -> 99 | J61: =SUM(D61:I61) -> 99
A62: 17 | B62: ='Kongebroskoven 09_11_2019'!B29 -> Peter Pihlkjær Nymann | C62: ='Kongebroskoven 09_11_2019'!C29 -> Kolding OK | E62: ='Kongebroskoven 09_11_2019'!F29 -> 97 | J62: =SUM(D62:I62) -> 97
A63: 18 | B63: ='Hastrup 4_1_2020'!B35 -> Thomas Gabs | C63: ='Hastrup 4_1_2020'!C35 -> OK Melfar | G63: ='Hastrup 4_1_2020'!G35 -> 94 | J63: =SUM(D63:I63) -> 94
A64: 19 | B64: ='Hastrup 4_1_2020'!B36 -> Viktor Bro | C64: ='Hastrup 4_1_2020'!C36 -> OK Melfar | G64: ='Hastrup 4_1_2020'!G36 -> 94 | J64: =SUM(D64:I64) -> 94
A65: 20 | B65: ='Kongebroskoven 09_11_2019'!B31 -> Thomas Sørensen | C65: ='Kongebroskoven 09_11_2019'!C31 -> OK Melfar | E65: ='Kongebroskoven 09_11_2019'!F31 -> 93 | J65: =SUM(D65:I65) -> 93
A66: 21 | B66: ='Haraldskær 23_11_2019'!B34 -> Per Eg Pedersen | C66: ='Haraldskær 23_11_2019'!C34 -> Kolding OK | F66: ='Haraldskær 23_11_2019'!F34 -> 92 | J66: =SUM(D66:I66) -> 92
A67: 22 | B67: ='Sdr Stenderup 2_11_2019'!B28 -> Henning Schou | C67: ='Sdr Stenderup 2_11_2019'!C28 -> OK SNAB | D67: ='Sdr Stenderup 2_11_2019'!F28 -> 90 | F67: ='Haraldskær 23_11_2019'!F43 -> 0 | J67: =SUM(D67:I67) -> 90
A68: 23 | B68: ='Hastrup 4_1_2020'!B41 -> Henrik Henriksen | C68: ='Hastrup 4_1_2020'!C41 -> Vakant | G68: ='Hastrup 4_1_2020'!G41 -> 89 | J68: =SUM(D68:I68) -> 89
A69: 24 | B69: ='Haraldskær 23_11_2019'!B36 -> Steen Schelle Jensen | C69: ='Haraldskær 23_11_2019'!C36 -> OK Snab | F69: ='Haraldskær 23_11_2019'!F36 -> 88 | J69: =SUM(D69:I69) -> 88
A70: 25 | B70: ='Hastrup 4_1_2020'!B42 -> Lars Pagh | C70: ='Hastrup 4_1_2020'!C42 -> OK Snab | G70: ='Hastrup 4_1_2020'!G42 -> 88 | J70: =SUM(D70:I70) -> 88
A71: 26 | B71: ='Hastrup 4_1_2020'!B44 -> Esben Blicher | C71: ='Hastrup 4_1_2020'!C44 -> OK Melfar | G71: ='Hastrup 4_1_2020'!G44 -> 86 | J71: =SUM(D71:I71) -> 86
A72: 27 | B72: ='Kongebroskoven 09_11_2019'!B36 -> Peter Gammeljord | C72: ='Kongebroskoven 09_11_2019'!C36 -> OK SNAB | E72: ='Kongebroskoven 09_11_2019'!F36 -> 84 | J72: =SUM(D72:I72) -> 84
A73: 28 | B73: ='Haraldskær 23_11_2019'!B37 -> Peter Føns Knudsen | C73: ='Haraldskær 23_11_2019'!C37 -> OK Gorm | F73: ='Haraldskær 23_11_2019'!F37 -> 84 | J73: =SUM(D73:I73) -> 84
A74: 29 | B74: ='Sdr Stenderup 2_11_2019'!B33 -> Sten Sig Andersen | C74: ='Sdr Stenderup 2_11_2019'!C33 -> Kolding OK | D74: ='Sdr Stenderup 2_11_2019'!F33 -> 0 | E74: ='Kongebroskoven 09_11_2019'!F43 -> 0 | G74: ='Hastrup 4_1_2020'!G47 -> 84 | J74: =SUM(D74:I74) -> 84
A75: 30 | B75: ='Haraldskær 23_11_2019'!B38 -> Henrik Holm | C75: ='Haraldskær 23_11_2019'!C38 -> OK Gorm | F75: ='Haraldskær 23_11_2019'!F38 -> 83 | J75: =SUM(D75:I75) -> 83
A76: 31 | B76: ='Hastrup 4_1_2020'!B48 -> Johan Jensen | C76: ='Hastrup 4_1_2020'!C48 -> OK Snab | G76: ='Hastrup 4_1_2020'!G48 -> 83 | J76: =SUM(D76:I76) -> 83
A77: 32 | B77: ='Kongebroskoven 09_11_2019'!B37 -> Christian Ramus | C77: ='Kongebroskoven 09_11_2019'!C37 -> OK FROS | E77: ='Kongebroskoven 09_11_2019'!F37 -> 82 | J77: =SUM(D77:I77) -> 82
A78: 33 | B78: ='Hastrup 4_1_2020'!B50 -> Jakob Pedesen | C78: ='Hastrup 4_1_2020'!C50 -> OK Snab | G78: ='Hastrup 4_1_2020'!G50 -> 82 | J78: =SUM(D78:I78) -> 82
A79: 34 | B79: ='Hastrup 4_1_2020'!B51 -> Lars Munch | C79: ='Hastrup 4_1_2020'!C51 -> OK Snab | G79: ='Hastrup 4_1_2020'!G51 -> 81 | J79: =SUM(D79:I79) -> 81
A80: 35 | B80: ='Kongebroskoven 09_11_2019'!B38 -> Lars Thaasti | C80: ='Kongebroskoven 09_11_2019'!C38 -> OK SNAB | E80: ='Kongebroskoven 09_11_2019'!F38 -> 80 | J80: =SUM(D80:I80) -> 80
A81: 36 | B81: ='Kongebroskoven 09_11_2019'!B39 -> Mandus Andresen | C81: ='Kongebroskoven 09_11_2019'!C39 -> Kolding OK | E81: ='Kongebroskoven 09_11_2019'!F39 -> 78 | J81: =SUM(D81:I81) -> 78
A82: 37 | B82: ='Hastrup 4_1_2020'!B55 -> Erik Wanche | C82: ='Hastrup 4_1_2020'!C55 -> Horsens OK | G82: ='Hastrup 4_1_2020'!G55 -> 71 | J82: =SUM(D82:I82) -> 71
A83: 38 | B83: ='Hastrup 4_1_2020'!B56 -> Flemming Roel | C83: ='Hastrup 4_1_2020'!C56 -> Kolding OK | G83: ='Hastrup 4_1_2020'!G56 -> 63 | J83: =SUM(D83:I83) -> 63
B84: ='Kongebroskoven 09_11_2019'!B41 -> Flemming D. Andersen | C84: ='Kongebroskoven 09_11_2019'!C41 -> OK GORM | E84: ='Kongebroskoven 09_11_2019'!F41 -> 0 | F84: ='Haraldskær 23_11_2019'!F44 -> 0 | G84: ='Hastrup 4_1_2020'!G58 -> 0 | J84: =SUM(D84:I84) -> 0
B85: ='Haraldskær 23_11_2019'!B42 -> Niels Nygaard Jensen | C85: ='Haraldskær 23_11_2019'!C42 -> OK Snab | F85: ='Haraldskær 23_11_2019'!F42 -> 0 | J85: =SUM(D85:I85) -> 0
B86: ='Hastrup 4_1_2020'!B59 -> Kristian Øllgård | C86: ='Hastrup 4_1_2020'!C59 -> OK Gorm | G86: ='Hastrup 4_1_2020'!G59 -> 0 | J86: =SUM(D86:I86) -> 0
A90: Maxi 2 D
A91: Placering
A92: 1 | B92: ='Sdr Stenderup 2_11_2019'!B39 -> Susanne Højholt | C92: ='Sdr Stenderup 2_11_2019'!C39 -> Kolding OK | D92: ='Sdr Stenderup 2_11_2019'!F39 -> 100 | E92: ='Kongebroskoven 09_11_2019'!F49 -> 100 | G92: ='Hastrup 4_1_2020'!G95 -> 94 | J92: =SUM(D92:I92) -> 294
A93: 2 | B93: ='Sdr Stenderup 2_11_2019'!B40 -> Helle Schou | C93: ='Sdr Stenderup 2_11_2019'!C40 -> OK SNAB | D93: ='Sdr Stenderup 2_11_2019'!F40 -> 50 | F93: ='Haraldskær 23_11_2019'!F52 -> 89 | J93: =SUM(D93:I93) -> 139
A94: 3 | B94: ='Sdr Stenderup 2_11_2019'!B41 -> Hanne Madsen | C94: ='Sdr Stenderup 2_11_2019'!C41 -> Kolding OK | D94: ='Sdr Stenderup 2_11_2019'!F41 -> 49 | G94: ='Hastrup 4_1_2020'!G97 -> 71 | J94: =SUM(D94:I94) -> 120
A95: 4 | B95: ='Haraldskær 23_11_2019'!B51 -> Elise Utzen Keller | C95: ='Haraldskær 23_11_2019'!C51 -> Horsens OK | F95: ='Haraldskær 23_11_2019'!F51 -> 100 | J95: =SUM(D95:I95) -> 100
A96: 5 | B96: ='Hastrup 4_1_2020'!B94 -> Elanor Henriksen | C96: ='Hastrup 4_1_2020'!C94 -> Horsens OK | G96: ='Hastrup 4_1_2020'!G94 -> 100 | J96: =SUM(D96:I96) -> 100
A97: 6 | B97: ='Kongebroskoven 09_11_2019'!B50 -> Nicoline Lorenzen | C97: ='Kongebroskoven 09_11_2019'!C50 -> Kolding OK | E97: ='Kongebroskoven 09_11_2019'!F50 -> 99 | J97: =SUM(D97:I97) -> 99
A98: 7 | B98: ='Kongebroskoven 09_11_2019'!B51 -> Dorthe Rosenvinge | C98: ='Kongebroskoven 09_11_2019'!C51 -> OK SNAB | E98: ='Kongebroskoven 09_11_2019'!F51 -> 82 | J98: =SUM(D98:I98) -> 82
A99: 8 | B99: ='Kongebroskoven 09_11_2019'!B52 -> Irene Gammeljord | C99: ='Kongebroskoven 09_11_2019'!C52 -> OK SNAB | E99: ='Kongebroskoven 09_11_2019'!F52 -> 76 | J99: =SUM(D99:I99) -> 76
A100: 9 | B100: ='Hastrup 4_1_2020'!B96 -> Bente H Ringive | C100: ='Hastrup 4_1_2020'!C96 -> OK Gorm | G100: ='Hastrup 4_1_2020'!G96 -> 76 | J100: =SUM(D100:I100) -> 76
B101: ='Sdr Stenderup 2_11_2019'!B42 -> Christa Blach | C101: ='Sdr Stenderup 2_11_2019'!C42 -> Kolding OK | D101: ='Sdr Stenderup 2_11_2019'!F42 -> 0 | J101: =SUM(D101:I101) -> 0
B102: ='Kongebroskoven 09_11_2019'!B53 -> Anne Sofie Motzkus | C102: ='Kongebroskoven 09_11_2019'!C53 -> Kolding OK | E102: ='Kongebroskoven 09_11_2019'!F53 -> 0 | J102: =SUM(D102:I102) -> 0
B103: ='Haraldskær 23_11_2019'!B53 -> Inger Skibbild Bønding | C103: ='Haraldskær 23_11_2019'!C53 -> OK Gorm | F103: ='Haraldskær 23_11_2019'!F53 -> 0 | J103: =SUM(D103:I103) -> 0
B104: ='Hastrup 4_1_2020'!B98 | C104: ='Hastrup 4_1_2020'!C98
A107: Maxi 3 H
A108: Placering
A109: 1 | B109: ='Sdr Stenderup 2_11_2019'!B49 -> Jack Skrydstrup | C109: ='Sdr Stenderup 2_11_2019'!C49 -> Kolding OK | D109: ='Sdr Stenderup 2_11_2019'!F49 -> 89 | E109: ='Kongebroskoven 09_11_2019'!F58 -> 100 | F109: ='Haraldskær 23_11_2019'!F60 -> 95 | G109: ='Hastrup 4_1_2020'!G67 -> 93 | J109: =SUM(D109:I109) -> 377
A110: 2 | B110: ='Sdr Stenderup 2_11_2019'!B48 -> Christian B. Hansen | C110: ='Sdr Stenderup 2_11_2019'!C48 -> Kolding OK | D110: ='Sdr Stenderup 2_11_2019'!F48 -> 100 | E110: ='Kongebroskoven 09_11_2019'!F61 -> 85 | F110: ='Haraldskær 23_11_2019'!F61 -> 93 | G110: ='Hastrup 4_1_2020'!G66 -> 95 | J110: =SUM(D110:I110) -> 373
A111: 3 | B111: ='Kongebroskoven 09_11_2019'!B59 -> Poul A. Christensen | C111: ='Kongebroskoven 09_11_2019'!C59 -> OK SNAB | E111: ='Kongebroskoven 09_11_2019'!F59 -> 97 | F111: ='Haraldskær 23_11_2019'!F59 -> 100 | G111: ='Hastrup 4_1_2020'!G69 -> 88 | J111: =SUM(D111:I111) -> 285
A112: 4 | B112: ='Sdr Stenderup 2_11_2019'!B51 -> Niels J. M. Hansen | C112: ='Sdr Stenderup 2_11_2019'!C51 -> Kolding OK | D112: ='Sdr Stenderup 2_11_2019'!F51 -> 74 | E112: ='Kongebroskoven 09_11_2019'!F62 -> 68 | F112: ='Haraldskær 23_11_2019'!F66 -> 69 | G112: ='Hastrup 4_1_2020'!G73 -> 62 | J112: =SUM(D112:I112) -> 273
...
