Workbook

Sheet Sdr Stenderup 2_11_2019
A1: Resultater Vintercup Sdr. Stenderup 02/11-2019
A3: Maxi 1 H | B3: 7/7
A4: Placering | B4: Navn | C4: Klub | D4: Tid | E4: Efter | F4: Point
A5: 1 | B5: Kristian Blok | C5: OK SNAB | D5: 0.041886574 | F5: 100
A6: 2 | B6: Flemming Jørgensen | C6: OK SNAB | D6: 0.04337963 | E6: =D6-$D$5 -> 0.0014930556 | F6: 97
A7: 3 | B7: Thomas Blok | C7: OK SNAB | D7: 0.045162037 | E7: =D7-$D$5 -> 0.003275463 | F7: 95
A8: 4 | B8: Esben Blicher | C8: OK Melfar | D8: 0.073819444 | E8: =D8-$D$5 -> 0.03193287 | F8: 54
A9: 5 | B9: Jesper Madsen | C9: OK Melfar | D9: 0.078194444 | E9: =D9-$D$5 -> 0.03630787 | F9: 47
B10: Jens Liengaard | C10: OK SNAB | D10: Fejlklip
B11: Uffe Villumsen | C11: OK SNAB | D11: Udgået
A15: Maxi 1 D | B15: 1/1
A16: Placering | B16: Navn | C16: Klub | D16: Tid | E16: Efter | F16: Point
A17: 1 | B17: Rikke Binder | C17: OK GORM | D17: 0.052152778 | F17: 100
A19: 􏰭􏰁􏰜􏰕 􏰵􏰐􏰁􏰜􏰬􏰎􏰎􏰙􏰟 􏰷􏰤􏰤􏰁 􏰛􏰐􏰗􏰗􏰖􏰫􏰕􏰁􏰜
A21: Maxi 2 H | B21: 11/11
A22: Placering | B22: Navn | C22: Klub | D22: Tid | E22: Efter | F22: Point
A23: 1 | B23: Lars Højholt | C23: Kolding OK | D23: 0.04150463 | F23: 100
A24: 2 | B24: Bo Mønster Jørgensen | C24: OK FROS | D24: 0.041655093 | E24: =D24-$D$23 -> 0.00015046296 | F24: 99
A25: 3 | B25: Jonas Egdal | C25: OK Melfar | D25: 0.044074074 | E25: =D25-$D$23 -> 0.0025694444 | F25: 96
A26: 4 | B26: Brian Knudsen | C26: OK SNAB | D26: 0.044675926 | E26: =D26-$D$23 -> 0.0031712963 | F26: 95
A27: 5 | B27: Sven Madsen | C27: OK FROS | D27: 0.045798611 | E27: =D27-$D$23 -> 0.0042939815 | F27: 93
A28: 6 | B28: Henning Schou | C28: OK SNAB | D28: 0.048449074 | E28: =D28-$D$23 -> 0.0069444444 | F28: 90
A29: 7 | B29: Niels Møller | C29: OK FROS | D29: 0.051018519 | E29: =D29-$D$23 -> 0.0095138889 | F29: 86
A30: 8 | B30: Sven Erik Jakobsen | C30: OK GORM | D30: 0.055185185 | E30: =D30-$D$23 -> 0.013680556 | F30: 80
A31: 9 | B31: Laurits Egdal | C31: OK Melfar | D31: 0.059293981 | E31: =D31-$D$23 -> 0.017789352 | F31: 74
A32: 10 | B32: Torben Hansen | C32: OK FROS | D32: 0.059965278 | E32: =D32-$D$23 -> 0.018460648 | F32: 73
A33: 􏰡􏰠 􏰻􏰐􏰁􏰗􏰕 􏰀􏰮􏰗􏰗􏰁􏰙 | B33: Sten Sig Andersen | C33: Kolding OK | D33: Fejlklip
A37: Maxi 2 D | B37: 4/4
A38: Placering | B38: Navn | C38: Klub | D38: Tid | E38: Efter | F38: Point
A39: 1 | B39: Susanne Højholt | C39: Kolding OK | D39: 0.042569444 | F39: 100
A40: 2 | B40: Helle Schou | C40: OK SNAB | D40: 0.076608796 | E40: =D40-$D$39 -> 0.034039352 | F40: 50
A41: 3 | B41: Hanne Madsen | C41: Kolding OK | D41: 0.077847222 | E41: =D41-$D$39 -> 0.035277778 | F41: 49
B42: Christa Blach | C42: Kolding OK | D42: Udgået
A45: 􏰇􏰆􏰠 􏰵􏰎􏰖􏰙􏰐􏰘􏰕 􏰣􏰬􏰟􏰎􏰗
A46: Maxi 3 H | B46: 7/7
A47: Placering | B47: Navn | C47: Klub | D47: Tid | E47: Efter | F47: Point
A48: 1 | B48: Christian B. Hansen | C48: Kolding OK | D48: 0.041331019 | F48: 100
A49: 2 | B49: Jack Skrydstrup | C49: Kolding OK | D49: 0.048668981 | E49: =D49-$D$48 -> 0.007337963 | F49: 89
A50: 3 | B50: Ove Andersen | C50: OK GORM | D50: 0.058020833 | E50: =D50-$D$48 -> 0.016689815 | F50: 75
A51: 4 | B51: Niels J. M. Hansen | C51: Kolding OK | D51: 0.058923611 | E51: =D51-$D$48 -> 0.017592593 | F51: 74
...

Sheet Kongebroskoven 09_11_2019
A1: Resultater Vintercup Kongebroskoven 09/11-2019
A3: Maxi 1 H | B3: 11/11
A4: Placering | B4: Navn | C4: Klub | D4: Tid | E4: Efter | F4: Point
A5: 1 | B5: Thomas Blok | C5: OK SNAB | D5: 0.035601852 | F5: 100
A6: 2 | B6: Flemming Jørgensen | C6: OK SNAB | D6: 0.037407407 | E6: =D6-$D$5 -> 0.0018055556 | F6: 97
A7: 3 | B7: Kristian Blok | C7: OK SNAB | D7: 0.038055556 | E7: =D7-$D$5 -> 0.0024537037 | F7: 96
A8: 4 | B8: Michael Thygesen | C8: OK SNAB | D8: 0.042847222 | E8: =D8-$D$5 -> 0.0072453704 | F8: 89
A9: 5 | B9: Peter D. Fransen | C9: Kolding OK | D9: 0.044490741 | E9: =D9-$D$5 -> 0.0088888889 | F9: 87
A10: 6 | B10: Jens Liengård | C10: OK SNAB | D10: 0.048738426 | E10: =D10-$D$5 -> 0.013136574 | F10: 81
A11: 7 | B11: Uffe Villumsen | C11: OK SNAB | D11: 0.052592593 | E11: =D11-$D$5 -> 0.016990741 | F11: 75
A12: 8 | B12: Jens Chr Laursen | C12: OK GORM | D12: 0.054398148 | E12: =D12-$D$5 -> 0.018796296 | F12: 72
A13: 9 | B13: Sten Jørgensen | C13: OK Melfar | D13: 0.061990741 | E13: =D13-$D$5 -> 0.026388889 | F13: 62
A14: 10 | B14: Martin Ringive | C14: OK GORM | D14: 0.065729167 | E14: =D14-$D$5 -> 0.030127315 | F14: 56
B15: Anders Thygesen | C15: Kolding OK
A19: Maxi 1 D | B19: 1/1
A20: Placering | B20: Navn | C20: Klub | D20: Tid | E20: Efter | F20: Point
A21: 1 | B21: Ulrika Ørnhagen Jørgensen | C21: OK SNAB | D21: 0.05037037 | F21: 100
A23: 􏰭􏰁􏰜􏰕 􏰵􏰐􏰁􏰜􏰬􏰎􏰎􏰙􏰟 􏰷􏰤􏰤􏰁 􏰛􏰐􏰗􏰗􏰖􏰫􏰕􏰁􏰜
A25: Maxi 2 H | B25: 17/17
A26: Placering | B26: Navn | C26: Klub | D26: Tid | E26: Efter | F26: Point
A27: 1 | B27: Magnus Fannar Madsen | C27: OK Melfar | D27: 0.035173611 | F27: 100
A28: 2 | B28: August Gabs | C28: OK Melfar | D28: 0.035300926 | E28: =D28-$D$27 -> 0.00012731481 | F28: 99
A29: 3 | B29: Peter Pihlkjær Nymann | C29: Kolding OK | D29: 0.036747685 | E29: =D29-$D$27 -> 0.0015740741 | F29: 97
A30: 4 | B30: Uffe Sudergaard | C30: OK Melfar | D30: 0.039166667 | E30: =D30-$D$27 -> 0.0039930556 | F30: 94
A31: 5 | B31: Thomas Sørensen | C31: OK Melfar | D31: 0.039618056 | E31: =D31-$D$27 -> 0.0044444444 | F31: 93
A32: 6 | B32: Bo Mønster Jørgensen | C32: OK FROS | D32: 0.044826389 | E32: =D32-$D$27 -> 0.0096527778 | F32: 86
A33: 7 | B33: Lars Højholt | C33: Kolding OK | D33: 0.0453125 | E33: =D33-$D$27 -> 0.010138889 | F33: 85
A34: 8 | B34: Brian Knudsen | C34: OK SNAB | D34: 0.045393519 | E34: =D34-$D$27 -> 0.010219907 | F34: 85
A35: 9 | B35: Jonas Egdal | C35: OK Melfar | D35: 0.045578704 | E35: =D35-$D$27 -> 0.010405093 | F35: 85
A36: 10 | B36: Peter Gammeljord | C36: OK SNAB | D36: 0.046122685 | E36: =D36-$D$27 -> 0.010949074 | F36: 84
A37: 11 | B37: Christian Ramus | C37: OK FROS | D37: 0.047303241 | E37: =D37-$D$27 -> 0.01212963 | F37: 82
A38: 12 | B38: Lars Thaasti | C38: OK SNAB | D38: 0.048796296 | E38: =D38-$D$27 -> 0.013622685 | F38: 80
A39: 13 | B39: Mandus Andresen | C39: Kolding OK | D39: 0.050289352 | E39: =D39-$D$27 -> 0.015115741 | F39: 78
A40: 14 | B40: Torben Hansen | C40: OK FROS | D40: 0.052511574 | E40: =D40-$D$27 -> 0.017337963 | F40: 75
B41: Flemming D. Andersen | C41: OK GORM | D41: Fejlklip
B42: Niels Møller | C42: OK FROS | D42: Fejlklip
B43: Steen Sig Andersen | C43: Kolding OK | D43: Fejlklip
A47: Maxi 2 D | B47: 5/5
A48: Placering | B48: Navn | C48: Klub | D48: Tid | E48: Efter | F48: Point
A49: 1 | B49: Susanne Højholt | C49: Kolding OK | D49: 0.045034722 | F49: 100
...

Sheet Haraldskær 23_11_2019
A1: Resultater Vintercup Haraldskær 23/11-2019
A3: Maxi 1 H | B3: 10/10
A4: Placering | B4: Navn | C4: Klub | D4: Tid | E4: Efter | F4: Point
A5: 1 | B5: Kristian Blok | C5: OK Snab | D5: 52:15 (1) | E5: +00:00 | F5: 100
A6: 2 | B6: Thomas Blok | C6: OK Snab | D6: 53:44 (2) | E6: +01:29 | F6: 98
A7: 3 | B7: Henrik Uhlemann | C7: Kolding OK | D7: 55:50 (3) | E7: +03:35 | F7: 96
A8: 4 | B8: Jesper Fenger Grøn | C8: OK Snab | D8: 56:49 (4) | E8: +04:34 | F8: 95
A9: 5 | B9: Stefan Keller | C9: Horsens OK | D9: 58:51 (5) | E9: +06:36 | F9: 93
A10: 6 | B10: Jens Liengård | C10: OK Snab | D10: 62:29 (7) | E10: +10:14 | F10: 89
A11: 7 | B11: Jesper Madsen | C11: OK Melfar | D11: 70:27 (8) | E11: +18:12 | F11: 81
A12: 8 | B12: Uffe Villumsen | C12: OK Snab | D12: 70:51 (9) | E12: +18:36 | F12: 81
A13: 9 | B13: Martin Ringive | C13: OK Gorm | D13: 84:36 (11) | E13: +32:21 | F13: 67
A14: 10 | B14: Kent Carøe | C14: OK Snab | D14: 106:50 (12) | E14: +54:35 | F14: 45
A18: Maxi 1 D | B18: 2/2
A19: Placering | B19: Navn | C19: Klub | D19: Tid | E19: Efter | F19: Point
A20: 1 | B20: Ulrika Örnhagen Jørgensen | C20: OK Snab | D20: 0.041435185 | E20: 0 | F20: 100
A21: 2 | B21: Karina Skouenborg | C21: OK Snab | D21: 0.051284722 | E21: =D21-D20 -> 0.009849537 | F21: 85
A25: Maxi 2 H | B25: 18/18
A26: Placering | B26: Navn | C26: Klub | D26: Tid | E26: Efter | F26: Point
A27: 1 | B27: Lars Eeg Højholt | C27: Kolding OK | D27: 51:58 (1) | E27: +00:00 | F27: 100
A28: 2 | B28: Brian Knudsen | C28: OK Snab | D28: 53:06 (2) | E28: +01:08 | F28: 98
A29: 3 | B29: Uffe Sudergaard | C29: OK Melfar | D29: 54:12 (3) | E29: +02:14 | F29: 97
A30: 4 | B30: Magnus Fannar Madsen | C30: OK Melfar | D30: 55:01 (4) | E30: +03:03 | F30: 96
A31: 5 | B31: Jacob Bang | C31: OK Gorm | D31: 56:53 (5) | E31: +04:55 | F31: 95
A32: 6 | B32: Jonas Bo Kirk Egdal | C32: OK Melfar | D32: 57:46 (6) | E32: +05:48 | F32: 94
A33: 7 | B33: Sven Erik Jakobsen | C33: OK Gorm | D33: 58:44 (7) | E33: +06:46 | F33: 93
A34: 8 | B34: Per Eg Pedersen | C34: Kolding OK | D34: 59:11 (8) | E34: +07:13 | F34: 92
A35: 9 | B35: Bo Mønster Jørgensen | C35: OK FROS | D35: 59:36 (9) | E35: +07:38 | F35: 92
A36: 10 | B36: Steen Schelle Jensen | C36: OK Snab | D36: 63:04 (10) | E36: +11:06 | F36: 88
A37: 11 | B37: Peter Føns Knudsen | C37: OK Gorm | D37: 67:02 (11) | E37: +15:04 | F37: 84
A38: 12 | B38: Henrik Holm | C38: OK Gorm | D38: 68:49 (12) | E38: +16:51 | F38: 83
... A41: 15 | B41: Villy Kjeldsen | C41: OK Snab | D41: 105:00 (17) | E41: +53:02 | F41: 46
A42: - | B42: Niels Nygaard Jensen | C42: OK Snab | D42: utgått
A43: - | B43: Henning Schou | C43: OK Snab | D43: felst.
A44: - | B44: Flemming D. Andersen | C44: OK Gorm | D44: felst.
A49: Maxi 2 D | B49: 3/3
A50: Placering | B50: Navn | C50: Klub | D50: Tid | E50: Efter | F50: Point
A51: 1 | B51: Elise Utzen Keller | C51: Horsens OK | D51: 0.056064815 | E51: 0 | F51: 100
A52: 2 | B52: Helle Schou | C52: OK Snab | D52: 0.063622685 | E52: =D52-D51 -> 0.0075578704 | F52: 89
A53: - | B53: Inger Skibbild Bønding | C53: OK Gorm | D53: felst.
...

Sheet Hastrup 4_1_2020
A1: Mini H | C1: (6 / 6) | D1: Tid | E1: Efter | F1: Tidstab
A2: 1 | B2: Felix Seiersbøll | C2: Kolding OK | D2: 1.2652778 | F2: 0 | G2: 100
A3: 2 | B3: Malthe Pedersen | C3: OK Snab | D3: 1.55625 | E3: +6:59 | F3: 0.10555556 | G3: 93
A4: 3 | B4: Ole Nymann | C4: Kolding OK | D4: 1.8305556 | E4: +13:34 | F4: 0.13680556 | G4: 86
A5: 4 | B5: Karl Jørgensen | C5: OK Gorm | D5: 2.1083333 | E5: +20:14 | F5: 0.21388889 | G5: 79
A6: 5 | B6: Jens Ole Kjærsgård | C6: OK Snab | D6: 2.1465278 | E6: +21:09 | F6: 0.25416667 | G6: 78
A7: 6 | B7: Christian Rohde | C7: OK FROS | D7: 2.1722222 | E7: +21:46 | F7: 0.33263889 | G7: 78
A9: 􏰫􏰤 􏰀􏰘􏰙􏰗􏰁􏰎 􏰻􏰕􏰔􏰜􏰬
A10: Maxi 1 H | C10: (17 / 17) | D10: Tid | E10: Efter | F10: Tidstab
A11: 1 | B11: Kristian Blok | C11: OK Snab | D11: 0.027905093 | F11: 0 | G11: 100
A12: 2 | B12: Thomas Blok | C12: OK Snab | D12: 0.028854167 | E12: =D12-D$11 -> 0.00094907407 | F12: 0.039583333 | G12: 98
A13: 3 | B13: Martin Busch | C13: OK Snab | D13: 0.029305556 | E13: =D13-D$11 -> 0.001400463 | F13: 0 | G13: 97
A14: 4 | B14: Jesper Fenger-Grøn | C14: OK Snab | D14: 0.031354167 | E14: =D14-D$11 -> 0.0034490741 | F14: 0.095833333 | G14: 95
A15: 5 | B15: Flemming Jørgensen | C15: OK Snab | D15: 0.032708333 | E15: =D15-D$11 -> 0.0048032407 | F15: 0.14027778 | G15: 93
A16: 6 | B16: Jens Liengård | C16: OK Snab | D16: 0.034050926 | E16: =D16-D$11 -> 0.0061458333 | F16: 0.036805556 | G16: 91
A17: 7 | B17: John Christensen | C17: OK Snab | D17: 0.035960648 | E17: =D17-D$11 -> 0.0080555556 | F17: 0.14861111 | G17: 88
A18: 8 | B18: Claus Lyngby | C18: OK Gorm | D18: 0.036018519 | E18: =D18-D$11 -> 0.0081134259 | F18: 0.051388889 | G18: 88
A19: 9 | B19: Allan Tesbjerg | C19: Horsens OK | D19: 0.038125 | E19: =D19-D$11 -> 0.010219907 | F19: 0.085416667 | G19: 85
A20: 10 | B20: Jesper Madsen | C20: OK Melfar | D20: 0.040081019 | E20: =D20-D$11 -> 0.012175926 | F20: 0.25138889 | G20: 82
A21: 11 | B21: Claus Christensen | C21: OK FROS | D21: 0.040335648 | E21: =D21-D$11 -> 0.012430556 | F21: 0.19027778 | G21: 82
A22: 12 | B22: Stig Knudsen | C22: OK Gorm | D22: 0.041284722 | E22: =D22-D$11 -> 0.01337963 | F22: 0.27361111 | G22: 80
A23: 13 | B23: Uffe Villimsen | C23: OK Snab | D23: 0.04630787 | E23: =D23-D$11 -> 0.018402778 | F23: 0.15555556 | G23: 73
... A26: 16 | B26: Steen S. Jensen | C26: OK Snab | D26: 0.058854167 | E26: =D26-D$11 -> 0.030949074 | F26: 0.81319444 | G26: 55
A27: 􏰈􏰅􏰤 􏰃􏰗􏰍􏰪 􏰨􏰎􏰕􏰠􏰔􏰁􏰎 | B27: Jens Chr Lauersen | C27: OK Gorm | D27: Fejlklip | G27: 0
A29: 􏰈􏰫􏰤 􏰿􏰢􏰢􏰁 􏰛􏰍􏰖􏰖􏰍􏰴􏰔􏰁􏰎
A30: Maxi 2 H | C30: (29 / 29) | D30: Tid | E30: Efter | F30: Tidstab
A31: 1 | B31: Axel Ørnhagen | C31: OK Snab | D31: 0.023935185 | F31: 0 | G31: 100
A32: 2 | B32: Asbjørn Fenger Grøn | C32: Horsens OK | D32: 0.024166667 | E32: =D32-D$31 -> 0.00023148148 | F32: 0.020833333 | G32: 99
A33: 3 | B33: August Gabs | C33: OK Melfar | D33: 0.024884259 | E33: =D33-D$31 -> 0.00094907407 | F33: 0.015972222 | G33: 98
A34: 4 | B34: Lars Højholt | C34: KOK | D34: 0.026967593 | E34: =D34-D$31 -> 0.0030324074 | F34: 0.061805556 | G34: 95
A35: 5 | B35: Thomas Gabs | C35: OK Melfar | D35: 0.027430556 | E35: =D35-D$31 -> 0.0034953704 | F35: 0.029861111 | G35: 94
A36: 6 | B36: Viktor Bro | C36: OK Melfar | D36: 0.027673611 | E36: =D36-D$31 -> 0.0037384259 | F36: 0.042361111 | G36: 94
A37: 7 | B37: Magnus Fannar Madsen | C37: OK Melfar | D37: 0.028900463 | E37: =D37-D$31 -> 0.0049652778 | F37: 0.13194444 | G37: 92
A38: 8 | B38: Uffe Sudergaard | C38: OK Melfar | D38: 0.030775463 | E38: =D38-D$31 -> 0.0068402778 | F38: 0.17569444 | G38: 90
A39: 9 | B39: Bo Mønster Jørgensen | C39: OK FROS | D39: 0.030972222 | E39: =D39-D$31 -> 0.007037037 | F39: 0.026388889 | G39: 89
A40: 10 | B40: Jonas Egedal | C40: OK Melfar | D40: 0.031111111 | E40: =D40-D$31 -> 0.0071759259 | F40: 0.12708333 | G40: 89
A41: 11 | B41: Henrik Henriksen | C41: Vakant | D41: 0.031400463 | E41: =D41-D$31 -> 0.0074652778 | F41: 0.18888889 | G41: 89
A42: 12 | B42: Lars Pagh | C42: OK Snab | D42: 0.031701389 | E42: =D42-D$31 -> 0.0077662037 | F42: 0.26805556 | G42: 88
A43: 13 | B43: Jakob Bang | C43: OK Gorm | D43: 0.032997685 | E43: =D43-D$31 -> 0.0090625 | F43: 0.063888889 | G43: 86
... A57: 27 | B57: Villy Kjeldsen | C57: OK Snab | D57: 0.054016204 | E57: =D57-D$31 -> 0.030081019 | F57: 0.3375 | G57: 56
...

Sheet Damgård 22_2_2020

Sheet Jelling 7_3_2020

Sheet Total
A1: Stillingen Vintercup 2019-2020
D2: 1. afd. | E2: 2. afd. | F2: 3. afd. | G2: 4. afd. | H2: 5. afd. | I2: 6. afd.
D3: Sdr. Stenderup | E3: Kongebroskoven | F3: Haraldskær | G3: Hastrup | H3: Damgård | I3: Jelling
D4: 43771 | E4: 43778 | F4: 43792 | G4: 43834 | H4: 43883 | I4: 43897 | J4: Total
A6: Maxi 1 H | B6: Navn | C6: Klub
A7: Placering
A8: 1 | B8: ='Sdr Stenderup 2_11_2019'!B5 -> Kristian Blok | C8: ='Sdr Stenderup 2_11_2019'!C5 -> OK SNAB | D8: ='Sdr Stenderup 2_11_2019'!F5 -> 100 | E8: ='Kongebroskoven 09_11_2019'!F7 -> 96 | F8: ='Haraldskær 23_11_2019'!F5 -> 100 | G8: ='Hastrup 4_1_2020'!G11 -> 100 | J8: =SUM(D8:I8) -> 396
A9: 2 | B9: ='Sdr Stenderup 2_11_2019'!B7 -> Thomas Blok | C9: ='Sdr Stenderup 2_11_2019'!C7 -> OK SNAB | D9: ='Sdr Stenderup 2_11_2019'!F7 -> 95 | E9: ='Kongebroskoven 09_11_2019'!F5 -> 100 | F9: ='Haraldskær 23_11_2019'!F6 -> 98 | G9: ='Hastrup 4_1_2020'!G12 -> 98 | J9: =SUM(D9:I9) -> 391
A10: 3 | B10: ='Sdr Stenderup 2_11_2019'!B6 -> Flemming Jørgensen | C10: ='Sdr Stenderup 2_11_2019'!C6 -> OK SNAB | D10: ='Sdr Stenderup 2_11_2019'!F6 -> 97 | E10: ='Kongebroskoven 09_11_2019'!F6 -> 97 | G10: ='Hastrup 4_1_2020'!G15 -> 93 | J10: =SUM(D10:I10) -> 287
A11: 4 | B11: ='Sdr Stenderup 2_11_2019'!B10 -> Jens Liengaard | C11: ='Sdr Stenderup 2_11_2019'!C10 -> OK SNAB | D11: ='Sdr Stenderup 2_11_2019'!F10 -> 0 | E11: ='Kongebroskoven 09_11_2019'!F10 -> 81 | F11: ='Haraldskær 23_11_2019'!F10 -> 89 | G11: ='Hastrup 4_1_2020'!G16 -> 91 | J11: =SUM(D11:I11) -> 261
A12: 5 | B12: ='Sdr Stenderup 2_11_2019'!B11 -> Uffe Villumsen | C12: ='Sdr Stenderup 2_11_2019'!C11 -> OK SNAB | D12: ='Sdr Stenderup 2_11_2019'!F11 -> 0 | E12: ='Kongebroskoven 09_11_2019'!F11 -> 75 | F12: ='Haraldskær 23_11_2019'!F12 -> 81 | G12: ='Hastrup 4_1_2020'!G23 -> 73 | J12: =SUM(D12:I12) -> 229
A13: 6 | B13: ='Sdr Stenderup 2_11_2019'!B9 -> Jesper Madsen | C13: ='Sdr Stenderup 2_11_2019'!C9 -> OK Melfar | D13: ='Sdr Stenderup 2_11_2019'!F9 -> 47 | F13: ='Haraldskær 23_11_2019'!F11 -> 81 | G13: ='Hastrup 4_1_2020'!G20 -> 82 | J13: =SUM(D13:I13) -> 210
A14: 7 | B14: ='Kongebroskoven 09_11_2019'!B14 -> Martin Ringive | C14: ='Kongebroskoven 09_11_2019'!C14 -> OK GORM | E14: ='Kongebroskoven 09_11_2019'!F14 -> 56 | F14: ='Haraldskær 23_11_2019'!F13 -> 67 | G14: ='Hastrup 4_1_2020'!G24 -> 69 | J14: =SUM(D14:I14) -> 192
A15: 8 | B15: ='Haraldskær 23_11_2019'!B8 -> Jesper Fenger Grøn | C15: ='Haraldskær 23_11_2019'!C8 -> OK Snab | F15: ='Haraldskær 23_11_2019'!F8 -> 95 | G15: ='Hastrup 4_1_2020'!G14 -> 95 | J15: =SUM(D15:I15) -> 190
A16: 9 | B16: ='Hastrup 4_1_2020'!B13 -> Martin Busch | C16: ='Hastrup 4_1_2020'!C13 -> OK Snab | G16: ='Hastrup 4_1_2020'!G13 -> 97 | J16: =SUM(D16:I16) -> 97
A17: 10 | B17: ='Haraldskær 23_11_2019'!B7 -> Henrik Uhlemann | C17: ='Haraldskær 23_11_2019'!C7 -> Kolding OK | F17: ='Haraldskær 23_11_2019'!F7 -> 96 | J17: =SUM(D17:I17) -> 96
A18: 11 | B18: ='Haraldskær 23_11_2019'!B9 -> Stefan Keller | C18: ='Haraldskær 23_11_2019'!C9 -> Horsens OK | F18: ='Haraldskær 23_11_2019'!F9 -> 93 | J18: =SUM(D18:I18) -> 93
A19: 12 | B19: ='Kongebroskoven 09_11_2019'!B8 -> Michael Thygesen | C19: ='Kongebroskoven 09_11_2019'!C8 -> OK SNAB | E19: ='Kongebroskoven 09_11_2019'!F8 -> 89 | J19: =SUM(D19:I19) -> 89
A20: 13 | B20: ='Hastrup 4_1_2020'!B17 -> John Christensen | C20: ='Hastrup 4_1_2020'!C17 -> OK Snab | G20: ='Hastrup 4_1_2020'!G17 -> 88 | J20: =SUM(D20:I20) -> 88
A21: 14 | B21: ='Hastrup 4_1_2020'!B18 -> Claus Lyngby | C21: ='Hastrup 4_1_2020'!C18 -> OK Gorm | G21: ='Hastrup 4_1_2020'!G18 -> 88 | J21: =SUM(D21:I21) -> 88
A22: 15 | B22: ='Kongebroskoven 09_11_2019'!B9 -> Peter D. Fransen | C22: ='Kongebroskoven 09_11_2019'!C9 -> Kolding OK | E22: ='Kongebroskoven 09_11_2019'!F9 -> 87 | J22: =SUM(D22:I22) -> 87
A23: 16 | B23: ='Hastrup 4_1_2020'!B19 -> Allan Tesbjerg | C23: ='Hastrup 4_1_2020'!C19 -> Horsens OK | G23: ='Hastrup 4_1_2020'!G19 -> 85 | J23: =SUM(D23:I23) -> 85
A24: 17 | B24: ='Hastrup 4_1_2020'!B21 -> Claus Christensen | C24: ='Hastrup 4_1_2020'!C21 -> OK FROS | G24: ='Hastrup 4_1_2020'!G21 -> 82 | J24: =SUM(D24:I24) -> 82
A25: 18 | B25: ='Hastrup 4_1_2020'!B22 -> Stig Knudsen | C25: ='Hastrup 4_1_2020'!C22 -> OK Gorm | G25: ='Hastrup 4_1_2020'!G22 -> 80 | J25: =SUM(D25:I25) -> 80
A26: 19 | B26: ='Kongebroskoven 09_11_2019'!B12 -> Jens Chr Laursen | C26: ='Kongebroskoven 09_11_2019'!C12 -> OK GORM | E26: ='Kongebroskoven 09_11_2019'!F12 -> 72 | G26: ='Hastrup 4_1_2020'!G27 -> 0 | J26: =SUM(D26:I26) -> 72
A27: 20 | B27: ='Kongebroskoven 09_11_2019'!B13 -> Sten Jørgensen | C27: ='Kongebroskoven 09_11_2019'!C13 -> OK Melfar | E27: ='Kongebroskoven 09_11_2019'!F13 -> 62 | J27: =SUM(D27:I27) -> 62
A28: 21 | B28: ='Hastrup 4_1_2020'!B25 -> Lars Thaasti | C28: ='Hastrup 4_1_2020'!C25 -> OK Snab | G28: ='Hastrup 4_1_2020'!G25 -> 60 | J28: =SUM(D28:I28) -> 60
A29: 22 | B29: ='Hastrup 4_1_2020'!B26 -> Steen S. Jensen | C29: ='Hastrup 4_1_2020'!C26 -> OK Snab | G29: ='Hastrup 4_1_2020'!G26 -> 55 | J29: =SUM(D29:I29) -> 55
A30: 23 | B30: ='Sdr Stenderup 2_11_2019'!B8 -> Esben Blicher | C30: ='Sdr Stenderup 2_11_2019'!C8 -> OK Melfar | D30: ='Sdr Stenderup 2_11_2019'!F8 -> 54 | J30: =SUM(D30:I30) -> 54
A31: 24 | B31: ='Haraldskær 23_11_2019'!B14 -> Kent Carøe | C31: ='Haraldskær 23_11_2019'!C14 -> OK Snab | F31: ='Haraldskær 23_11_2019'!F14 -> 45 | J31: =SUM(D31:I31) -> 45
B32: ='Kongebroskoven 09_11_2019'!B15 -> Anders Thygesen | C32: ='Kongebroskoven 09_11_2019'!C15 -> Kolding OK | E32: ='Kongebroskoven 09_11_2019'!F15 -> 0 | J32: =SUM(D32:I32) -> 0
A36: Maxi 1 D
A37: Placering
A38: 1 | B38: ='Kongebroskoven 09_11_2019'!B21 -> Ulrika Ørnhagen Jørgensen | C38: ='Kongebroskoven 09_11_2019'!C21 -> OK SNAB | E38: ='Kongebroskoven 09_11_2019'!F21 -> 100 | F38: ='Haraldskær 23_11_2019'!F20 -> 100 | J38: =SUM(D38:I38) -> 200
A39: 2 | B39: ='Sdr Stenderup 2_11_2019'!B17 -> Rikke Binder | C39: ='Sdr Stenderup 2_11_2019'!C17 -> OK GORM | D39: ='Sdr Stenderup 2_11_2019'!F17 -> 100 | J39: =SUM(D39:I39) -> 100
A40: 3 | B40: ='Haraldskær 23_11_2019'!B21 -> Karina Skouenborg | C40: ='Haraldskær 23_11_2019'!C21 -> OK Snab | F40: ='Haraldskær 23_11_2019'!F21 -> 85 | J40: =SUM(D40:I40) -> 85
A44: Maxi 2 H
A45: Placering
A46: 1 | B46: ='Sdr Stenderup 2_11_2019'!B23 -> Lars Højholt | C46: ='Sdr Stenderup 2_11_2019'!C23 -> Kolding OK | D46: ='Sdr Stenderup 2_11_2019'!F23 -> 100 | E46: ='Kongebroskoven 09_11_2019'!F33 -> 85 | F46: ='Haraldskær 23_11_2019'!F27 -> 100 | G46: ='Hastrup 4_1_2020'!G34 -> 95 | J46: =SUM(D46:I46) -> 380
A47: 2 | B47: ='Sdr Stenderup 2_11_2019'!B24 -> Bo Mønster Jørgensen | C47: ='Sdr Stenderup 2_11_2019'!C24 -> OK FROS | D47: ='Sdr Stenderup 2_11_2019'!F24 -> 99 | E47: ='Kongebroskoven 09_11_2019'!F32 -> 86 | F47: ='Haraldskær 23_11_2019'!F35 -> 92 | G47: ='Hastrup 4_1_2020'!G39 -> 89 | J47: =SUM(D47:I47) -> 366
...
