Workbook

Sheet Sdr Stenderup 2_11_2019
A1: Resultater Vintercup Sdr. Stenderup 02/11-2019
A3: Maxi 1 H | B3: 7/7
A4: Placering | B4: Navn | C4: Klub | D4: Tid | E4: Efter | F4: Point
A5: 1 | B5: Kristian Blok | C5: OK SNAB | D5: 0.041886574 | F5: 100
A6: 2 | B6: Flemming Jørgensen | C6: OK SNAB | D6: 0.04337963 | E6: =D6-$D$5 -> 0.0014930556 | F6: 97
A7: 3 | B7: Thomas Blok | C7: OK SNAB | D7: 0.045162037 | E7: =D7-$D$5 -> 0.003275463 | F7: 95
A8: 4 | B8: Esben Blicher | C8: OK Melfar | D8: 0.073819444 | E8: =D8-$D$5 -> 0.03193287 | F8: 54
A9: 5 | B9: Jesper Madsen | C9: OK Melfar | D9: 0.078194444 | E9: =D9-$D$5 -> 0.03630787 | F9: 47
B10: Jens Liengaard | C10: OK SNAB | D10: Fejlklip
B11: Uffe Villumsen | C11: OK SNAB | D11: Udgået
A15: Maxi 1 D | B15: 1/1
A16: Placering | B16: Navn | C16: Klub | D16: Tid | E16: Efter | F16: Point
A17: 1 | B17: Rikke Binder | C17: OK GORM | D17: 0.052152778 | F17: 100
A19: 􏰭􏰁􏰜􏰕 􏰵􏰐􏰁􏰜􏰬􏰎􏰎􏰙􏰟 􏰷􏰤􏰤􏰁 􏰛􏰐􏰗􏰗􏰖􏰫􏰕􏰁􏰜
A21: Maxi 2 H | B21: 11/11
A22: Placering | B22: Navn | C22: Klub | D22: Tid | E22: Efter | F22: Point
A23: 1 | B23: Lars Højholt | C23: Kolding OK | D23: 0.04150463 | F23: 100
A24: 2 | B24: Bo Mønster Jørgensen | C24: OK FROS | D24: 0.041655093 | E24: =D24-$D$23 -> 0.00015046296 | F24: 99
A25: 3 | B25: Jonas Egdal | C25: OK Melfar | D25: 0.044074074 | E25: =D25-$D$23 -> 0.0025694444 | F25: 96
A26: 4 | B26: Brian Knudsen | C26: OK SNAB | D26: 0.044675926 | E26: =D26-$D$23 -> 0.0031712963 | F26: 95
A27: 5 | B27: Sven Madsen | C27: OK FROS | D27: 0.045798611 | E27: =D27-$D$23 -> 0.0042939815 | F27: 93
A28: 6 | B28: Henning Schou | C28: OK SNAB | D28: 0.048449074 | E28: =D28-$D$23 -> 0.0069444444 | F28: 90
A29: 7 | B29: Niels Møller | C29: OK FROS | D29: 0.051018519 | E29: =D29-$D$23 -> 0.0095138889 | F29: 86
A30: 8 | B30: Sven Erik Jakobsen | C30: OK GORM | D30: 0.055185185 | E30: =D30-$D$23 -> 0.013680556 | F30: 80
A31: 9 | B31: Laurits Egdal | C31: OK Melfar | D31: 0.059293981 | E31: =D31-$D$23 -> 0.017789352 | F31: 74
A32: 10 | B32: Torben Hansen | C32: OK FROS | D32: 0.059965278 | E32: =D32-$D$23 -> 0.018460648 | F32: 73
A33: 􏰡􏰠 􏰻􏰐􏰁􏰗􏰕 􏰀􏰮􏰗􏰗􏰁􏰙 | B33: Sten Sig Andersen | C33: Kolding OK | D33: Fejlklip
A37: Maxi 2 D | B37: 4/4
A38: Placering | B38: Navn | C38: Klub | D38: Tid | E38: Efter | F38: Point
A39: 1 | B39: Susanne Højholt | C39: Kolding OK | D39: 0.042569444 | F39: 100
A40: 2 | B40: Helle Schou | C40: OK SNAB | D40: 0.076608796 | E40: =D40-$D$39 -> 0.034039352 | F40: 50
A41: 3 | B41: Hanne Madsen | C41: Kolding OK | D41: 0.077847222 | E41: =D41-$D$39 -> 0.035277778 | F41: 49
B42: Christa Blach | C42: Kolding OK | D42: Udgået
A45: 􏰇􏰆􏰠 􏰵􏰎􏰖􏰙􏰐􏰘􏰕 􏰣􏰬􏰟􏰎􏰗
A46: Maxi 3 H | B46: 7/7
A47: Placering | B47: Navn | C47: Klub | D47: Tid | E47: Efter | F47: Point
A48: 1 | B48: Christian B. Hansen | C48: Kolding OK | D48: 0.041331019 | F48: 100
A49: 2 | B49: Jack Skrydstrup | C49: Kolding OK | D49: 0.048668981 | E49: =D49-$D$48 -> 0.007337963 | F49: 89
A50: 3 | B50: Ove Andersen | C50: OK GORM | D50: 0.058020833 | E50: =D50-$D$48 -> 0.016689815 | F50: 75
A51: 4 | B51: Niels J. M. Hansen | C51: Kolding OK | D51: 0.058923611 | E51: =D51-$D$48 -> 0.017592593 | F51: 74
...

Sheet Kongebroskoven 09_11_2019
A1: Resultater Vintercup Kongebroskoven 09/11-2019
A3: Maxi 1 H | B3: 11/11
A4: Placering | B4: Navn | C4: Klub | D4: Tid | E4: Efter | F4: Point
A5: 1 | B5: Thomas Blok | C5: OK SNAB | D5: 0.035601852 | F5: 100
A6: 2 | B6: Flemming Jørgensen | C6: OK SNAB | D6: 0.037407407 | E6: =D6-$D$5 -> 0.0018055556 | F6: 97
A7: 3 | B7: Kristian Blok | C7: OK SNAB | D7: 0.038055556 | E7: =D7-$D$5 -> 0.0024537037 | F7: 96
A8: 4 | B8: Michael Thygesen | C8: OK SNAB | D8: 0.042847222 | E8: =D8-$D$5 -> 0.0072453704 | F8: 89
A9: 5 | B9: Peter D. Fransen | C9: Kolding OK | D9: 0.044490741 | E9: =D9-$D$5 -> 0.0088888889 | F9: 87
A10: 6 | B10: Jens Liengård | C10: OK SNAB | D10: 0.048738426 | E10: =D10-$D$5 -> 0.013136574 | F10: 81
A11: 7 | B11: Uffe Villumsen | C11: OK SNAB | D11: 0.052592593 | E11: =D11-$D$5 -> 0.016990741 | F11: 75
A12: 8 | B12: Jens Laursen | C12: OK GORM | D12: 0.054398148 | E12: =D12-$D$5 -> 0.018796296 | F12: 72
A13: 9 | B13: Sten Jørgensen | C13: OK Melfar | D13: 0.061990741 | E13: =D13-$D$5 -> 0.026388889 | F13: 62
A14: 10 | B14: Martin Ringive | C14: OK GORM | D14: 0.065729167 | E14: =D14-$D$5 -> 0.030127315 | F14: 56
B15: Anders Thygesen | C15: Kolding OK
A19: Maxi 1 D | B19: 1/1
A20: Placering | B20: Navn | C20: Klub | D20: Tid | E20: Efter | F20: Point
A21: 1 | B21: Ulrika Ørnhagen Jørgensen | C21: OK SNAB | D21: 0.05037037 | F21: 100
A23: 􏰭􏰁􏰜􏰕 􏰵􏰐􏰁􏰜􏰬􏰎􏰎􏰙􏰟 􏰷􏰤􏰤􏰁 􏰛􏰐􏰗􏰗􏰖􏰫􏰕􏰁􏰜
A25: Maxi 2 H | B25: 17/17
A26: Placering | B26: Navn | C26: Klub | D26: Tid | E26: Efter | F26: Point
A27: 1 | B27: Magnus Fannar Madsen | C27: OK Melfar | D27: 0.035173611 | F27: 100
A28: 2 | B28: August Gabs | C28: OK Melfar | D28: 0.035300926 | E28: =D28-$D$27 -> 0.00012731481 | F28: 99
A29: 3 | B29: Peter Pihlkjær Nymann | C29: Kolding OK | D29: 0.036747685 | E29: =D29-$D$27 -> 0.0015740741 | F29: 97
A30: 4 | B30: Uffe Sudergaard | C30: OK Melfar | D30: 0.039166667 | E30: =D30-$D$27 -> 0.0039930556 | F30: 94
A31: 5 | B31: Thomas Sørensen | C31: OK Melfar | D31: 0.039618056 | E31: =D31-$D$27 -> 0.0044444444 | F31: 93
A32: 6 | B32: Bo Mønster Jørgensen | C32: OK FROS | D32: 0.044826389 | E32: =D32-$D$27 -> 0.0096527778 | F32: 86
A33: 7 | B33: Lars Højholt | C33: Kolding OK | D33: 0.0453125 | E33: =D33-$D$27 -> 0.010138889 | F33: 85
A34: 8 | B34: Brian Knudsen | C34: OK SNAB | D34: 0.045393519 | E34: =D34-$D$27 -> 0.010219907 | F34: 85
A35: 9 | B35: Jonas Egdal | C35: OK Melfar | D35: 0.045578704 | E35: =D35-$D$27 -> 0.010405093 | F35: 85
A36: 10 | B36: Peter Gammeljord | C36: OK SNAB | D36: 0.046122685 | E36: =D36-$D$27 -> 0.010949074 | F36: 84
A37: 11 | B37: Christian Ramus | C37: OK FROS | D37: 0.047303241 | E37: =D37-$D$27 -> 0.01212963 | F37: 82
A38: 12 | B38: Lars Thaasti | C38: OK SNAB | D38: 0.048796296 | E38: =D38-$D$27 -> 0.013622685 | F38: 80
A39: 13 | B39: Mandus Andresen | C39: Kolding OK | D39: 0.050289352 | E39: =D39-$D$27 -> 0.015115741 | F39: 78
A40: 14 | B40: Torben Hansen | C40: OK FROS | D40: 0.052511574 | E40: =D40-$D$27 -> 0.017337963 | F40: 75
B41: Flemming D. Andersen | C41: OK GORM | D41: Fejlklip
B42: Niels Møller | C42: OK FROS | D42: Fejlklip
B43: Steen Sig Andersen | C43: Kolding OK | D43: Fejlklip
A47: Maxi 2 D | B47: 5/5
A48: Placering | B48: Navn | C48: Klub | D48: Tid | E48: Efter | F48: Point
A49: 1 | B49: Susanne Højholt | C49: Kolding OK | D49: 0.045034722 | F49: 100
...

Sheet Haraldskær 23_11_2019
A1: Resultater Vintercup Haraldskær 23/11-2019
A3: Maxi 1 H | B3: 10/10
A4: Placering | B4: Navn | C4: Klub | D4: Tid | E4: Efter | F4: Point
A5: 1 | B5: Kristian Blok | C5: OK Snab | D5: 52:15 (1) | E5: +00:00 | F5: 100
A6: 2 | B6: Thomas Blok | C6: OK Snab | D6: 53:44 (2) | E6: +01:29 | F6: 98
A7: 3 | B7: Henrik Uhlemann | C7: Kolding OK | D7: 55:50 (3) | E7: +03:35 | F7: 96
A8: 4 | B8: Jesper Fenger Grøn | C8: OK Snab | D8: 56:49 (4) | E8: +04:34 | F8: 95
A9: 5 | B9: Stefan Keller | C9: Horsens OK | D9: 58:51 (5) | E9: +06:36 | F9: 93
A10: 6 | B10: Jens Liengård | C10: OK Snab | D10: 62:29 (7) | E10: +10:14 | F10: 89
A11: 7 | B11: Jesper Madsen | C11: OK Melfar | D11: 70:27 (8) | E11: +18:12 | F11: 81
A12: 8 | B12: Uffe Villumsen | C12: OK Snab | D12: 70:51 (9) | E12: +18:36 | F12: 81
A13: 9 | B13: Martin Ringive | C13: OK Gorm | D13: 84:36 (11) | E13: +32:21 | F13: 67
A14: 10 | B14: Kent Carøe | C14: OK Snab | D14: 106:50 (12) | E14: +54:35 | F14: 45
A18: Maxi 1 D | B18: 2/2
A19: Placering | B19: Navn | C19: Klub | D19: Tid | E19: Efter | F19: Point
A20: 1 | B20: Ulrika Örnhagen Jørgensen | C20: OK Snab | D20: 0.041435185 | E20: 0 | F20: 100
A21: 2 | B21: Karina Skouenborg | C21: OK Snab | D21: 0.051284722 | E21: =D21-D20 -> 0.009849537 | F21: 85
A25: Maxi 2 H | B25: 18/18
A26: Placering | B26: Navn | C26: Klub | D26: Tid | E26: Efter | F26: Point
A27: 1 | B27: Lars Eeg Højholt | C27: KOK | D27: 51:58 (1) | E27: +00:00 | F27: 100
A28: 2 | B28: Brian Knudsen | C28: OK Snab | D28: 53:06 (2) | E28: +01:08 | F28: 98
A29: 3 | B29: Uffe Sudergaard | C29: OK Melfar | D29: 54:12 (3) | E29: +02:14 | F29: 97
A30: 4 | B30: Magnus Fannar Madsen | C30: OK Melfar | D30: 55:01 (4) | E30: +03:03 | F30: 96
A31: 5 | B31: Jacob Bang | C31: OK Gorm | D31: 56:53 (5) | E31: +04:55 | F31: 95
A32: 6 | B32: Jonas Bo Kirk Egdal | C32: OK Melfar | D32: 57:46 (6) | E32: +05:48 | F32: 94
A33: 7 | B33: Sven Erik Jakobsen | C33: OK Gorm | D33: 58:44 (7) | E33: +06:46 | F33: 93
A34: 8 | B34: Per Eg Pedersen | C34: Kolding OK | D34: 59:11 (8) | E34: +07:13 | F34: 92
A35: 9 | B35: Bo Mønster Jørgensen | C35: OK FROS | D35: 59:36 (9) | E35: +07:38 | F35: 92
A36: 10 | B36: Steen Schelle Jensen | C36: OK Snab | D36: 63:04 (10) | E36: +11:06 | F36: 88
A37: 11 | B37: Peter Føns Knudsen | C37: OK Gorm | D37: 67:02 (11) | E37: +15:04 | F37: 84
A38: 12 | B38: Henrik Holm | C38: OK Gorm | D38: 68:49 (12) | E38: +16:51 | F38: 83
... A41: 15 | B41: Villy Kjeldsen | C41: OK Snab | D41: 105:00 (17) | E41: +53:02 | F41: 46
A42: - | B42: Niels Nygaard Jensen | C42: OK Snab | D42: utgått
A43: - | B43: Henning Schou | C43: OK Snab | D43: felst.
A44: - | B44: Flemming D. Andersen | C44: OK Gorm | D44: felst.
A49: Maxi 2 D | B49: 3/3
A50: Placering | B50: Navn | C50: Klub | D50: Tid | E50: Efter | F50: Point
A51: 1 | B51: Elise Utzen Keller | C51: Horsens OK | D51: 0.056064815 | E51: 0 | F51: 100
A52: 2 | B52: Helle Schou | C52: OK Snab | D52: 0.063622685 | E52: =D52-D51 -> 0.0075578704 | F52: 89
A53: - | B53: Inger Skibbild Bønding | C53: OK Gorm | D53: felst.
...

Sheet Hastrup 4_1_2020

Sheet Damgård 22_2_2020

Sheet Jelling 7_3_2020

Sheet Total
A1: Stillingen Vintercup 2019-2020
D2: 1. afd. | E2: 2. afd. | F2: 3. afd. | G2: 4. afd. | H2: 5. afd. | I2: 6. afd.
D3: Sdr. Stenderup | E3: Kongebroskoven | F3: Haraldskær | G3: Hastrup | H3: Damgård | I3: Jelling
D4: 43771 | E4: 43778 | F4: 43792 | G4: 43834 | H4: 43883 | I4: 43897 | J4: Total
A6: Maxi 1 H | B6: Navn | C6: Klub
A7: Placering
A8: 1 | B8: ='Sdr Stenderup 2_11_2019'!B5 -> Kristian Blok | C8: ='Sdr Stenderup 2_11_2019'!C5 -> OK SNAB | D8: ='Sdr Stenderup 2_11_2019'!F5 -> 100 | E8: ='Kongebroskoven 09_11_2019'!F7 -> 96 | F8: ='Haraldskær 23_11_2019'!F5 -> 100 | J8: =SUM(D8:I8) -> 296
A9: 2 | B9: ='Sdr Stenderup 2_11_2019'!B7 -> Thomas Blok | C9: ='Sdr Stenderup 2_11_2019'!C7 -> OK SNAB | D9: ='Sdr Stenderup 2_11_2019'!F7 -> 95 | E9: ='Kongebroskoven 09_11_2019'!F5 -> 100 | F9: ='Haraldskær 23_11_2019'!F6 -> 98 | J9: =SUM(D9:I9) -> 293
A10: 3 | B10: ='Sdr Stenderup 2_11_2019'!B6 -> Flemming Jørgensen | C10: ='Sdr Stenderup 2_11_2019'!C6 -> OK SNAB | D10: ='Sdr Stenderup 2_11_2019'!F6 -> 97 | E10: ='Kongebroskoven 09_11_2019'!F6 -> 97 | J10: =SUM(D10:I10) -> 194
A11: 4 | B11: ='Sdr Stenderup 2_11_2019'!B10 -> Jens Liengaard | C11: ='Sdr Stenderup 2_11_2019'!C10 -> OK SNAB | D11: ='Sdr Stenderup 2_11_2019'!F10 -> 0 | E11: ='Kongebroskoven 09_11_2019'!F10 -> 81 | F11: ='Haraldskær 23_11_2019'!F10 -> 89 | J11: =SUM(D11:I11) -> 170
A12: 5 | B12: ='Sdr Stenderup 2_11_2019'!B11 -> Uffe Villumsen | C12: ='Sdr Stenderup 2_11_2019'!C11 -> OK SNAB | D12: ='Sdr Stenderup 2_11_2019'!F11 -> 0 | E12: ='Kongebroskoven 09_11_2019'!F11 -> 75 | F12: ='Haraldskær 23_11_2019'!F12 -> 81 | J12: =SUM(D12:I12) -> 156
A13: 6 | B13: ='Sdr Stenderup 2_11_2019'!B9 -> Jesper Madsen | C13: ='Sdr Stenderup 2_11_2019'!C9 -> OK Melfar | D13: ='Sdr Stenderup 2_11_2019'!F9 -> 47 | F13: ='Haraldskær 23_11_2019'!F11 -> 81 | J13: =SUM(D13:I13) -> 128
A14: 7 | B14: ='Kongebroskoven 09_11_2019'!B14 -> Martin Ringive | C14: ='Kongebroskoven 09_11_2019'!C14 -> OK GORM | E14: ='Kongebroskoven 09_11_2019'!F14 -> 56 | F14: ='Haraldskær 23_11_2019'!F13 -> 67 | J14: =SUM(D14:I14) -> 123
A15: 8 | B15: ='Haraldskær 23_11_2019'!B7 -> Henrik Uhlemann | C15: ='Haraldskær 23_11_2019'!C7 -> Kolding OK | F15: ='Haraldskær 23_11_2019'!F7 -> 96 | J15: =SUM(D15:I15) -> 96
A16: 9 | B16: ='Haraldskær 23_11_2019'!B8 -> Jesper Fenger Grøn | C16: ='Haraldskær 23_11_2019'!C8 -> OK Snab | F16: ='Haraldskær 23_11_2019'!F8 -> 95 | J16: =SUM(D16:I16) -> 95
A17: 10 | B17: ='Haraldskær 23_11_2019'!B9 -> Stefan Keller | C17: ='Haraldskær 23_11_2019'!C9 -> Horsens OK | F17: ='Haraldskær 23_11_2019'!F9 -> 93 | J17: =SUM(D17:I17) -> 93
A18: 11 | B18: ='Kongebroskoven 09_11_2019'!B8 -> Michael Thygesen | C18: ='Kongebroskoven 09_11_2019'!C8 -> OK SNAB | E18: ='Kongebroskoven 09_11_2019'!F8 -> 89 | J18: =SUM(D18:I18) -> 89
A19: 12 | B19: ='Kongebroskoven 09_11_2019'!B9 -> Peter D. Fransen | C19: ='Kongebroskoven 09_11_2019'!C9 -> Kolding OK | E19: ='Kongebroskoven 09_11_2019'!F9 -> 87 | J19: =SUM(D19:I19) -> 87
A20: 13 | B20: ='Kongebroskoven 09_11_2019'!B12 -> Jens Laursen | C20: ='Kongebroskoven 09_11_2019'!C12 -> OK GORM | E20: ='Kongebroskoven 09_11_2019'!F12 -> 72 | J20: =SUM(D20:I20) -> 72
A21: 14 | B21: ='Kongebroskoven 09_11_2019'!B13 -> Sten Jørgensen | C21: ='Kongebroskoven 09_11_2019'!C13 -> OK Melfar | E21: ='Kongebroskoven 09_11_2019'!F13 -> 62 | J21: =SUM(D21:I21) -> 62
A22: 15 | B22: ='Sdr Stenderup 2_11_2019'!B8 -> Esben Blicher | C22: ='Sdr Stenderup 2_11_2019'!C8 -> OK Melfar | D22: ='Sdr Stenderup 2_11_2019'!F8 -> 54 | J22: =SUM(D22:I22) -> 54
A23: 16 | B23: ='Haraldskær 23_11_2019'!B14 -> Kent Carøe | C23: ='Haraldskær 23_11_2019'!C14 -> OK Snab | F23: ='Haraldskær 23_11_2019'!F14 -> 45 | J23: =SUM(D23:I23) -> 45
B24: ='Kongebroskoven 09_11_2019'!B15 -> Anders Thygesen | C24: ='Kongebroskoven 09_11_2019'!C15 -> Kolding OK | E24: ='Kongebroskoven 09_11_2019'!F15 -> 0 | J24: =SUM(D24:I24) -> 0
A28: Maxi 1 D
A29: Placering
A30: 1 | B30: ='Kongebroskoven 09_11_2019'!B21 -> Ulrika Ørnhagen Jørgensen | C30: ='Kongebroskoven 09_11_2019'!C21 -> OK SNAB | E30: ='Kongebroskoven 09_11_2019'!F21 -> 100 | F30: ='Haraldskær 23_11_2019'!F20 -> 100 | J30: =SUM(D30:I30) -> 200
A31: 2 | B31: ='Sdr Stenderup 2_11_2019'!B17 -> Rikke Binder | C31: ='Sdr Stenderup 2_11_2019'!C17 -> OK GORM | D31: ='Sdr Stenderup 2_11_2019'!F17 -> 100 | J31: =SUM(D31:I31) -> 100
A32: 3 | B32: ='Haraldskær 23_11_2019'!B21 -> Karina Skouenborg | C32: ='Haraldskær 23_11_2019'!C21 -> OK Snab | F32: ='Haraldskær 23_11_2019'!F21 -> 85 | J32: =SUM(D32:I32) -> 85
A36: Maxi 2 H
A37: Placering
A38: 1 | B38: ='Sdr Stenderup 2_11_2019'!B23 -> Lars Højholt | C38: ='Sdr Stenderup 2_11_2019'!C23 -> Kolding OK | D38: ='Sdr Stenderup 2_11_2019'!F23 -> 100 | E38: ='Kongebroskoven 09_11_2019'!F33 -> 85 | F38: ='Haraldskær 23_11_2019'!F27 -> 100 | J38: =SUM(D38:I38) -> 285
A39: 2 | B39: ='Sdr Stenderup 2_11_2019'!B26 -> Brian Knudsen | C39: ='Sdr Stenderup 2_11_2019'!C26 -> OK SNAB | D39: ='Sdr Stenderup 2_11_2019'!F26 -> 95 | E39: ='Kongebroskoven 09_11_2019'!F34 -> 85 | F39: ='Haraldskær 23_11_2019'!F28 -> 98 | J39: =SUM(D39:I39) -> 278
A40: 3 | B40: ='Sdr Stenderup 2_11_2019'!B24 -> Bo Mønster Jørgensen | C40: ='Sdr Stenderup 2_11_2019'!C24 -> OK FROS | D40: ='Sdr Stenderup 2_11_2019'!F24 -> 99 | E40: ='Kongebroskoven 09_11_2019'!F32 -> 86 | F40: ='Haraldskær 23_11_2019'!F35 -> 92 | J40: =SUM(D40:I40) -> 277
A41: 4 | B41: ='Haraldskær 23_11_2019'!B32 -> Jonas Bo Kirk Egdal | C41: ='Sdr Stenderup 2_11_2019'!C25 -> OK Melfar | D41: ='Sdr Stenderup 2_11_2019'!F25 -> 96 | E41: ='Kongebroskoven 09_11_2019'!F35 -> 85 | F41: ='Haraldskær 23_11_2019'!F32 -> 94 | J41: =SUM(D41:I41) -> 275
A42: 5 | B42: ='Sdr Stenderup 2_11_2019'!B32 -> Torben Hansen | C42: ='Sdr Stenderup 2_11_2019'!C32 -> OK FROS | D42: ='Sdr Stenderup 2_11_2019'!F32 -> 73 | E42: ='Kongebroskoven 09_11_2019'!F40 -> 75 | F42: ='Haraldskær 23_11_2019'!F39 -> 79 | J42: =SUM(D42:I42) -> 227
A43: 6 | B43: ='Kongebroskoven 09_11_2019'!B27 -> Magnus Fannar Madsen | C43: ='Kongebroskoven 09_11_2019'!C27 -> OK Melfar | E43: ='Kongebroskoven 09_11_2019'!F27 -> 100 | F43: ='Haraldskær 23_11_2019'!F30 -> 96 | J43: =SUM(D43:I43) -> 196
A44: 7 | B44: ='Kongebroskoven 09_11_2019'!B30 -> Uffe Sudergaard | C44: ='Kongebroskoven 09_11_2019'!C30 -> OK Melfar | E44: ='Kongebroskoven 09_11_2019'!F30 -> 94 | F44: ='Haraldskær 23_11_2019'!F29 -> 97 | J44: =SUM(D44:I44) -> 191
A45: 8 | B45: ='Sdr Stenderup 2_11_2019'!B30 -> Sven Erik Jakobsen | C45: ='Sdr Stenderup 2_11_2019'!C30 -> OK GORM | D45: ='Sdr Stenderup 2_11_2019'!F30 -> 80 | F45: ='Haraldskær 23_11_2019'!F33 -> 93 | J45: =SUM(D45:I45) -> 173
A46: 9 | B46: ='Haraldskær 23_11_2019'!B40 -> Niels Møller Petersen | C46: ='Sdr Stenderup 2_11_2019'!C29 -> OK FROS | D46: ='Sdr Stenderup 2_11_2019'!F29 -> 86 | E46: ='Kongebroskoven 09_11_2019'!F42 -> 0 | F46: ='Haraldskær 23_11_2019'!F40 -> 78 | J46: =SUM(D46:I46) -> 164
A47: 10 | B47: ='Kongebroskoven 09_11_2019'!B28 -> August Gabs | C47: ='Kongebroskoven 09_11_2019'!C28 -> OK Melfar | E47: ='Kongebroskoven 09_11_2019'!F28 -> 99 | J47: =SUM(D47:I47) -> 99
...
