Workbook

Sheet Sdr Stenderup 2_11_2019
A1: Resultater Vintercup Sdr. Stenderup 02/11-2019
A3: Maxi 1 H | B3: 7/7
A4: Placering | B4: Navn | C4: Klub | D4: Tid | E4: Efter | F4: Point
A5: 1 | B5: Kristian Blok | C5: OK SNAB | D5: 0.041886574 | F5: 100
A6: 2 | B6: Flemming Jørgensen | C6: OK SNAB | D6: 0.04337963 | E6: =D6-$D$5 -> 0.0014930556 | F6: 97
A7: 3 | B7: Thomas Blok | C7: OK SNAB | D7: 0.045162037 | E7: =D7-$D$5 -> 0.003275463 | F7: 95
A8: 4 | B8: Esben Blicher | C8: OK Melfar | D8: 0.073819444 | E8: =D8-$D$5 -> 0.03193287 | F8: 54
A9: 5 | B9: Jesper Madsen | C9: OK Melfar | D9: 0.078194444 | E9: =D9-$D$5 -> 0.03630787 | F9: 47
B10: Jens Liengaard | C10: OK SNAB | D10: Fejlklip
B11: Uffe Villumsen | C11: OK SNAB | D11: Udgået
A15: Maxi 1 D | B15: 1/1
A16: Placering | B16: Navn | C16: Klub | D16: Tid | E16: Efter | F16: Point
A17: 1 | B17: Rikke Binder | C17: OK GORM | D17: 0.052152778 | F17: 100
A19: 􏰭􏰁􏰜􏰕 􏰵􏰐􏰁􏰜􏰬􏰎􏰎􏰙􏰟 􏰷􏰤􏰤􏰁 􏰛􏰐􏰗􏰗􏰖􏰫􏰕􏰁􏰜
A21: Maxi 2 H | B21: 11/11
A22: Placering | B22: Navn | C22: Klub | D22: Tid | E22: Efter | F22: Point
A23: 1 | B23: Lars Højholt | C23: Kolding OK | D23: 0.04150463 | F23: 100
A24: 2 | B24: Bo Mønster Jørgensen | C24: OK FROS | D24: 0.041655093 | E24: =D24-$D$23 -> 0.00015046296 | F24: 99
A25: 3 | B25: Jonas Egdal | C25: OK Melfar | D25: 0.044074074 | E25: =D25-$D$23 -> 0.0025694444 | F25: 96
A26: 4 | B26: Brian Knudsen | C26: OK SNAB | D26: 0.044675926 | E26: =D26-$D$23 -> 0.0031712963 | F26: 95
A27: 5 | B27: Sven Madsen | C27: OK FROS | D27: 0.045798611 | E27: =D27-$D$23 -> 0.0042939815 | F27: 93
A28: 6 | B28: Henning Schou | C28: OK SNAB | D28: 0.048449074 | E28: =D28-$D$23 -> 0.0069444444 | F28: 90
A29: 7 | B29: Niels Møller | C29: OK FROS | D29: 0.051018519 | E29: =D29-$D$23 -> 0.0095138889 | F29: 86
A30: 8 | B30: Sven Erik Jakobsen | C30: OK GORM | D30: 0.055185185 | E30: =D30-$D$23 -> 0.013680556 | F30: 80
A31: 9 | B31: Laurits Egdal | C31: OK Melfar | D31: 0.059293981 | E31: =D31-$D$23 -> 0.017789352 | F31: 74
A32: 10 | B32: Torben Hansen | C32: OK FROS | D32: 0.059965278 | E32: =D32-$D$23 -> 0.018460648 | F32: 73
A33: 􏰡􏰠 􏰻􏰐􏰁􏰗􏰕 􏰀􏰮􏰗􏰗􏰁􏰙 | B33: Sten Sig Andersen | C33: Kolding OK | D33: Fejlklip
A37: Maxi 2 D | B37: 4/4
A38: Placering | B38: Navn | C38: Klub | D38: Tid | E38: Efter | F38: Point
A39: 1 | B39: Susanne Højholt | C39: Kolding OK | D39: 0.042569444 | F39: 100
A40: 2 | B40: Helle Schou | C40: OK SNAB | D40: 0.076608796 | E40: =D40-$D$39 -> 0.034039352 | F40: 50
A41: 3 | B41: Hanne Madsen | C41: Kolding OK | D41: 0.077847222 | E41: =D41-$D$39 -> 0.035277778 | F41: 49
B42: Christa Blach | C42: Kolding OK | D42: Udgået
A45: 􏰇􏰆􏰠 􏰵􏰎􏰖􏰙􏰐􏰘􏰕 􏰣􏰬􏰟􏰎􏰗
A46: Maxi 3 H | B46: 7/7
A47: Placering | B47: Navn | C47: Klub | D47: Tid | E47: Efter | F47: Point
A48: 1 | B48: Christian B. Hansen | C48: Kolding OK | D48: 0.041331019 | F48: 100
A49: 2 | B49: Jack Skrydstrup | C49: Kolding OK | D49: 0.048668981 | E49: =D49-$D$48 -> 0.007337963 | F49: 89
A50: 3 | B50: Ove Andersen | C50: OK GORM | D50: 0.058020833 | E50: =D50-$D$48 -> 0.016689815 | F50: 75
A51: 4 | B51: Niels J. M. Hansen | C51: Kolding OK | D51: 0.058923611 | E51: =D51-$D$48 -> 0.017592593 | F51: 74
A52: 􏰀􏰎􏰏􏰐 􏰰 | B52: Bent Jacobsen | C52: Kolding OK | D52: Fejlklip
B53: Jørgen Thomsen | C53: Kolding OK | D53: Fejlklip
A54: 􏰇􏰠 􏰼􏰱􏰙􏰐􏰕􏰘􏰐􏰎􏰜 􏰦􏰠 􏰹􏰎􏰜􏰕􏰁􏰜 | B54: Stig Hansen | C54: OK Melfar | D54: Udgået
A56: 􏰅􏰠 􏰽􏰜􏰜􏰁􏰫􏰁􏰘􏰘􏰁 􏰽􏰩􏰞􏰗􏰎􏰜􏰎􏰗􏰞
A58: Maxi 3 D | B58: 3/3
A59: Placering | B59: Navn | C59: Klub | D59: Tid | E59: Efter | F59: Point
A60: 1 | B60: Annemette Aplanalp | C60: Kolding OK | D60: 0.041493056 | F60: 100
A61: 2 | B61: Lone Knudsen | C61: OK SNAB | D61: 0.044247685 | E61: =D61-$D$60 -> 0.0027546296 | F61: 96
A62: 3 | B62: Ida Hansen | C62: Kolding OK | D62: 0.047118056 | E62: =D62-$D$60 -> 0.005625 | F62: 91
A66: Midi H | B66: 4/4
A67: Placering | B67: Navn | C67: Klub | D67: Tid | E67: Efter | F67: Point
A68: 1 | B68: Aksel Örnhagen | C68: OK SNAB | D68: 0.0228125 | F68: 100
A69: 2 | B69: Valdemar Kortegård | C69: OK Melfar | D69: 0.034953704 | E69: =D69-$D$68 -> 0.012141204 | F69: 82
A70: 􏰦􏰁􏰜􏰘 􏰭􏰎􏰝􏰧􏰩􏰕􏰁􏰜 􏰭􏰮􏰙􏰬􏰁􏰜 􏰢􏰱􏰧􏰫􏰕􏰁􏰜 􏰃􏰘􏰐􏰬 􏰹􏰎􏰜􏰕􏰁􏰜 | B70: Sejer Rosenvinge | C70: OK SNAB | D70: Fejlklip
B71: Hans-Christian Ross Hansen | C71: OK GORM | D71: Udgået
A73: 􏰅􏰠 􏰛􏰎􏰗􏰟􏰁􏰫􏰎􏰙 􏰥􏰧􏰙􏰘􏰁􏰬􏰸􏰙􏰟
A75: Midi D | B75: 1/1
A76: Placering | B76: Navn | C76: Klub | D76: Tid | E76: Efter | F76: Point
A77: 1 | B77: Johanna Madsen | C77: OK Melfar | D77: 0.060868056 | F77: 100
A79: 􏰑􏰡 􏰒 􏰡􏰓
A81: 􏰂􏰥 􏰃􏰜􏰎􏰩 􏰂􏰥 􏰃􏰜􏰎􏰩 􏰂􏰥 􏰃􏰜􏰎􏰩 􏰂􏰥 􏰳􏰧􏰙􏰫 􏰂􏰥 􏰀􏰁􏰗􏰤􏰎􏰙 􏰂􏰥 􏰀􏰁􏰗􏰤􏰎􏰙 􏰂􏰥 􏰃􏰜􏰎􏰩 􏰂􏰥 􏰃􏰜􏰎􏰩
A82: Mini H | B82: 3/3
A83: Placering | B83: Navn | C83: Klub | D83: Tid | E83: Efter | F83: Point
A84: 1 | B84: Michael Sejersbøll | C84: Kolding OK | D84: 0.025393519 | F84: 100
A85: 2 | B85: Felix Sejersbøll | C85: Kolding OK | D85: 0.029143519 | E85: =D85-$D$84 -> 0.00375 | F85: 94
A86: 3 | B86: Uffe Sudergaard | C86: OK Melfar | D86: 0.058564815 | E86: =D86-$D$84 -> 0.033171296 | F86: UFK
A87: 􏰂􏰥 􏰃􏰜􏰎􏰩 􏰂􏰥 􏰀􏰁􏰗􏰤􏰎􏰙 􏰂􏰥 􏰀􏰁􏰗􏰤􏰎􏰙 􏰂􏰥 􏰃􏰜􏰎􏰩 􏰂􏰥 􏰳􏰧􏰙􏰫
A89: 􏰢􏰐􏰟 􏰣􏰤􏰘􏰁􏰙
A90: Mini D | B90: 6/6
A91: Placering | B91: Navn | C91: Klub | D91: Tid | E91: Efter | F91: Point
A92: 1 | B92: Anne Sofie Olsen | C92: OK GORM | D92: 0.01869213 | F92: 100
A93: 2 | B93: Janne Sejersbøll | C93: Kolding OK | D93: 0.030752315 | E93: =D93-$D$92 -> 0.012060185 | F93: 82
A94: 3 | B94: Frida Sejersbøll | C94: Kolding OK | D94: 0.031643519 | E94: =D94-$D$92 -> 0.012951389 | F94: 81
A95: 4 | B95: Sofie Rohde Jørgensen | C95: OK FROS | D95: 0.034953704 | E95: =D95-$D$92 -> 0.016261574 | F95: 76
A96: 5 | B96: Alberte Seir | C96: OK GORM | D96: 0.039664352 | E96: =D96-$D$92 -> 0.020972222 | F96: 69
A97: 6 | B97: Aase Eg | C97: Kolding OK | D97: 0.044791667 | E97: =D97-$D$92 -> 0.026099537 | F97: UFK
A98: 􏰲􏰈􏰋􏰲􏰈 􏰯􏰆􏰋􏰇􏰰 􏰇􏰋􏰆􏰇􏰋􏰇􏰡 􏰯􏰇􏰋􏰰􏰅 􏰇􏰋􏰆􏰰􏰋􏰅􏰡 􏰯􏰰􏰋􏰊􏰅 􏰇􏰋􏰆􏰊􏰋􏰅􏰆 􏰯􏰊􏰋􏰰􏰊 􏰇􏰋􏰆􏰲􏰋􏰲􏰌 􏰯􏰴􏰋􏰇􏰇 􏰇􏰋􏰆􏰈􏰋􏰊􏰴 􏰯􏰇􏰆􏰋􏰆􏰆 􏰇􏰋􏰇􏰰􏰋􏰅􏰡 􏰯􏰇􏰰􏰋􏰊􏰅 􏰇􏰋􏰇􏰈􏰋􏰅􏰡 􏰯􏰇􏰈􏰋􏰊􏰅 􏰇􏰋􏰅􏰲􏰋􏰅􏰰 􏰯􏰅􏰲􏰋􏰰􏰌 􏰇􏰋􏰅􏰴􏰋􏰅􏰇 􏰯􏰅􏰴􏰋􏰰􏰲 􏰇􏰋􏰲􏰆􏰋􏰇􏰈 􏰯􏰲􏰆􏰋􏰰􏰰 􏰇􏰋􏰲􏰅􏰋􏰆􏰴 􏰯􏰲􏰅􏰋􏰅􏰆 􏰪􏰁􏰶􏰗􏰨􏰗􏰐􏰞
A99: 􏰷􏰟􏰬􏰸􏰁􏰘
A101: 􏰢􏰐􏰟 􏰣􏰤􏰘􏰁􏰙
A103: 􏰲􏰈􏰋􏰰􏰇
A104: 􏰲􏰈􏰋􏰊􏰲 􏰯􏰆􏰋􏰇􏰊 􏰇􏰋􏰆􏰰􏰋􏰊􏰰 􏰯􏰊􏰋􏰇􏰅 􏰇􏰋􏰆􏰌􏰋􏰲􏰇 􏰯􏰡􏰋􏰅􏰆 􏰇􏰋􏰇􏰆􏰋􏰆􏰲 􏰯􏰇􏰆􏰋􏰰􏰊 􏰇􏰋􏰅􏰰􏰋􏰰􏰰 􏰯􏰅􏰊􏰋􏰆􏰅 􏰇􏰋􏰅􏰊􏰋􏰲􏰇 􏰯􏰅􏰲􏰋􏰅􏰆 􏰪􏰁􏰶􏰗􏰨􏰗􏰐􏰞
A105: 􏰪􏰁􏰶􏰗􏰨􏰗􏰐􏰞
A106: 􏰷􏰟􏰬􏰸􏰁􏰘
A108: 􏰢􏰐􏰟 􏰣􏰤􏰘􏰁􏰙
A110: 􏰰􏰅􏰋􏰲􏰇
A111: 􏰲􏰆􏰋􏰅􏰆 􏰯􏰇􏰌􏰋􏰅􏰈 􏰇􏰋􏰅􏰌􏰋􏰰􏰈 􏰯􏰲􏰊􏰋􏰊􏰡 􏰪􏰁􏰶􏰗􏰨􏰗􏰐􏰞
A112: 􏰷􏰟􏰬􏰸􏰁􏰘
A114: 􏰀􏰁􏰂􏰃 􏰅􏰆􏰇􏰈􏰉􏰇􏰇􏰉􏰆􏰅 􏰇􏰊􏰋􏰊􏰈􏰋􏰇􏰌􏰍 􏰀􏰎􏰏􏰐 􏰇􏰍 􏰑􏰇􏰒􏰅􏰓
... A143: 􏰰􏰴􏰋􏰰􏰊 􏰯􏰈􏰋􏰰􏰈 􏰊􏰇􏰋􏰲􏰡 􏰯􏰇􏰲􏰋􏰆􏰰 􏰊􏰊􏰋􏰇􏰌 􏰯􏰇􏰌􏰋􏰅􏰅 􏰊􏰲􏰋􏰰􏰊 􏰯􏰇􏰡􏰋􏰰􏰈 􏰲􏰆􏰋􏰅􏰆 􏰯􏰅􏰰􏰋􏰅􏰲 􏰲􏰌􏰋􏰆􏰌 􏰯􏰰􏰆􏰋􏰇􏰅 􏰇􏰋􏰆􏰊􏰋􏰰􏰆 􏰯􏰰􏰌􏰋􏰰􏰲 􏰇􏰋􏰅􏰊􏰋􏰅􏰆 􏰯􏰲􏰌􏰋􏰅􏰲

Sheet Kongebroskoven 09_11_2019
A1: Resultater Vintercup Kongebroskoven 09/11-2019
A3: Maxi 1 H | B3: 11/11
A4: Placering | B4: Navn | C4: Klub | D4: Tid | E4: Efter | F4: Point
A5: 1 | B5: Thomas Blok | C5: OK SNAB | D5: 0.035601852 | F5: 100
A6: 2 | B6: Flemming Jørgensen | C6: OK SNAB | D6: 0.037407407 | E6: =D6-$D$5 -> 0.0018055556 | F6: 97
A7: 3 | B7: Kristian Blok | C7: OK SNAB | D7: 0.038055556 | E7: =D7-$D$5 -> 0.0024537037 | F7: 96
A8: 4 | B8: Michael Thygesen | C8: OK SNAB | D8: 0.042847222 | E8: =D8-$D$5 -> 0.0072453704 | F8: 89
A9: 5 | B9: Peter D. Fransen | C9: Kolding OK | D9: 0.044490741 | E9: =D9-$D$5 -> 0.0088888889 | F9: 87
A10: 6 | B10: Jens Liengård | C10: OK SNAB | D10: 0.048738426 | E10: =D10-$D$5 -> 0.013136574 | F10: 81
A11: 7 | B11: Uffe Villumsen | C11: OK SNAB | D11: 0.052592593 | E11: =D11-$D$5 -> 0.016990741 | F11: 75
A12: 8 | B12: Jens Laursen | C12: OK GORM | D12: 0.054398148 | E12: =D12-$D$5 -> 0.018796296 | F12: 72
A13: 9 | B13: Sten Jørgensen | C13: OK Melfar | D13: 0.061990741 | E13: =D13-$D$5 -> 0.026388889 | F13: 62
A14: 10 | B14: Martin Ringive | C14: OK GORM | D14: 0.065729167 | E14: =D14-$D$5 -> 0.030127315 | F14: 56
B15: Anders Thygesen | C15: Kolding OK
A19: Maxi 1 D | B19: 1/1
A20: Placering | B20: Navn | C20: Klub | D20: Tid | E20: Efter | F20: Point
A21: 1 | B21: Ulrika Ørnhagen Jørgensen | C21: OK SNAB | D21: 0.05037037 | F21: 100
A23: 􏰭􏰁􏰜􏰕 􏰵􏰐􏰁􏰜􏰬􏰎􏰎􏰙􏰟 􏰷􏰤􏰤􏰁 􏰛􏰐􏰗􏰗􏰖􏰫􏰕􏰁􏰜
A25: Maxi 2 H | B25: 17/17
A26: Placering | B26: Navn | C26: Klub | D26: Tid | E26: Efter | F26: Point
A27: 1 | B27: Magnus Fannar Madsen | C27: OK Melfar | D27: 0.035173611 | F27: 100
A28: 2 | B28: August Gabs | C28: OK Melfar | D28: 0.035300926 | E28: =D28-$D$27 -> 0.00012731481 | F28: 99
A29: 3 | B29: Peter Pihlkjær Nymann | C29: Kolding OK | D29: 0.036747685 | E29: =D29-$D$27 -> 0.0015740741 | F29: 97
A30: 4 | B30: Uffe Sudergaard | C30: OK Melfar | D30: 0.039166667 | E30: =D30-$D$27 -> 0.0039930556 | F30: 94
A31: 5 | B31: Thomas Sørensen | C31: OK Melfar | D31: 0.039618056 | E31: =D31-$D$27 -> 0.0044444444 | F31: 93
A32: 6 | B32: Bo Mønster Jørgensen | C32: OK FROS | D32: 0.044826389 | E32: =D32-$D$27 -> 0.0096527778 | F32: 86
A33: 7 | B33: Lars Højholt | C33: Kolding OK | D33: 0.0453125 | E33: =D33-$D$27 -> 0.010138889 | F33: 85
A34: 8 | B34: Brian Knudsen | C34: OK SNAB | D34: 0.045393519 | E34: =D34-$D$27 -> 0.010219907 | F34: 85
A35: 9 | B35: Jonas Egdal | C35: OK Melfar | D35: 0.045578704 | E35: =D35-$D$27 -> 0.010405093 | F35: 85
A36: 10 | B36: Peter Gammeljord | C36: OK SNAB | D36: 0.046122685 | E36: =D36-$D$27 -> 0.010949074 | F36: 84
A37: 11 | B37: Christian Ramus | C37: OK FROS | D37: 0.047303241 | E37: =D37-$D$27 -> 0.01212963 | F37: 82
A38: 12 | B38: Lars Thaasti | C38: OK SNAB | D38: 0.048796296 | E38: =D38-$D$27 -> 0.013622685 | F38: 80
A39: 13 | B39: Mandus Andresen | C39: Kolding OK | D39: 0.050289352 | E39: =D39-$D$27 -> 0.015115741 | F39: 78
A40: 14 | B40: Torben Hansen | C40: OK FROS | D40: 0.052511574 | E40: =D40-$D$27 -> 0.017337963 | F40: 75
B41: Flemming D. Andersen | C41: OK GORM | D41: Fejlklip
B42: Niels Møller | C42: OK FROS | D42: Fejlklip
B43: Steen Sig Andersen | C43: Kolding OK | D43: Fejlklip
A47: Maxi 2 D | B47: 5/5
A48: Placering | B48: Navn | C48: Klub | D48: Tid | E48: Efter | F48: Point
A49: 1 | B49: Susanne Højholt | C49: Kolding OK | D49: 0.045034722 | F49: 100
A50: 2 | B50: Nicoline Lorenzen | C50: Kolding OK | D50: 0.045694444 | E50: =D50-$D$49 -> 0.00065972222 | F50: 99
A51: 3 | B51: Dorthe Rosenvinge | C51: OK SNAB | D51: 0.057465278 | E51: =D51-$D$49 -> 0.012430556 | F51: 82
A52: 4 | B52: Irene Gammeljord | C52: OK SNAB | D52: 0.06162037 | E52: =D52-$D$49 -> 0.016585648 | F52: 76
B53: Anne Sofie Motzkus | C53: Kolding OK | E53: Fejlklip
A55: 􏰇􏰆􏰠 􏰵􏰎􏰖􏰙􏰐􏰘􏰕 􏰣􏰬􏰟􏰎􏰗
A56: Maxi 3 H | B56: 6/6
A57: Placering | B57: Navn | C57: Klub | D57: Tid | E57: Efter | F57: Point
A58: 1 | B58: Jack Skrydstrup | C58: Kolding OK | D58: 0.035949074 | F58: 100
A59: 2 | B59: Poul A. Christensen | C59: OK SNAB | D59: 0.037719907 | E59: =D59-$D$58 -> 0.0017708333 | F59: 97
A60: 3 | B60: Stig Hansen | C60: OK Melfar | D60: 0.044571759 | E60: =D60-$D$58 -> 0.0086226852 | F60: 87
A61: 4 | B61: Christian B. Hansen | C61: Kolding OK | D61: 0.045868056 | E61: =D61-$D$58 -> 0.0099189815 | F61: 85
A62: 5 | B62: Niels J. M. Hansen | C62: Kolding OK | D62: 0.057719907 | E62: =D62-$D$58 -> 0.021770833 | F62: 68
A63: 6 | B63: Per Simonsen | C63: OK SNAB | D63: 0.063263889 | E63: =D63-$D$58 -> 0.027314815 | F63: 60
A65: 􏰅􏰠 􏰽􏰜􏰜􏰁􏰫􏰁􏰘􏰘􏰁 􏰽􏰩􏰞􏰗􏰎􏰜􏰎􏰗􏰞
A67: Maxi 3 D | B67: 43622
A68: Placering | B68: Navn | C68: Klub | D68: Tid | E68: Efter | F68: Point
A69: 1 | B69: Lone Knudsen | C69: OK SNAB | D69: 0.03244213 | F69: 100
A70: 2 | B70: Anne Mette Abplanalp | C70: Kolding OK | D70: 0.0359375 | E70: =D70-$D$69 -> 0.0034953704 | F70: 94
A71: 3 | B71: Malene Kaysen Thomsen | C71: OK SNAB | D71: 0.041331019 | E71: =D71-$D$69 -> 0.0088888889 | F71: 87
A72: 4 | B72: Bente Ringive | C72: OK GORM | D72: 0.046053241 | E72: =D72-$D$69 -> 0.013611111 | F72: 80
A73: 5 | B73: Anne Grethe Eriksen | C73: OK FROS | D73: 0.047731481 | E73: =D73-$D$69 -> 0.015289352 | F73: 77
B74: Jette Lützow Nielsen | C74: Kolding OK | D74: Fejlklip
A78: Midi H | B78: 5/5
A79: Placering | B79: Navn | C79: Klub | D79: Tid | E79: Efter | F79: Point
A80: 1 | B80: Axel Ørnhagen Jørgensen | C80: OK SNAB | D80: 0.028009259 | F80: 100
A81: 2 | B81: Peter Sebastian Petersen | C81: OK SNAB | D81: 0.034282407 | E81: =D81-$D$80 -> 0.0062731481 | F81: 90
A82: 3 | B82: Valdemar Egdal Kortegaard | C82: OK Melfar | D82: 0.036377315 | E82: =D82-$D$80 -> 0.0083680556 | F82: 87
A83: 4 | B83: Niels Erik Uhlemann | C83: Kolding OK | D83: 0.088171296 | E83: =D83-$D$80 -> 0.060162037 | F83: 13
B84: Magnus Lindal | C84: OK Melfar
A87: 􏰦􏰁􏰜􏰘 􏰭􏰎􏰝􏰧􏰩􏰕􏰁􏰜 􏰭􏰮􏰙􏰬􏰁􏰜 􏰢􏰱􏰧􏰫􏰕􏰁􏰜 􏰃􏰘􏰐􏰬 􏰹􏰎􏰜􏰕􏰁􏰜
A88: Midi D | B88: 2/2
A89: Placering | B89: Navn | C89: Klub | D89: Tid | E89: Efter | F89: Point
A90: 1 | B90: Johanne Madsen | C90: OK Melfar | D90: 0.055347222 | F90: 100
B91: Lene Koch Foster | C91: Kolding OK | D91: Fejlklip
A92: 􏰑􏰡 􏰒 􏰡􏰓
A94: 􏰂􏰥 􏰃􏰜􏰎􏰩 􏰂􏰥 􏰃􏰜􏰎􏰩 􏰂􏰥 􏰃􏰜􏰎􏰩 􏰂􏰥 􏰳􏰧􏰙􏰫 􏰂􏰥 􏰀􏰁􏰗􏰤􏰎􏰙 􏰂􏰥 􏰀􏰁􏰗􏰤􏰎􏰙 􏰂􏰥 􏰃􏰜􏰎􏰩 􏰂􏰥 􏰃􏰜􏰎􏰩
A95: Mini H | B95: 8/8
A96: Placering | B96: Navn | C96: Klub | D96: Tid | E96: Efter | F96: Point
B97: Asger Kjærsgaard Jensen | C97: OK SNAB | D97: 0.020486111 | F97: UFK
A98: 1 | B98: Jens Ole Kjærsgaard | C98: OK SNAB | D98: 0.020509259 | E98: =D98-$D$97 -> 2.3148148e-05 | F98: 100
A99: 2 | B99: Kim Lindal | C99: OK Melfar | D99: 0.026111111 | E99: =D99-$D$97 -> 0.005625 | F99: 91
A100: 3 | B100: Emil Lindahl | C100: OK Melfar | D100: 0.027546296 | E100: =D100-$D$97 -> 0.0070601852 | F100: 89
A101: 4 | B101: Felix Seiersbøll | C101: Kolding OK | D101: 0.029930556 | E101: =D101-$D$97 -> 0.0094444444 | F101: 86
A102: 5 | B102: Malthe Emil Petersen | C102: OK SNAB | D102: 0.03412037 | E102: =D102-$D$97 -> 0.013634259 | F102: UFK
A103: 6 | B103: Christian Rohde | C103: OK FROS | D103: 0.034212963 | E103: =D103-$D$97 -> 0.013726852 | F103: 80
A104: 7 | B104: Storm Tofterup | C104: OK Melfar | D104: 0.039895833 | E104: =D104-$D$97 -> 0.019409722 | F104: 72
A107: 􏰢􏰐􏰟 􏰣􏰤􏰘􏰁􏰙
A108: Mini D | B108: 8/8
A109: Placering | B109: Navn | C109: Klub | D109: Tid | E109: Efter | F109: Point
A110: 1 | B110: Karla Blicher | C110: OK Melfar | D110: 0.022951389 | F110: 100
A111: 2 | B111: Frida Seiersbøll | C111: Kolding OK | D111: 0.029155093 | E111: =D111-$D$110 -> 0.0062037037 | F111: 91
A112: 3 | B112: Patricia Biel | C112: Kolding OK | D112: 0.029502315 | E112: =D112-$D$110 -> 0.0065509259 | F112: 90
A113: 4 | B113: Bodil Nymann | C113: Kolding OK | D113: 0.030046296 | E113: =D113-$D$110 -> 0.0070949074 | F113: 89
A114: 5 | B114: Sofie Rohde Jørgensen | C114: OK FROS | D114: 0.034166667 | E114: =D114-$D$110 -> 0.011215278 | F114: 83
A115: 6 | B115: Vilma Tofterup | C115: OK Melfar | D115: 0.036284722 | E115: =D115-$D$110 -> 0.013333333 | F115: 80
A116: 7 | B116: Annelise Uhlemann | C116: Kolding OK | D116: 0.057673611 | E116: =D116-$D$110 -> 0.034722222 | F116: 50
A117: 􏰷􏰟􏰬􏰸􏰁􏰘 | B117: Alma Marie Hovgaard | C117: OK SNAB | D117: Udgået
A119: 􏰢􏰐􏰟 􏰣􏰤􏰘􏰁􏰙
A121: 􏰲􏰈􏰋􏰰􏰇
A122: 􏰲􏰈􏰋􏰊􏰲 􏰯􏰆􏰋􏰇􏰊 􏰇􏰋􏰆􏰰􏰋􏰊􏰰 􏰯􏰊􏰋􏰇􏰅 􏰇􏰋􏰆􏰌􏰋􏰲􏰇 􏰯􏰡􏰋􏰅􏰆 􏰇􏰋􏰇􏰆􏰋􏰆􏰲 􏰯􏰇􏰆􏰋􏰰􏰊 􏰇􏰋􏰅􏰰􏰋􏰰􏰰 􏰯􏰅􏰊􏰋􏰆􏰅 􏰇􏰋􏰅􏰊􏰋􏰲􏰇 􏰯􏰅􏰲􏰋􏰅􏰆 􏰪􏰁􏰶􏰗􏰨􏰗􏰐􏰞
...

Sheet Haraldskær 23_11_2019
A1: Resultater Vintercup Haraldskær 23/11-2019
A3: Maxi 1 H | B3: 10/10
A4: Placering | B4: Navn | C4: Klub | D4: Tid | E4: Efter | F4: Point
A5: 1 | B5: Kristian Blok | C5: OK Snab | D5: 52:15 (1) | E5: +00:00 | F5: 100
A6: 2 | B6: Thomas Blok | C6: OK Snab | D6: 53:44 (2) | E6: +01:29 | F6: 98
A7: 3 | B7: Henrik Uhlemann | C7: Kolding OK | D7: 55:50 (3) | E7: +03:35 | F7: 96
A8: 4 | B8: Jesper Fenger Grøn | C8: OK Snab | D8: 56:49 (4) | E8: +04:34 | F8: 95
A9: 5 | B9: Stefan Keller | C9: Horsens OK | D9: 58:51 (5) | E9: +06:36 | F9: 93
A10: 6 | B10: Jens Liengård | C10: OK Snab | D10: 62:29 (7) | E10: +10:14 | F10: 89
A11: 7 | B11: Jesper Madsen | C11: OK Melfar | D11: 70:27 (8) | E11: +18:12 | F11: 81
A12: 8 | B12: Uffe Villumsen | C12: OK Snab | D12: 70:51 (9) | E12: +18:36 | F12: 81
A13: 9 | B13: Martin Ringive | C13: OK Gorm | D13: 84:36 (11) | E13: +32:21 | F13: 67
A14: 10 | B14: Kent Carøe | C14: OK Snab | D14: 106:50 (12) | E14: +54:35 | F14: 45
A18: Maxi 1 D | B18: 2/2
A19: Placering | B19: Navn | C19: Klub | D19: Tid | E19: Efter | F19: Point
A20: 1 | B20: Ulrika Örnhagen Jørgensen | C20: OK Snab | D20: 0.041435185 | E20: 0 | F20: 100
A21: 2 | B21: Karina Skouenborg | C21: OK Snab | D21: 0.051284722 | E21: =D21-D20 -> 0.009849537 | F21: 85
A25: Maxi 2 H | B25: 18/18
A26: Placering | B26: Navn | C26: Klub | D26: Tid | E26: Efter | F26: Point
A27: 1 | B27: Lars Eeg Højholt | C27: KOK | D27: 51:58 (1) | E27: +00:00 | F27: 100
A28: 2 | B28: Brian Knudsen | C28: OK Snab | D28: 53:06 (2) | E28: +01:08 | F28: 98
A29: 3 | B29: Uffe Sudergaard | C29: OK Melfar | D29: 54:12 (3) | E29: +02:14 | F29: 97
A30: 4 | B30: Magnus Fannar Madsen | C30: OK Melfar | D30: 55:01 (4) | E30: +03:03 | F30: 96
A31: 5 | B31: Jacob Bang | C31: OK Gorm | D31: 56:53 (5) | E31: +04:55 | F31: 95
A32: 6 | B32: Jonas Bo Kirk Egdal | C32: OK Melfar | D32: 57:46 (6) | E32: +05:48 | F32: 94
A33: 7 | B33: Sven Erik Jakobsen | C33: OK Gorm | D33: 58:44 (7) | E33: +06:46 | F33: 93
A34: 8 | B34: Per Eg Pedersen | C34: Kolding OK | D34: 59:11 (8) | E34: +07:13 | F34: 92
A35: 9 | B35: Bo Mønster Jørgensen | C35: OK FROS | D35: 59:36 (9) | E35: +07:38 | F35: 92
A36: 10 | B36: Steen Schelle Jensen | C36: OK Snab | D36: 63:04 (10) | E36: +11:06 | F36: 88
A37: 11 | B37: Peter Føns Knudsen | C37: OK Gorm | D37: 67:02 (11) | E37: +15:04 | F37: 84
A38: 12 | B38: Henrik Holm | C38: OK Gorm | D38: 68:49 (12) | E38: +16:51 | F38: 83
... A41: 15 | B41: Villy Kjeldsen | C41: OK Snab | D41: 105:00 (17) | E41: +53:02 | F41: 46
A42: - | B42: Niels Nygaard Jensen | C42: OK Snab | D42: utgått
A43: - | B43: Henning Schou | C43: OK Snab | D43: felst.
A44: - | B44: Flemming D. Andersen | C44: OK Gorm | D44: felst.
A49: Maxi 2 D | B49: 3/3
A50: Placering | B50: Navn | C50: Klub | D50: Tid | E50: Efter | F50: Point
A51: 1 | B51: Elise Utzen Keller | C51: Horsens OK | D51: 0.056064815 | E51: 0 | F51: 100
A52: 2 | B52: Helle Schou | C52: OK Snab | D52: 0.063622685 | E52: =D52-D51 -> 0.0075578704 | F52: 89
A53: - | B53: Inger Skibbild Bønding | C53: OK Gorm | D53: felst.
A57: Maxi 3 H | B57: 10/10
A58: Placering | B58: Navn | C58: Klub | D58: Tid | E58: Efter | F58: Point
A59: 1 | B59: Poul Christensen | C59: OK Snab | D59: 0.02962963 | E59: 0 | F59: 100
A60: 2 | B60: Jack Skrydstrup | C60: KOK | D60: 0.033078704 | E60: =D60-$D$59 -> 0.0034490741 | F60: 95
A61: 3 | B61: Christian B. Hansen | C61: Kolding OK | D61: 0.034039352 | E61: =D61-$D$59 -> 0.0044097222 | F61: 93
A62: 4 | B62: Bjørn Carlsen | C62: OK Snab | D62: 0.036990741 | E62: =D62-$D$59 -> 0.0073611111 | F62: 89
A63: 5 | B63: Henrik Hauge Thomsen | C63: OK Snab | D63: 0.040185185 | E63: =D63-$D$59 -> 0.010555556 | F63: 84
A64: 6 | B64: Bent Nielsen | C64: OK Gorm | D64: 0.041342593 | E64: =D64-$D$59 -> 0.011712963 | F64: 83
A65: 7 | B65: Stig Hansen | C65: OK Melfar | D65: 0.04150463 | E65: =D65-$D$59 -> 0.011875 | F65: 82
A66: 8 | B66: Niels J. Møller Hansen | C66: KOK | D66: 0.051030093 | E66: =D66-$D$59 -> 0.021400463 | F66: 69
A67: - | B67: Bent Jacobsen | C67: KOK | D67: felst.
A68: - | B68: Niels Erik Uhlemann | C68: KOK | D68: felst.
A72: Maxi 3 D | B72: 5/5
A73: Placering | B73: Navn | C73: Klub | D73: Tid | E73: Efter | F73: Point
A74: 1 | B74: Lone Knudsen | C74: OK Snab | D74: 41:56 (1) | E74: +00:00 | F74: 100
A75: 2 | B75: Naja Knudsen | C75: OK Snab | D75: 48:10 (4) | E75: +06:14 | F75: 93
A76: 3 | B76: Annett Lassen | C76: OK Gorm | D76: 76:29 (11) | E76: +34:33 | F76: 65
A77: 4 | B77: Merete Larsen | C77: OK Gorm | D77: 91:02 (12) | E77: +49:06 | F77: 50
A78: - | B78: Asta Terkelsen | C78: OK Gorm | D78: felst.
A82: Midi H | B82: 6/6
A83: Placering | B83: Navn | C83: Klub | D83: Tid | E83: Efter | F83: Point
A84: 1 | B84: Axel Örnhagen Jørgensen | C84: OK Snab | D84: 35:15 (1) | E84: +00:00 | F84: 100
A85: 2 | B85: Rasmus Edvardsen | C85: OK Snab | D85: 41:26 (2) | E85: +06:11 | F85: 93
A86: 3 | B86: Peter Sebastian Petersen | C86: OK Snab | D86: 44:01 (3) | E86: +08:46 | F86: 91
A87: 4 | B87: Thomas Birkelund | C87: OK Snab | D87: 53:22 (4) | E87: +18:07 | F87: 81
A88: 5 | B88: Hans-Christian Ross-Hansen | C88: OK Gorm | D88: 55:04 (5) | E88: +19:49 | F88: 80
A89: - | B89: Jørn Thomsen | C89: KOK | D89: felst.
A93: Midi D | B93: 6/6
A94: Placering | B94: Navn | C94: Klub | D94: Tid | E94: Efter | F94: Point
A95: 1 | B95: Lea Gade | C95: OK Snab | D95: 0.04306713 | E95: 0 | F95: 100
A96: 2 | B96: Helle Pedersen | C96: OK Snab | D96: 0.047708333 | E96: =D96-$D$95 -> 0.0046412037 | F96: 93
A97: 3 | B97: Johanna K. Madsen | C97: OK Melfar | D97: 0.059895833 | E97: =D97-$D$95 -> 0.016828704 | F97: 75
A98: 4 | B98: Marta Birkelund | C98: OK Snab | D98: 0.07037037 | E98: =D98-$D$95 -> 0.027303241 | F98: 60
A99: 5 | B99: Lykke Birkelund | C99: OK Snab | D99: 0.070393519 | E99: =D99-$D$95 -> 0.027326389 | F99: 60
A100: 6 | B100: Anne Sofie Birkelund | C100: OK Snab | D100: 0.071041667 | E100: =D100-$D$95 -> 0.027974537 | F100: 59
A104: Mini Mix +12 | B104: 6/6 | C104: >11år
A105: Placering | B105: Navn | C105: Klub | D105: Tid | E105: Efter | F105: Point
A106: 1 | B106: Malthe Emil Petersen | C106: OK Snab | D106: 32:58 (1) | E106: +00:00 | F106: UFK
A107: 2 | B107: Asger Kjærsgaard Jensen | C107: OK Snab | D107: 35:38 (2) | E107: +02:40 | F107: UFK
A108: 3 | B108: Lene Edvardsen | C108: OK Snab | D108: 36:46 (3) | E108: +03:48 | F108: UFK
A109: 4 | B109: Lilli Hansen | C109: OK Gorm | D109: 40:24 (4) | E109: +07:26 | F109: UFK
A110: 5 | B110: Anja Skaarup | C110: KOK | D110: 44:35 (5) | E110: +11:37 | F110: UFK
A111: 6 | B111: Louise Kjær | C111: OK Snab | D111: 45:42 (6) | E111: +12:44 | F111: UFK
A115: Mini H | B115: 3/3 | C115: <12år
A116: Placering | B116: Navn | C116: Klub | D116: Tid | E116: Efter | F116: Point
A117: 1 | B117: Christian Rohde Jørgensen | C117: OK FROS | D117: 41:21 (4) | E117: 0 | F117: 100
A118: - | B118: Emil Skouenborg | C118: OK Snab | D118: felst.
A119: - | B119: Marcus gade | C119: OK Snab | D119: felst.
A123: Mini D | B123: 8/8 | C123: <12år
A124: Placering | B124: Navn | C124: Klub | D124: Tid | E124: Efter | F124: Point
A125: 1 | B125: Karla Blicher | C125: OK Melfar | D125: 31:07 (1) | E125: +00:00 | F125: 100
A126: 2 | B126: Sofie Henningsen | C126: OK Snab | D126: 34:12 (2) | E126: +03:05 | F126: 96
A127: 3 | B127: Sofie Rohde Jørgensen | C127: OK FROS | D127: 41:17 (3) | E127: +10:10 | F127: 89
A128: 4 | B128: Maja Henningsen | C128: OK Snab | D128: 41:31 (5) | E128: +10:24 | F128: 89
A129: 5 | B129: Ida Kjær Nordstrøm | C129: OK Snab | D129: 45:47 (6) | E129: +14:40 | F129: 85
A130: - | B130: Alma Hovgaard | C130: OK Snab | D130: felst.
A131: - | B131: Maja Skouenborg | C131: OK Snab | D131: felst.
A132: - | B132: Louise Gjørup | C132: OK Snab | D132: felst.

Sheet Hastrup 4_1_2020

Sheet Damgård 22_2_2020

Sheet Jelling 7_3_2020

Sheet Total
A1: Stillingen Vintercup 2019-2020
D2: 1. afd. | E2: 2. afd. | F2: 3. afd. | G2: 4. afd. | H2: 5. afd. | I2: 6. afd.
D3: Sdr. Stenderup | E3: Kongebroskoven | F3: Haraldskær | G3: Hastrup | H3: Damgård | I3: Jelling
D4: 43771 | E4: 43778 | F4: 43792 | G4: 43834 | H4: 43883 | I4: 43897 | J4: Total
A6: Maxi 1 H | B6: Navn | C6: Klub
A7: Placering
A8: 1 | B8: ='Sdr Stenderup 2_11_2019'!B5 -> Kristian Blok | C8: ='Sdr Stenderup 2_11_2019'!C5 -> OK SNAB | D8: ='Sdr Stenderup 2_11_2019'!F5 -> 100 | E8: ='Kongebroskoven 09_11_2019'!F7 -> 96 | F8: ='Haraldskær 23_11_2019'!F5 -> 100 | J8: =SUM(D8:I8) -> 296
A9: 2 | B9: ='Sdr Stenderup 2_11_2019'!B7 -> Thomas Blok | C9: ='Sdr Stenderup 2_11_2019'!C7 -> OK SNAB | D9: ='Sdr Stenderup 2_11_2019'!F7 -> 95 | E9: ='Kongebroskoven 09_11_2019'!F5 -> 100 | F9: ='Haraldskær 23_11_2019'!F6 -> 98 | J9: =SUM(D9:I9) -> 293
A10: 3 | B10: ='Sdr Stenderup 2_11_2019'!B6 -> Flemming Jørgensen | C10: ='Sdr Stenderup 2_11_2019'!C6 -> OK SNAB | D10: ='Sdr Stenderup 2_11_2019'!F6 -> 97 | E10: ='Kongebroskoven 09_11_2019'!F6 -> 97 | J10: =SUM(D10:I10) -> 194
A11: 4 | B11: ='Sdr Stenderup 2_11_2019'!B10 -> Jens Liengaard | C11: ='Sdr Stenderup 2_11_2019'!C10 -> OK SNAB | D11: ='Sdr Stenderup 2_11_2019'!F10 -> 0 | E11: ='Kongebroskoven 09_11_2019'!F10 -> 81 | F11: ='Haraldskær 23_11_2019'!F10 -> 89 | J11: =SUM(D11:I11) -> 170
A12: 5 | B12: ='Sdr Stenderup 2_11_2019'!B11 -> Uffe Villumsen | C12: ='Sdr Stenderup 2_11_2019'!C11 -> OK SNAB | D12: ='Sdr Stenderup 2_11_2019'!F11 -> 0 | E12: ='Kongebroskoven 09_11_2019'!F11 -> 75 | F12: ='Haraldskær 23_11_2019'!F12 -> 81 | J12: =SUM(D12:I12) -> 156
A13: 6 | B13: ='Sdr Stenderup 2_11_2019'!B9 -> Jesper Madsen | C13: ='Sdr Stenderup 2_11_2019'!C9 -> OK Melfar | D13: ='Sdr Stenderup 2_11_2019'!F9 -> 47 | F13: ='Haraldskær 23_11_2019'!F11 -> 81 | J13: =SUM(D13:I13) -> 128
A14: 7 | B14: ='Kongebroskoven 09_11_2019'!B14 -> Martin Ringive | C14: ='Kongebroskoven 09_11_2019'!C14 -> OK GORM | E14: ='Kongebroskoven 09_11_2019'!F14 -> 56 | F14: ='Haraldskær 23_11_2019'!F13 -> 67 | J14: =SUM(D14:I14) -> 123
A15: 8 | B15: ='Haraldskær 23_11_2019'!B7 -> Henrik Uhlemann | C15: ='Haraldskær 23_11_2019'!C7 -> Kolding OK | F15: ='Haraldskær 23_11_2019'!F7 -> 96 | J15: =SUM(D15:I15) -> 96
A16: 9 | B16: ='Haraldskær 23_11_2019'!B8 -> Jesper Fenger Grøn | C16: ='Haraldskær 23_11_2019'!C8 -> OK Snab | F16: ='Haraldskær 23_11_2019'!F8 -> 95 | J16: =SUM(D16:I16) -> 95
A17: 10 | B17: ='Haraldskær 23_11_2019'!B9 -> Stefan Keller | C17: ='Haraldskær 23_11_2019'!C9 -> Horsens OK | F17: ='Haraldskær 23_11_2019'!F9 -> 93 | J17: =SUM(D17:I17) -> 93
A18: 11 | B18: ='Kongebroskoven 09_11_2019'!B8 -> Michael Thygesen | C18: ='Kongebroskoven 09_11_2019'!C8 -> OK SNAB | E18: ='Kongebroskoven 09_11_2019'!F8 -> 89 | J18: =SUM(D18:I18) -> 89
A19: 12 | B19: ='Kongebroskoven 09_11_2019'!B9 -> Peter D. Fransen | C19: ='Kongebroskoven 09_11_2019'!C9 -> Kolding OK | E19: ='Kongebroskoven 09_11_2019'!F9 -> 87 | J19: =SUM(D19:I19) -> 87
A20: 13 | B20: ='Kongebroskoven 09_11_2019'!B12 -> Jens Laursen | C20: ='Kongebroskoven 09_11_2019'!C12 -> OK GORM | E20: ='Kongebroskoven 09_11_2019'!F12 -> 72 | J20: =SUM(D20:I20) -> 72
A21: 14 | B21: ='Kongebroskoven 09_11_2019'!B13 -> Sten Jørgensen | C21: ='Kongebroskoven 09_11_2019'!C13 -> OK Melfar | E21: ='Kongebroskoven 09_11_2019'!F13 -> 62 | J21: =SUM(D21:I21) -> 62
A22: 15 | B22: ='Sdr Stenderup 2_11_2019'!B8 -> Esben Blicher | C22: ='Sdr Stenderup 2_11_2019'!C8 -> OK Melfar | D22: ='Sdr Stenderup 2_11_2019'!F8 -> 54 | J22: =SUM(D22:I22) -> 54
A23: 16 | B23: ='Haraldskær 23_11_2019'!B14 -> Kent Carøe | C23: ='Haraldskær 23_11_2019'!C14 -> OK Snab | F23: ='Haraldskær 23_11_2019'!F14 -> 45 | J23: =SUM(D23:I23) -> 45
B24: ='Kongebroskoven 09_11_2019'!B15 -> Anders Thygesen | C24: ='Kongebroskoven 09_11_2019'!C15 -> Kolding OK | E24: ='Kongebroskoven 09_11_2019'!F15 -> 0 | J24: =SUM(D24:I24) -> 0
A28: Maxi 1 D
A29: Placering
A30: 1 | B30: ='Kongebroskoven 09_11_2019'!B21 -> Ulrika Ørnhagen Jørgensen | C30: ='Kongebroskoven 09_11_2019'!C21 -> OK SNAB | E30: ='Kongebroskoven 09_11_2019'!F21 -> 100 | F30: ='Haraldskær 23_11_2019'!F20 -> 100 | J30: =SUM(D30:I30) -> 200
A31: 2 | B31: ='Sdr Stenderup 2_11_2019'!B17 -> Rikke Binder | C31: ='Sdr Stenderup 2_11_2019'!C17 -> OK GORM | D31: ='Sdr Stenderup 2_11_2019'!F17 -> 100 | J31: =SUM(D31:I31) -> 100
A32: 3 | B32: ='Haraldskær 23_11_2019'!B21 -> Karina Skouenborg | C32: ='Haraldskær 23_11_2019'!C21 -> OK Snab | F32: ='Haraldskær 23_11_2019'!F21 -> 85 | J32: =SUM(D32:I32) -> 85
A36: Maxi 2 H
A37: Placering
A38: 1 | B38: ='Sdr Stenderup 2_11_2019'!B23 -> Lars Højholt | C38: ='Sdr Stenderup 2_11_2019'!C23 -> Kolding OK | D38: ='Sdr Stenderup 2_11_2019'!F23 -> 100 | E38: ='Kongebroskoven 09_11_2019'!F33 -> 85 | F38: ='Haraldskær 23_11_2019'!F27 -> 100 | J38: =SUM(D38:I38) -> 285
A39: 2 | B39: ='Sdr Stenderup 2_11_2019'!B26 -> Brian Knudsen | C39: ='Sdr Stenderup 2_11_2019'!C26 -> OK SNAB | D39: ='Sdr Stenderup 2_11_2019'!F26 -> 95 | E39: ='Kongebroskoven 09_11_2019'!F34 -> 85 | F39: ='Haraldskær 23_11_2019'!F28 -> 98 | J39: =SUM(D39:I39) -> 278
A40: 3 | B40: ='Sdr Stenderup 2_11_2019'!B24 -> Bo Mønster Jørgensen | C40: ='Sdr Stenderup 2_11_2019'!C24 -> OK FROS | D40: ='Sdr Stenderup 2_11_2019'!F24 -> 99 | E40: ='Kongebroskoven 09_11_2019'!F32 -> 86 | F40: ='Haraldskær 23_11_2019'!F35 -> 92 | J40: =SUM(D40:I40) -> 277
A41: 4 | B41: ='Haraldskær 23_11_2019'!B32 -> Jonas Bo Kirk Egdal | C41: ='Sdr Stenderup 2_11_2019'!C25 -> OK Melfar | D41: ='Sdr Stenderup 2_11_2019'!F25 -> 96 | E41: ='Kongebroskoven 09_11_2019'!F35 -> 85 | F41: ='Haraldskær 23_11_2019'!F32 -> 94 | J41: =SUM(D41:I41) -> 275
A42: 5 | B42: ='Sdr Stenderup 2_11_2019'!B32 -> Torben Hansen | C42: ='Sdr Stenderup 2_11_2019'!C32 -> OK FROS | D42: ='Sdr Stenderup 2_11_2019'!F32 -> 73 | E42: ='Kongebroskoven 09_11_2019'!F40 -> 75 | F42: ='Haraldskær 23_11_2019'!F39 -> 79 | J42: =SUM(D42:I42) -> 227
A43: 6 | B43: ='Kongebroskoven 09_11_2019'!B27 -> Magnus Fannar Madsen | C43: ='Kongebroskoven 09_11_2019'!C27 -> OK Melfar | E43: ='Kongebroskoven 09_11_2019'!F27 -> 100 | F43: ='Haraldskær 23_11_2019'!F30 -> 96 | J43: =SUM(D43:I43) -> 196
A44: 7 | B44: ='Kongebroskoven 09_11_2019'!B30 -> Uffe Sudergaard | C44: ='Kongebroskoven 09_11_2019'!C30 -> OK Melfar | E44: ='Kongebroskoven 09_11_2019'!F30 -> 94 | F44: ='Haraldskær 23_11_2019'!F29 -> 97 | J44: =SUM(D44:I44) -> 191
A45: 8 | B45: ='Sdr Stenderup 2_11_2019'!B30 -> Sven Erik Jakobsen | C45: ='Sdr Stenderup 2_11_2019'!C30 -> OK GORM | D45: ='Sdr Stenderup 2_11_2019'!F30 -> 80 | F45: ='Haraldskær 23_11_2019'!F33 -> 93 | J45: =SUM(D45:I45) -> 173
A46: 9 | B46: ='Haraldskær 23_11_2019'!B40 -> Niels Møller Petersen | C46: ='Sdr Stenderup 2_11_2019'!C29 -> OK FROS | D46: ='Sdr Stenderup 2_11_2019'!F29 -> 86 | E46: ='Kongebroskoven 09_11_2019'!F42 -> 0 | F46: ='Haraldskær 23_11_2019'!F40 -> 78 | J46: =SUM(D46:I46) -> 164
A47: 10 | B47: ='Kongebroskoven 09_11_2019'!B28 -> August Gabs | C47: ='Kongebroskoven 09_11_2019'!C28 -> OK Melfar | E47: ='Kongebroskoven 09_11_2019'!F28 -> 99 | J47: =SUM(D47:I47) -> 99
A48: 11 | B48: ='Kongebroskoven 09_11_2019'!B29 -> Peter Pihlkjær Nymann | C48: ='Kongebroskoven 09_11_2019'!C29 -> Kolding OK | E48: ='Kongebroskoven 09_11_2019'!F29 -> 97 | J48: =SUM(D48:I48) -> 97
A49: 12 | B49: ='Haraldskær 23_11_2019'!B31 -> Jacob Bang | C49: ='Haraldskær 23_11_2019'!C31 -> OK Gorm | F49: ='Haraldskær 23_11_2019'!F31 -> 95 | J49: =SUM(D49:I49) -> 95
A50: 13 | B50: ='Sdr Stenderup 2_11_2019'!B27 -> Sven Madsen | C50: ='Sdr Stenderup 2_11_2019'!C27 -> OK FROS | D50: ='Sdr Stenderup 2_11_2019'!F27 -> 93 | J50: =SUM(D50:I50) -> 93
A51: 14 | B51: ='Kongebroskoven 09_11_2019'!B31 -> Thomas Sørensen | C51: ='Kongebroskoven 09_11_2019'!C31 -> OK Melfar | E51: ='Kongebroskoven 09_11_2019'!F31 -> 93 | J51: =SUM(D51:I51) -> 93
A52: 15 | B52: ='Haraldskær 23_11_2019'!B34 -> Per Eg Pedersen | C52: ='Haraldskær 23_11_2019'!C34 -> Kolding OK | F52: ='Haraldskær 23_11_2019'!F34 -> 92 | J52: =SUM(D52:I52) -> 92
A53: 16 | B53: ='Sdr Stenderup 2_11_2019'!B28 -> Henning Schou | C53: ='Sdr Stenderup 2_11_2019'!C28 -> OK SNAB | D53: ='Sdr Stenderup 2_11_2019'!F28 -> 90 | F53: ='Haraldskær 23_11_2019'!F43 -> 0 | J53: =SUM(D53:I53) -> 90
A54: 17 | B54: ='Haraldskær 23_11_2019'!B36 -> Steen Schelle Jensen | C54: ='Haraldskær 23_11_2019'!C36 -> OK Snab | F54: ='Haraldskær 23_11_2019'!F36 -> 88 | J54: =SUM(D54:I54) -> 88
A55: 18 | B55: ='Kongebroskoven 09_11_2019'!B36 -> Peter Gammeljord | C55: ='Kongebroskoven 09_11_2019'!C36 -> OK SNAB | E55: ='Kongebroskoven 09_11_2019'!F36 -> 84 | J55: =SUM(D55:I55) -> 84
A56: 19 | B56: ='Haraldskær 23_11_2019'!B37 -> Peter Føns Knudsen | C56: ='Haraldskær 23_11_2019'!C37 -> OK Gorm | F56: ='Haraldskær 23_11_2019'!F37 -> 84 | J56: =SUM(D56:I56) -> 84
A57: 20 | B57: ='Haraldskær 23_11_2019'!B38 -> Henrik Holm | C57: ='Haraldskær 23_11_2019'!C38 -> OK Gorm | F57: ='Haraldskær 23_11_2019'!F38 -> 83 | J57: =SUM(D57:I57) -> 83
A58: 21 | B58: ='Kongebroskoven 09_11_2019'!B37 -> Christian Ramus | C58: ='Kongebroskoven 09_11_2019'!C37 -> OK FROS | E58: ='Kongebroskoven 09_11_2019'!F37 -> 82 | J58: =SUM(D58:I58) -> 82
A59: 22 | B59: ='Kongebroskoven 09_11_2019'!B38 -> Lars Thaasti | C59: ='Kongebroskoven 09_11_2019'!C38 -> OK SNAB | E59: ='Kongebroskoven 09_11_2019'!F38 -> 80 | J59: =SUM(D59:I59) -> 80
A60: 23 | B60: ='Kongebroskoven 09_11_2019'!B39 -> Mandus Andresen | C60: ='Kongebroskoven 09_11_2019'!C39 -> Kolding OK | E60: ='Kongebroskoven 09_11_2019'!F39 -> 78 | J60: =SUM(D60:I60) -> 78
A61: 24 | B61: ='Sdr Stenderup 2_11_2019'!B31 -> Laurits Egdal | C61: ='Sdr Stenderup 2_11_2019'!C31 -> OK Melfar | D61: ='Sdr Stenderup 2_11_2019'!F31 -> 74 | J61: =SUM(D61:I61) -> 74
A62: 25 | B62: ='Haraldskær 23_11_2019'!B41 -> Villy Kjeldsen | C62: ='Haraldskær 23_11_2019'!C41 -> OK Snab | F62: ='Haraldskær 23_11_2019'!F41 -> 46 | J62: =SUM(D62:I62) -> 46
B63: ='Sdr Stenderup 2_11_2019'!B33 -> Sten Sig Andersen | C63: ='Sdr Stenderup 2_11_2019'!C33 -> Kolding OK | D63: ='Sdr Stenderup 2_11_2019'!F33 -> 0 | E63: ='Kongebroskoven 09_11_2019'!F43 -> 0 | J63: =SUM(D63:I63) -> 0
B64: ='Kongebroskoven 09_11_2019'!B41 -> Flemming D. Andersen | C64: ='Kongebroskoven 09_11_2019'!C41 -> OK GORM | E64: ='Kongebroskoven 09_11_2019'!F41 -> 0 | F64: ='Haraldskær 23_11_2019'!F44 -> 0 | J64: =SUM(D64:I64) -> 0
B65: ='Haraldskær 23_11_2019'!B42 -> Niels Nygaard Jensen | C65: ='Haraldskær 23_11_2019'!C42 -> OK Snab | F65: ='Haraldskær 23_11_2019'!F42 -> 0 | J65: =SUM(D65:I65) -> 0
A69: Maxi 2 D
A70: Placering
A71: 1 | B71: ='Sdr Stenderup 2_11_2019'!B39 -> Susanne Højholt | C71: ='Sdr Stenderup 2_11_2019'!C39 -> Kolding OK | D71: ='Sdr Stenderup 2_11_2019'!F39 -> 100 | E71: ='Kongebroskoven 09_11_2019'!F49 -> 100 | J71: =SUM(D71:I71) -> 200
A72: 2 | B72: ='Sdr Stenderup 2_11_2019'!B40 -> Helle Schou | C72: ='Sdr Stenderup 2_11_2019'!C40 -> OK SNAB | D72: ='Sdr Stenderup 2_11_2019'!F40 -> 50 | F72: ='Haraldskær 23_11_2019'!F52 -> 89 | J72: =SUM(D72:I72) -> 139
A73: 3 | B73: ='Haraldskær 23_11_2019'!B51 -> Elise Utzen Keller | C73: ='Haraldskær 23_11_2019'!C51 -> Horsens OK | F73: ='Haraldskær 23_11_2019'!F51 -> 100 | J73: =SUM(D73:I73) -> 100
A74: 4 | B74: ='Kongebroskoven 09_11_2019'!B50 -> Nicoline Lorenzen | C74: ='Kongebroskoven 09_11_2019'!C50 -> Kolding OK | E74: ='Kongebroskoven 09_11_2019'!F50 -> 99 | J74: =SUM(D74:I74) -> 99
A75: 5 | B75: ='Kongebroskoven 09_11_2019'!B51 -> Dorthe Rosenvinge | C75: ='Kongebroskoven 09_11_2019'!C51 -> OK SNAB | E75: ='Kongebroskoven 09_11_2019'!F51 -> 82 | J75: =SUM(D75:I75) -> 82
A76: 6 | B76: ='Kongebroskoven 09_11_2019'!B52 -> Irene Gammeljord | C76: ='Kongebroskoven 09_11_2019'!C52 -> OK SNAB | E76: ='Kongebroskoven 09_11_2019'!F52 -> 76 | J76: =SUM(D76:I76) -> 76
A77: 7 | B77: ='Sdr Stenderup 2_11_2019'!B41 -> Hanne Madsen | C77: ='Sdr Stenderup 2_11_2019'!C41 -> Kolding OK | D77: ='Sdr Stenderup 2_11_2019'!F41 -> 49 | J77: =SUM(D77:I77) -> 49
B78: ='Sdr Stenderup 2_11_2019'!B42 -> Christa Blach | C78: ='Sdr Stenderup 2_11_2019'!C42 -> Kolding OK | D78: ='Sdr Stenderup 2_11_2019'!F42 -> 0 | J78: =SUM(D78:I78) -> 0
B79: ='Kongebroskoven 09_11_2019'!B53 -> Anne Sofie Motzkus | C79: ='Kongebroskoven 09_11_2019'!C53 -> Kolding OK | E79: ='Kongebroskoven 09_11_2019'!F53 -> 0 | J79: =SUM(D79:I79) -> 0
B80: ='Haraldskær 23_11_2019'!B53 -> Inger Skibbild Bønding | C80: ='Haraldskær 23_11_2019'!C53 -> OK Gorm | F80: ='Haraldskær 23_11_2019'!F53 -> 0 | J80: =SUM(D80:I80) -> 0
A84: Maxi 3 H
A85: Placering
A86: 1 | B86: ='Sdr Stenderup 2_11_2019'!B49 -> Jack Skrydstrup | C86: ='Sdr Stenderup 2_11_2019'!C49 -> Kolding OK | D86: ='Sdr Stenderup 2_11_2019'!F49 -> 89 | E86: ='Kongebroskoven 09_11_2019'!F58 -> 100 | F86: ='Haraldskær 23_11_2019'!F60 -> 95 | J86: =SUM(D86:I86) -> 284
A87: 2 | B87: ='Sdr Stenderup 2_11_2019'!B48 -> Christian B. Hansen | C87: ='Sdr Stenderup 2_11_2019'!C48 -> Kolding OK | D87: ='Sdr Stenderup 2_11_2019'!F48 -> 100 | E87: ='Kongebroskoven 09_11_2019'!F61 -> 85 | F87: ='Haraldskær 23_11_2019'!F61 -> 93 | J87: =SUM(D87:I87) -> 278
A88: 3 | B88: ='Sdr Stenderup 2_11_2019'!B51 -> Niels J. M. Hansen | C88: ='Sdr Stenderup 2_11_2019'!C51 -> Kolding OK | D88: ='Sdr Stenderup 2_11_2019'!F51 -> 74 | E88: ='Kongebroskoven 09_11_2019'!F62 -> 68 | F88: ='Haraldskær 23_11_2019'!F66 -> 69 | J88: =SUM(D88:I88) -> 211
A89: 4 | B89: ='Kongebroskoven 09_11_2019'!B59 -> Poul A. Christensen | C89: ='Kongebroskoven 09_11_2019'!C59 -> OK SNAB | E89: ='Kongebroskoven 09_11_2019'!F59 -> 97 | F89: ='Haraldskær 23_11_2019'!F59 -> 100 | J89: =SUM(D89:I89) -> 197
A90: 5 | B90: ='Haraldskær 23_11_2019'!B62 -> Bjørn Carlsen | C90: ='Haraldskær 23_11_2019'!C62 -> OK Snab | F90: ='Haraldskær 23_11_2019'!F62 -> 89 | J90: =SUM(D90:I90) -> 89
A91: 6 | B91: ='Kongebroskoven 09_11_2019'!B60 -> Stig Hansen | C91: ='Kongebroskoven 09_11_2019'!C60 -> OK Melfar | E91: ='Kongebroskoven 09_11_2019'!F60 -> 87 | J91: =SUM(D91:I91) -> 87
A92: 7 | B92: ='Haraldskær 23_11_2019'!B63 -> Henrik Hauge Thomsen | C92: ='Haraldskær 23_11_2019'!C63 -> OK Snab | F92: ='Haraldskær 23_11_2019'!F63 -> 84 | J92: =SUM(D92:I92) -> 84
A93: 8 | B93: ='Haraldskær 23_11_2019'!B64 -> Bent Nielsen | C93: ='Haraldskær 23_11_2019'!C64 -> OK Gorm | F93: ='Haraldskær 23_11_2019'!F64 -> 83 | J93: =SUM(D93:I93) -> 83
A94: 9 | B94: ='Sdr Stenderup 2_11_2019'!B54 -> Stig Hansen | C94: ='Sdr Stenderup 2_11_2019'!C54 -> OK Melfar | D94: ='Sdr Stenderup 2_11_2019'!F54 -> 0 | F94: ='Haraldskær 23_11_2019'!F65 -> 82 | J94: =SUM(D94:I94) -> 82
A95: 10 | B95: ='Sdr Stenderup 2_11_2019'!B50 -> Ove Andersen | C95: ='Sdr Stenderup 2_11_2019'!C50 -> OK GORM | D95: ='Sdr Stenderup 2_11_2019'!F50 -> 75 | J95: =SUM(D95:I95) -> 75
A96: 11 | B96: ='Kongebroskoven 09_11_2019'!B63 -> Per Simonsen | C96: ='Kongebroskoven 09_11_2019'!C63 -> OK SNAB | E96: ='Kongebroskoven 09_11_2019'!F63 -> 60 | J96: =SUM(D96:I96) -> 60
B97: ='Sdr Stenderup 2_11_2019'!B52 -> Bent Jacobsen | C97: ='Sdr Stenderup 2_11_2019'!C52 -> Kolding OK | D97: ='Sdr Stenderup 2_11_2019'!F52 -> 0 | F97: ='Haraldskær 23_11_2019'!F67 -> 0 | J97: =SUM(D97:I97) -> 0
B98: ='Sdr Stenderup 2_11_2019'!B53 -> Jørgen Thomsen | C98: ='Sdr Stenderup 2_11_2019'!C53 -> Kolding OK | D98: ='Sdr Stenderup 2_11_2019'!F53 -> 0 | J98: =SUM(D98:I98) -> 0
B99: ='Haraldskær 23_11_2019'!B68 -> Niels Erik Uhlemann | C99: ='Haraldskær 23_11_2019'!C68 -> KOK | F99: ='Haraldskær 23_11_2019'!F68 -> 0 | J99: =SUM(D99:I99) -> 0
A103: Maxi 3 D
A104: Placering
A105: 1 | B105: ='Sdr Stenderup 2_11_2019'!B61 -> Lone Knudsen | C105: ='Sdr Stenderup 2_11_2019'!C61 -> OK SNAB | D105: ='Sdr Stenderup 2_11_2019'!F61 -> 96 | E105: ='Kongebroskoven 09_11_2019'!F69 -> 100 | F105: ='Haraldskær 23_11_2019'!F74 -> 100 | J105: =SUM(D105:I105) -> 296
A106: 2 | B106: ='Sdr Stenderup 2_11_2019'!B60 -> Annemette Aplanalp | C106: ='Sdr Stenderup 2_11_2019'!C60 -> Kolding OK | D106: ='Sdr Stenderup 2_11_2019'!F60 -> 100 | E106: ='Kongebroskoven 09_11_2019'!F70 -> 94 | J106: =SUM(D106:I106) -> 194
A107: 3 | B107: ='Haraldskær 23_11_2019'!B75 -> Naja Knudsen | C107: ='Haraldskær 23_11_2019'!C75 -> OK Snab | F107: ='Haraldskær 23_11_2019'!F75 -> 93 | J107: =SUM(D107:I107) -> 93
A108: 4 | B108: ='Sdr Stenderup 2_11_2019'!B62 -> Ida Hansen | C108: ='Sdr Stenderup 2_11_2019'!C62 -> Kolding OK | D108: ='Sdr Stenderup 2_11_2019'!F62 -> 91 | J108: =SUM(D108:I108) -> 91
A109: 5 | B109: ='Kongebroskoven 09_11_2019'!B71 -> Malene Kaysen Thomsen | C109: ='Kongebroskoven 09_11_2019'!C71 -> OK SNAB | E109: ='Kongebroskoven 09_11_2019'!F71 -> 87 | J109: =SUM(D109:I109) -> 87
A110: 6 | B110: ='Kongebroskoven 09_11_2019'!B72 -> Bente Ringive | C110: ='Kongebroskoven 09_11_2019'!C72 -> OK GORM | E110: ='Kongebroskoven 09_11_2019'!F72 -> 80 | J110: =SUM(D110:I110) -> 80
A111: 7 | B111: ='Kongebroskoven 09_11_2019'!B73 -> Anne Grethe Eriksen | C111: ='Kongebroskoven 09_11_2019'!C73 -> OK FROS | E111: ='Kongebroskoven 09_11_2019'!F73 -> 77 | J111: =SUM(D111:I111) -> 77
A112: 8 | B112: ='Haraldskær 23_11_2019'!B76 -> Annett Lassen | C112: ='Haraldskær 23_11_2019'!C76 -> OK Gorm | F112: ='Haraldskær 23_11_2019'!F76 -> 65 | J112: =SUM(D112:I112) -> 65
A113: 9 | B113: ='Haraldskær 23_11_2019'!B77 -> Merete Larsen | C113: ='Haraldskær 23_11_2019'!C77 -> OK Gorm | F113: ='Haraldskær 23_11_2019'!F77 -> 50 | J113: =SUM(D113:I113) -> 50
B114: ='Kongebroskoven 09_11_2019'!B74 -> Jette Lützow Nielsen | C114: ='Kongebroskoven 09_11_2019'!C74 -> Kolding OK | E114: ='Kongebroskoven 09_11_2019'!F74 -> 0 | J114: =SUM(D114:I114) -> 0
B115: ='Haraldskær 23_11_2019'!B78 -> Asta Terkelsen | C115: ='Haraldskær 23_11_2019'!C78 -> OK Gorm | F115: ='Haraldskær 23_11_2019'!F78 -> 0 | J115: =SUM(D115:I115) -> 0
A119: Midi H
...
